{"text_format":"1","workbook":"xlsx","n_sheets":6,"sheets":["Record Formatted","Avg Pivot","Count Pivot","Record Pivot","All Performances","Avg Formatted"],"not_rendered":{"charts":0,"images":0,"macros":1,"external_links":0,"defined_names":0,"comments":0,"pivot_tables":3},"unopened":[],"bounds":{"document_bytes":16777216,"sheet_cells":100000,"rows_first":2000,"rows_last":500,"rows_between":2000,"halvings":0,"cell_chars":16384,"cell_head_chars":4096},"cells_cut":0,"cells_raw":0,"read":"whole","date_system":"1900"}

{"sheet":"Record Formatted","index":0,"n_rows":46,"n_cols":25,"rows_kept":46,"cut":false,"hidden":false,"merged":[]}
["Fastest times ever recorded in each age-sex group and event. Differs from league records since outside and informals are included"]
["Computed from Record Pivot Table by applying Secs2string formatting macro"]
["Age/Sex","mar","100m","10k","10M","1500m","15k","1600r","200m","3200r","3k","400m","4x1manley","4x2manley","4x3manley","55m","5k","5M","800m","800r","8k","dmr","hmar","mile"]
["f05",{"$f":"secs2string('Record Pivot'!B5)","v":"0"},{"$f":"secs2string('Record Pivot'!C5)","v":"0"},{"$f":"secs2string('Record Pivot'!D5)","v":"0"},{"$f":"secs2string('Record Pivot'!E5)","v":"0"},{"$f":"secs2string('Record Pivot'!F5)","v":"0"},{"$f":"secs2string('Record Pivot'!G5)","v":"0"},{"$f":"secs2string('Record Pivot'!H5)","v":"0"},{"$f":"secs2string('Record Pivot'!I5)","v":"58.7"},{"$f":"secs2string('Record Pivot'!J5)","v":"0"},{"$f":"secs2string('Record Pivot'!K5)","v":"0"},{"$f":"secs2string('Record Pivot'!L5)","v":"0"},{"$f":"secs2string('Record Pivot'!M5)","v":"0"},{"$f":"secs2string('Record Pivot'!N5)","v":"13:10.1"},{"$f":"secs2string('Record Pivot'!O5)","v":"0"},{"$f":"secs2string('Record Pivot'!P5)","v":"0"},{"$f":"secs2string('Record Pivot'!Q5)","v":"0"},{"$f":"secs2string('Record Pivot'!R5)","v":"0"},{"$f":"secs2string('Record Pivot'!S5)","v":"0"},{"$f":"secs2string('Record Pivot'!T5)","v":"0"},{"$f":"secs2string('Record Pivot'!U5)","v":"0"},{"$f":"secs2string('Record Pivot'!V5)","v":"0"},{"$f":"secs2string('Record Pivot'!W5)","v":"0"},{"$f":"secs2string('Record Pivot'!X5)","v":"0"},{"$f":"secs2string('Record Pivot'!Y5)","v":"58.7"}]
["f06",{"$f":"secs2string('Record Pivot'!B6)","v":"0"},{"$f":"secs2string('Record Pivot'!C6)","v":"24.1"},{"$f":"secs2string('Record Pivot'!D6)","v":"0"},{"$f":"secs2string('Record Pivot'!E6)","v":"0"},{"$f":"secs2string('Record Pivot'!F6)","v":"0"},{"$f":"secs2string('Record Pivot'!G6)","v":"0"},{"$f":"secs2string('Record Pivot'!H6)","v":"0"},{"$f":"secs2string('Record Pivot'!I6)","v":"57.7"},{"$f":"secs2string('Record Pivot'!J6)","v":"0"},{"$f":"secs2string('Record Pivot'!K6)","v":"0"},{"$f":"secs2string('Record Pivot'!L6)","v":"0"},{"$f":"secs2string('Record Pivot'!M6)","v":"0"},{"$f":"secs2string('Record Pivot'!N6)","v":"0"},{"$f":"secs2string('Record Pivot'!O6)","v":"0"},{"$f":"secs2string('Record Pivot'!P6)","v":"0"},{"$f":"secs2string('Record Pivot'!Q6)","v":"0"},{"$f":"secs2string('Record Pivot'!R6)","v":"0"},{"$f":"secs2string('Record Pivot'!S6)","v":"0"},{"$f":"secs2string('Record Pivot'!T6)","v":"0"},{"$f":"secs2string('Record Pivot'!U6)","v":"0"},{"$f":"secs2string('Record Pivot'!V6)","v":"0"},{"$f":"secs2string('Record Pivot'!W6)","v":"0"},{"$f":"secs2string('Record Pivot'!X6)","v":"0"},{"$f":"secs2string('Record Pivot'!Y6)","v":"24.1"}]
["f07",{"$f":"secs2string('Record Pivot'!B7)","v":"0"},{"$f":"secs2string('Record Pivot'!C7)","v":"22.4"},{"$f":"secs2string('Record Pivot'!D7)","v":"0"},{"$f":"secs2string('Record Pivot'!E7)","v":"0"},{"$f":"secs2string('Record Pivot'!F7)","v":"0"},{"$f":"secs2string('Record Pivot'!G7)","v":"0"},{"$f":"secs2string('Record Pivot'!H7)","v":"0"},{"$f":"secs2string('Record Pivot'!I7)","v":"52.7"},{"$f":"secs2string('Record Pivot'!J7)","v":"0"},{"$f":"secs2string('Record Pivot'!K7)","v":"0"},{"$f":"secs2string('Record Pivot'!L7)","v":"1:34.6"},{"$f":"secs2string('Record Pivot'!M7)","v":"0"},{"$f":"secs2string('Record Pivot'!N7)","v":"0"},{"$f":"secs2string('Record Pivot'!O7)","v":"0"},{"$f":"secs2string('Record Pivot'!P7)","v":"0"},{"$f":"secs2string('Record Pivot'!Q7)","v":"0"},{"$f":"secs2string('Record Pivot'!R7)","v":"0"},{"$f":"secs2string('Record Pivot'!S7)","v":"3:23.6"},{"$f":"secs2string('Record Pivot'!T7)","v":"0"},{"$f":"secs2string('Record Pivot'!U7)","v":"0"},{"$f":"secs2string('Record Pivot'!V7)","v":"0"},{"$f":"secs2string('Record Pivot'!W7)","v":"0"},{"$f":"secs2string('Record Pivot'!X7)","v":"0"},{"$f":"secs2string('Record Pivot'!Y7)","v":"22.4"}]
["f09",{"$f":"secs2string('Record Pivot'!B8)","v":"0"},{"$f":"secs2string('Record Pivot'!C8)","v":"17.5"},{"$f":"secs2string('Record Pivot'!D8)","v":"0"},{"$f":"secs2string('Record Pivot'!E8)","v":"0"},{"$f":"secs2string('Record Pivot'!F8)","v":"0"},{"$f":"secs2string('Record Pivot'!G8)","v":"0"},{"$f":"secs2string('Record Pivot'!H8)","v":"5:17.7"},{"$f":"secs2string('Record Pivot'!I8)","v":"38.1"},{"$f":"secs2string('Record Pivot'!J8)","v":"0"},{"$f":"secs2string('Record Pivot'!K8)","v":"16:35.7"},{"$f":"secs2string('Record Pivot'!L8)","v":"1:55.8"},{"$f":"secs2string('Record Pivot'!M8)","v":"0"},{"$f":"secs2string('Record Pivot'!N8)","v":"0"},{"$f":"secs2string('Record Pivot'!O8)","v":"0"},{"$f":"secs2string('Record Pivot'!P8)","v":"0"},{"$f":"secs2string('Record Pivot'!Q8)","v":"30:10"},{"$f":"secs2string('Record Pivot'!R8)","v":"0"},{"$f":"secs2string('Record Pivot'!S8)","v":"4:13"},{"$f":"secs2string('Record Pivot'!T8)","v":"2:16.7"},{"$f":"secs2string('Record Pivot'!U8)","v":"0"},{"$f":"secs2string('Record Pivot'!V8)","v":"0"},{"$f":"secs2string('Record Pivot'!W8)","v":"0"},{"$f":"secs2string('Record Pivot'!X8)","v":"8:46.9"},{"$f":"secs2string('Record Pivot'!Y8)","v":"17.5"}]
["f13",{"$f":"secs2string('Record Pivot'!B9)","v":"0"},{"$f":"secs2string('Record Pivot'!C9)","v":"15.7"},{"$f":"secs2string('Record Pivot'!D9)","v":"51:10.9"},{"$f":"secs2string('Record Pivot'!E9)","v":"0"},{"$f":"secs2string('Record Pivot'!F9)","v":"5:17.3"},{"$f":"secs2string('Record Pivot'!G9)","v":"0"},{"$f":"secs2string('Record Pivot'!H9)","v":"0"},{"$f":"secs2string('Record Pivot'!I9)","v":"32.4"},{"$f":"secs2string('Record Pivot'!J9)","v":"0"},{"$f":"secs2string('Record Pivot'!K9)","v":"13:39.3"},{"$f":"secs2string('Record Pivot'!L9)","v":"1:18.5"},{"$f":"secs2string('Record Pivot'!M9)","v":"0"},{"$f":"secs2string('Record Pivot'!N9)","v":"0"},{"$f":"secs2string('Record Pivot'!O9)","v":"0"},{"$f":"secs2string('Record Pivot'!P9)","v":"9.5"},{"$f":"secs2string('Record Pivot'!Q9)","v":"23:05"},{"$f":"secs2string('Record Pivot'!R9)","v":"0"},{"$f":"secs2string('Record Pivot'!S9)","v":"2:58.5"},{"$f":"secs2string('Record Pivot'!T9)","v":"2:21"},{"$f":"secs2string('Record Pivot'!U9)","v":"0"},{"$f":"secs2string('Record Pivot'!V9)","v":"0"},{"$f":"secs2string('Record Pivot'!W9)","v":"0"},{"$f":"secs2string('Record Pivot'!X9)","v":"6:31"},{"$f":"secs2string('Record Pivot'!Y9)","v":"9.5"}]
["f15",{"$f":"secs2string('Record Pivot'!B10)","v":"0"},{"$f":"secs2string('Record Pivot'!C10)","v":"16.4"},{"$f":"secs2string('Record Pivot'!D10)","v":"0"},{"$f":"secs2string('Record Pivot'!E10)","v":"1:20:13"},{"$f":"secs2string('Record Pivot'!F10)","v":"5:40"},{"$f":"secs2string('Record Pivot'!G10)","v":"0"},{"$f":"secs2string('Record Pivot'!H10)","v":"5:09"},{"$f":"secs2string('Record Pivot'!I10)","v":"31.8"},{"$f":"secs2string('Record Pivot'!J10)","v":"10:54.3"},{"$f":"secs2string('Record Pivot'!K10)","v":"11:37"},{"$f":"secs2string('Record Pivot'!L10)","v":"1:13.4"},{"$f":"secs2string('Record Pivot'!M10)","v":"0"},{"$f":"secs2string('Record Pivot'!N10)","v":"0"},{"$f":"secs2string('Record Pivot'!O10)","v":"0"},{"$f":"secs2string('Record Pivot'!P10)","v":"0"},{"$f":"secs2string('Record Pivot'!Q10)","v":"22:42"},{"$f":"secs2string('Record Pivot'!R10)","v":"0"},{"$f":"secs2string('Record Pivot'!S10)","v":"2:51.9"},{"$f":"secs2string('Record Pivot'!T10)","v":"2:12.3"},{"$f":"secs2string('Record Pivot'!U10)","v":"0"},{"$f":"secs2string('Record Pivot'!V10)","v":"0"},{"$f":"secs2string('Record Pivot'!W10)","v":"0"},{"$f":"secs2string('Record Pivot'!X10)","v":"0"},{"$f":"secs2string('Record Pivot'!Y10)","v":"16.4"}]
["f17",{"$f":"secs2string('Record Pivot'!B11)","v":"0"},{"$f":"secs2string('Record Pivot'!C11)","v":"0"},{"$f":"secs2string('Record Pivot'!D11)","v":"0"},{"$f":"secs2string('Record Pivot'!E11)","v":"0"},{"$f":"secs2string('Record Pivot'!F11)","v":"5:04.8"},{"$f":"secs2string('Record Pivot'!G11)","v":"0"},{"$f":"secs2string('Record Pivot'!H11)","v":"4:20.9"},{"$f":"secs2string('Record Pivot'!I11)","v":"31.9"},{"$f":"secs2string('Record Pivot'!J11)","v":"10:48.4"},{"$f":"secs2string('Record Pivot'!K11)","v":"10:35.6"},{"$f":"secs2string('Record Pivot'!L11)","v":"1:00.8"},{"$f":"secs2string('Record Pivot'!M11)","v":"0"},{"$f":"secs2string('Record Pivot'!N11)","v":"0"},{"$f":"secs2string('Record Pivot'!O11)","v":"0"},{"$f":"secs2string('Record Pivot'!P11)","v":"0"},{"$f":"secs2string('Record Pivot'!Q11)","v":"0"},{"$f":"secs2string('Record Pivot'!R11)","v":"0"},{"$f":"secs2string('Record Pivot'!S11)","v":"2:45.7"},{"$f":"secs2string('Record Pivot'!T11)","v":"1:52.2"},{"$f":"secs2string('Record Pivot'!U11)","v":"46:59.7"},{"$f":"secs2string('Record Pivot'!V11)","v":"0"},{"$f":"secs2string('Record Pivot'!W11)","v":"0"},{"$f":"secs2string('Record Pivot'!X11)","v":"6:31.1"},{"$f":"secs2string('Record Pivot'!Y11)","v":"31.9"}]
["f19",{"$f":"secs2string('Record Pivot'!B12)","v":"0"},{"$f":"secs2string('Record Pivot'!C12)","v":"14.5"},{"$f":"secs2string('Record Pivot'!D12)","v":"0"},{"$f":"secs2string('Record Pivot'!E12)","v":"0"},{"$f":"secs2string('Record Pivot'!F12)","v":"7:07.5"},{"$f":"secs2string('Record Pivot'!G12)","v":"0"},{"$f":"secs2string('Record Pivot'!H12)","v":"0"},{"$f":"secs2string('Record Pivot'!I12)","v":"27.9"},{"$f":"secs2string('Record Pivot'!J12)","v":"0"},{"$f":"secs2string('Record Pivot'!K12)","v":"11:20.5"},{"$f":"secs2string('Record Pivot'!L12)","v":"0"},{"$f":"secs2string('Record Pivot'!M12)","v":"0"},{"$f":"secs2string('Record Pivot'!N12)","v":"0"},{"$f":"secs2string('Record Pivot'!O12)","v":"0"},{"$f":"secs2string('Record Pivot'!P12)","v":"0"},{"$f":"secs2string('Record Pivot'!Q12)","v":"0"},{"$f":"secs2string('Record Pivot'!R12)","v":"0"},{"$f":"secs2string('Record Pivot'!S12)","v":"0"},{"$f":"secs2string('Record Pivot'!T12)","v":"0"},{"$f":"secs2string('Record Pivot'!U12)","v":"0"},{"$f":"secs2string('Record Pivot'!V12)","v":"0"},{"$f":"secs2string('Record Pivot'!W12)","v":"0"},{"$f":"secs2string('Record Pivot'!X12)","v":"5:29.1"},{"$f":"secs2string('Record Pivot'!Y12)","v":"14.5"}]
["f29",{"$f":"secs2string('Record Pivot'!B13)","v":"2:52:31"},{"$f":"secs2string('Record Pivot'!C13)","v":"12.6"},{"$f":"secs2string('Record Pivot'!D13)","v":"34:05"},{"$f":"secs2string('Record Pivot'!E13)","v":"1:03:38"},{"$f":"secs2string('Record Pivot'!F13)","v":"4:46.3"},{"$f":"secs2string('Record Pivot'!G13)","v":"57:29"},{"$f":"secs2string('Record Pivot'!H13)","v":"4:05"},{"$f":"secs2string('Record Pivot'!I13)","v":"25.4"},{"$f":"secs2string('Record Pivot'!J13)","v":"9:42.1"},{"$f":"secs2string('Record Pivot'!K13)","v":"9:56.6"},{"$f":"secs2string('Record Pivot'!L13)","v":"57.6"},{"$f":"secs2string('Record Pivot'!M13)","v":"2:53.3"},{"$f":"secs2string('Record Pivot'!N13)","v":"8:19.4"},{"$f":"secs2string('Record Pivot'!O13)","v":"12:10.5"},{"$f":"secs2string('Record Pivot'!P13)","v":"9.4"},{"$f":"secs2string('Record Pivot'!Q13)","v":"17:24"},{"$f":"secs2string('Record Pivot'!R13)","v":"0"},{"$f":"secs2string('Record Pivot'!S13)","v":"2:13.1"},{"$f":"secs2string('Record Pivot'!T13)","v":"1:50.6"},{"$f":"secs2string('Record Pivot'!U13)","v":"32:10"},{"$f":"secs2string('Record Pivot'!V13)","v":"14:06"},{"$f":"secs2string('Record Pivot'!W13)","v":"1:20:45"},{"$f":"secs2string('Record Pivot'!X13)","v":"5:10.2"},{"$f":"secs2string('Record Pivot'!Y13)","v":"9.4"}]
["f34",{"$f":"secs2string('Record Pivot'!B14)","v":"3:20:17"},{"$f":"secs2string('Record Pivot'!C14)","v":"13.5"},{"$f":"secs2string('Record Pivot'!D14)","v":"37:49"},{"$f":"secs2string('Record Pivot'!E14)","v":"1:04:24"},{"$f":"secs2string('Record Pivot'!F14)","v":"4:27.4"},{"$f":"secs2string('Record Pivot'!G14)","v":"57:44"},{"$f":"secs2string('Record Pivot'!H14)","v":"4:01.2"},{"$f":"secs2string('Record Pivot'!I14)","v":"28.3"},{"$f":"secs2string('Record Pivot'!J14)","v":"9:39.9"},{"$f":"secs2string('Record Pivot'!K14)","v":"10:29.9"},{"$f":"secs2string('Record Pivot'!L14)","v":"1:02"},{"$f":"secs2string('Record Pivot'!M14)","v":"3:29.8"},{"$f":"secs2string('Record Pivot'!N14)","v":"6:15.6"},{"$f":"secs2string('Record Pivot'!O14)","v":"12:22.1"},{"$f":"secs2string('Record Pivot'!P14)","v":"8.9"},{"$f":"secs2string('Record Pivot'!Q14)","v":"17:59"},{"$f":"secs2string('Record Pivot'!R14)","v":"0"},{"$f":"secs2string('Record Pivot'!S14)","v":"2:11.1"},{"$f":"secs2string('Record Pivot'!T14)","v":"1:52.6"},{"$f":"secs2string('Record Pivot'!U14)","v":"36:04.1"},{"$f":"secs2string('Record Pivot'!V14)","v":"12:26.7"},{"$f":"secs2string('Record Pivot'!W14)","v":"1:38:34"},{"$f":"secs2string('Record Pivot'!X14)","v":"5:15.6"},{"$f":"secs2string('Record Pivot'!Y14)","v":"8.9"}]
["f39",{"$f":"secs2string('Record Pivot'!B15)","v":"3:02:05"},{"$f":"secs2string('Record Pivot'!C15)","v":"13.5"},{"$f":"secs2string('Record Pivot'!D15)","v":"38:33"},{"$f":"secs2string('Record Pivot'!E15)","v":"1:02:07"},{"$f":"secs2string('Record Pivot'!F15)","v":"4:47.2"},{"$f":"secs2string('Record Pivot'!G15)","v":"59:22"},{"$f":"secs2string('Record Pivot'!H15)","v":"4:01.5"},{"$f":"secs2string('Record Pivot'!I15)","v":"28.3"},{"$f":"secs2string('Record Pivot'!J15)","v":"9:22.8"},{"$f":"secs2string('Record Pivot'!K15)","v":"10:22.8"},{"$f":"secs2string('Record Pivot'!L15)","v":"1:03.1"},{"$f":"secs2string('Record Pivot'!M15)","v":"2:43.3"},{"$f":"secs2string('Record Pivot'!N15)","v":"6:15.6"},{"$f":"secs2string('Record Pivot'!O15)","v":"10:35"},{"$f":"secs2string('Record Pivot'!P15)","v":"18.9"},{"$f":"secs2string('Record Pivot'!Q15)","v":"17:29"},{"$f":"secs2string('Record Pivot'!R15)","v":"0"},{"$f":"secs2string('Record Pivot'!S15)","v":"2:21.1"},{"$f":"secs2string('Record Pivot'!T15)","v":"1:50.9"},{"$f":"secs2string('Record Pivot'!U15)","v":"30:36.5"},{"$f":"secs2string('Record Pivot'!V15)","v":"12:46.1"},{"$f":"secs2string('Record Pivot'!W15)","v":"1:34:11"},{"$f":"secs2string('Record Pivot'!X15)","v":"5:05.4"},{"$f":"secs2string('Record Pivot'!Y15)","v":"13.5"}]
["f44",{"$f":"secs2string('Record Pivot'!B16)","v":"3:41:58"},{"$f":"secs2string('Record Pivot'!C16)","v":"13.2"},{"$f":"secs2string('Record Pivot'!D16)","v":"37:06"},{"$f":"secs2string('Record Pivot'!E16)","v":"1:06:29"},{"$f":"secs2string('Record Pivot'!F16)","v":"4:27.6"},{"$f":"secs2string('Record Pivot'!G16)","v":"55:58"},{"$f":"secs2string('Record Pivot'!H16)","v":"4:00.4"},{"$f":"secs2string('Record Pivot'!I16)","v":"26.4"},{"$f":"secs2string('Record Pivot'!J16)","v":"8:52.1"},{"$f":"secs2string('Record Pivot'!K16)","v":"10:04.9"},{"$f":"secs2string('Record Pivot'!L16)","v":"58.5"},{"$f":"secs2string('Record Pivot'!M16)","v":"3:09.6"},{"$f":"secs2string('Record Pivot'!N16)","v":"6:48.3"},{"$f":"secs2string('Record Pivot'!O16)","v":"10:34.7"},{"$f":"secs2string('Record Pivot'!P16)","v":"9.3"},{"$f":"secs2string('Record Pivot'!Q16)","v":"17:30"},{"$f":"secs2string('Record Pivot'!R16)","v":"0"},{"$f":"secs2string('Record Pivot'!S16)","v":"2:13.3"},{"$f":"secs2string('Record Pivot'!T16)","v":"1:50"},{"$f":"secs2string('Record Pivot'!U16)","v":"36:57"},{"$f":"secs2string('Record Pivot'!V16)","v":"11:52.5"},{"$f":"secs2string('Record Pivot'!W16)","v":"1:30:09"},{"$f":"secs2string('Record Pivot'!X16)","v":"4:54.5"},{"$f":"secs2string('Record Pivot'!Y16)","v":"9.3"}]
["f49",{"$f":"secs2string('Record Pivot'!B17)","v":"4:05:53"},{"$f":"secs2string('Record Pivot'!C17)","v":"13.2"},{"$f":"secs2string('Record Pivot'!D17)","v":"41:12.5"},{"$f":"secs2string('Record Pivot'!E17)","v":"1:08:26"},{"$f":"secs2string('Record Pivot'!F17)","v":"5:12.5"},{"$f":"secs2string('Record Pivot'!G17)","v":"1:01:26"},{"$f":"secs2string('Record Pivot'!H17)","v":"4:15.7"},{"$f":"secs2string('Record Pivot'!I17)","v":"27.6"},{"$f":"secs2string('Record Pivot'!J17)","v":"9:33.2"},{"$f":"secs2string('Record Pivot'!K17)","v":"10:23.1"},{"$f":"secs2string('Record Pivot'!L17)","v":"1:03.1"},{"$f":"secs2string('Record Pivot'!M17)","v":"2:45.6"},{"$f":"secs2string('Record Pivot'!N17)","v":"6:43.6"},{"$f":"secs2string('Record Pivot'!O17)","v":"10:57.9"},{"$f":"secs2string('Record Pivot'!P17)","v":"9.7"},{"$f":"secs2string('Record Pivot'!Q17)","v":"18:52.1"},{"$f":"secs2string('Record Pivot'!R17)","v":"0"},{"$f":"secs2string('Record Pivot'!S17)","v":"2:33.9"},{"$f":"secs2string('Record Pivot'!T17)","v":"2:00.7"},{"$f":"secs2string('Record Pivot'!U17)","v":"32:44.1"},{"$f":"secs2string('Record Pivot'!V17)","v":"13:41.2"},{"$f":"secs2string('Record Pivot'!W17)","v":"1:30:38"},{"$f":"secs2string('Record Pivot'!X17)","v":"5:18.1"},{"$f":"secs2string('Record Pivot'!Y17)","v":"9.7"}]
["f54",{"$f":"secs2string('Record Pivot'!B18)","v":"4:10:25"},{"$f":"secs2string('Record Pivot'!C18)","v":"13.5"},{"$f":"secs2string('Record Pivot'!D18)","v":"41:02"},{"$f":"secs2string('Record Pivot'!E18)","v":"1:10:25"},{"$f":"secs2string('Record Pivot'!F18)","v":"5:19.6"},{"$f":"secs2string('Record Pivot'!G18)","v":"1:02:33"},{"$f":"secs2string('Record Pivot'!H18)","v":"4:14.1"},{"$f":"secs2string('Record Pivot'!I18)","v":"29"},{"$f":"secs2string('Record Pivot'!J18)","v":"9:27.2"},{"$f":"secs2string('Record Pivot'!K18)","v":"11:24.7"},{"$f":"secs2string('Record Pivot'!L18)","v":"1:08"},{"$f":"secs2string('Record Pivot'!M18)","v":"2:50"},{"$f":"secs2string('Record Pivot'!N18)","v":"6:30"},{"$f":"secs2string('Record Pivot'!O18)","v":"9:51.7"},{"$f":"secs2string('Record Pivot'!P18)","v":"8"},{"$f":"secs2string('Record Pivot'!Q18)","v":"19:45"},{"$f":"secs2string('Record Pivot'!R18)","v":"0"},{"$f":"secs2string('Record Pivot'!S18)","v":"2:34.9"},{"$f":"secs2string('Record Pivot'!T18)","v":"1:52.9"},{"$f":"secs2string('Record Pivot'!U18)","v":"33:33.2"},{"$f":"secs2string('Record Pivot'!V18)","v":"0"},{"$f":"secs2string('Record Pivot'!W18)","v":"1:39:01"},{"$f":"secs2string('Record Pivot'!X18)","v":"5:36.5"},{"$f":"secs2string('Record Pivot'!Y18)","v":"8"}]
["f59",{"$f":"secs2string('Record Pivot'!B19)","v":"3:51:00"},{"$f":"secs2string('Record Pivot'!C19)","v":"15.9"},{"$f":"secs2string('Record Pivot'!D19)","v":"42:06"},{"$f":"secs2string('Record Pivot'!E19)","v":"1:14:15"},{"$f":"secs2string('Record Pivot'!F19)","v":"5:30.2"},{"$f":"secs2string('Record Pivot'!G19)","v":"1:04:25.7"},{"$f":"secs2string('Record Pivot'!H19)","v":"4:13.1"},{"$f":"secs2string('Record Pivot'!I19)","v":"32.6"},{"$f":"secs2string('Record Pivot'!J19)","v":"10:13.3"},{"$f":"secs2string('Record Pivot'!K19)","v":"11:36.2"},{"$f":"secs2string('Record Pivot'!L19)","v":"1:08.8"},{"$f":"secs2string('Record Pivot'!M19)","v":"2:51.4"},{"$f":"secs2string('Record Pivot'!N19)","v":"6:19.3"},{"$f":"secs2string('Record Pivot'!O19)","v":"10:43.7"},{"$f":"secs2string('Record Pivot'!P19)","v":"9.4"},{"$f":"secs2string('Record Pivot'!Q19)","v":"19:55"},{"$f":"secs2string('Record Pivot'!R19)","v":"0"},{"$f":"secs2string('Record Pivot'!S19)","v":"2:35.2"},{"$f":"secs2string('Record Pivot'!T19)","v":"1:54.9"},{"$f":"secs2string('Record Pivot'!U19)","v":"31:54.1"},{"$f":"secs2string('Record Pivot'!V19)","v":"0"},{"$f":"secs2string('Record Pivot'!W19)","v":"1:43:06"},{"$f":"secs2string('Record Pivot'!X19)","v":"5:55.2"},{"$f":"secs2string('Record Pivot'!Y19)","v":"9.4"}]
["f64",{"$f":"secs2string('Record Pivot'!B20)","v":"0"},{"$f":"secs2string('Record Pivot'!C20)","v":"16.2"},{"$f":"secs2string('Record Pivot'!D20)","v":"47:46"},{"$f":"secs2string('Record Pivot'!E20)","v":"1:12:07"},{"$f":"secs2string('Record Pivot'!F20)","v":"5:38.4"},{"$f":"secs2string('Record Pivot'!G20)","v":"1:07:26"},{"$f":"secs2string('Record Pivot'!H20)","v":"4:20.5"},{"$f":"secs2string('Record Pivot'!I20)","v":"33.6"},{"$f":"secs2string('Record Pivot'!J20)","v":"10:18.7"},{"$f":"secs2string('Record Pivot'!K20)","v":"12:23"},{"$f":"secs2string('Record Pivot'!L20)","v":"1:11.4"},{"$f":"secs2string('Record Pivot'!M20)","v":"2:45.1"},{"$f":"secs2string('Record Pivot'!N20)","v":"6:14.4"},{"$f":"secs2string('Record Pivot'!O20)","v":"9:27.9"},{"$f":"secs2string('Record Pivot'!P20)","v":"9.3"},{"$f":"secs2string('Record Pivot'!Q20)","v":"21:25.9"},{"$f":"secs2string('Record Pivot'!R20)","v":"37:09"},{"$f":"secs2string('Record Pivot'!S20)","v":"2:42.4"},{"$f":"secs2string('Record Pivot'!T20)","v":"2:04.8"},{"$f":"secs2string('Record Pivot'!U20)","v":"35:48.9"},{"$f":"secs2string('Record Pivot'!V20)","v":"0"},{"$f":"secs2string('Record Pivot'!W20)","v":"1:46:40"},{"$f":"secs2string('Record Pivot'!X20)","v":"6:11.1"},{"$f":"secs2string('Record Pivot'!Y20)","v":"9.3"}]
["f69",{"$f":"secs2string('Record Pivot'!B21)","v":"6:43:49"},{"$f":"secs2string('Record Pivot'!C21)","v":"16.6"},{"$f":"secs2string('Record Pivot'!D21)","v":"51:14"},{"$f":"secs2string('Record Pivot'!E21)","v":"1:16:16"},{"$f":"secs2string('Record Pivot'!F21)","v":"5:54.8"},{"$f":"secs2string('Record Pivot'!G21)","v":"1:20:39"},{"$f":"secs2string('Record Pivot'!H21)","v":"4:50.6"},{"$f":"secs2string('Record Pivot'!I21)","v":"34.1"},{"$f":"secs2string('Record Pivot'!J21)","v":"10:49.8"},{"$f":"secs2string('Record Pivot'!K21)","v":"12:47.7"},{"$f":"secs2string('Record Pivot'!L21)","v":"1:14.6"},{"$f":"secs2string('Record Pivot'!M21)","v":"2:54.2"},{"$f":"secs2string('Record Pivot'!N21)","v":"5:58.5"},{"$f":"secs2string('Record Pivot'!O21)","v":"10:39.4"},{"$f":"secs2string('Record Pivot'!P21)","v":"9.5"},{"$f":"secs2string('Record Pivot'!Q21)","v":"22:23"},{"$f":"secs2string('Record Pivot'!R21)","v":"0"},{"$f":"secs2string('Record Pivot'!S21)","v":"2:53.1"},{"$f":"secs2string('Record Pivot'!T21)","v":"2:03.8"},{"$f":"secs2string('Record Pivot'!U21)","v":"37:26.9"},{"$f":"secs2string('Record Pivot'!V21)","v":"15:48.3"},{"$f":"secs2string('Record Pivot'!W21)","v":"2:03:49"},{"$f":"secs2string('Record Pivot'!X21)","v":"6:36.8"},{"$f":"secs2string('Record Pivot'!Y21)","v":"9.5"}]
["f74",{"$f":"secs2string('Record Pivot'!B22)","v":"5:44:23"},{"$f":"secs2string('Record Pivot'!C22)","v":"17.8"},{"$f":"secs2string('Record Pivot'!D22)","v":"58:06"},{"$f":"secs2string('Record Pivot'!E22)","v":"1:52:15"},{"$f":"secs2string('Record Pivot'!F22)","v":"7:43.3"},{"$f":"secs2string('Record Pivot'!G22)","v":"1:34:25"},{"$f":"secs2string('Record Pivot'!H22)","v":"5:18.1"},{"$f":"secs2string('Record Pivot'!I22)","v":"38.3"},{"$f":"secs2string('Record Pivot'!J22)","v":"12:57.9"},{"$f":"secs2string('Record Pivot'!K22)","v":"16:11.3"},{"$f":"secs2string('Record Pivot'!L22)","v":"1:30.1"},{"$f":"secs2string('Record Pivot'!M22)","v":"2:59"},{"$f":"secs2string('Record Pivot'!N22)","v":"6:59.6"},{"$f":"secs2string('Record Pivot'!O22)","v":"11:50.9"},{"$f":"secs2string('Record Pivot'!P22)","v":"9.9"},{"$f":"secs2string('Record Pivot'!Q22)","v":"28:59.6"},{"$f":"secs2string('Record Pivot'!R22)","v":"0"},{"$f":"secs2string('Record Pivot'!S22)","v":"3:49.4"},{"$f":"secs2string('Record Pivot'!T22)","v":"2:11"},{"$f":"secs2string('Record Pivot'!U22)","v":"50:50.4"},{"$f":"secs2string('Record Pivot'!V22)","v":"0"},{"$f":"secs2string('Record Pivot'!W22)","v":"0"},{"$f":"secs2string('Record Pivot'!X22)","v":"8:16.9"},{"$f":"secs2string('Record Pivot'!Y22)","v":"9.9"}]
["f79",{"$f":"secs2string('Record Pivot'!B23)","v":"0"},{"$f":"secs2string('Record Pivot'!C23)","v":"26.7"},{"$f":"secs2string('Record Pivot'!D23)","v":"0"},{"$f":"secs2string('Record Pivot'!E23)","v":"0"},{"$f":"secs2string('Record Pivot'!F23)","v":"9:46.1"},{"$f":"secs2string('Record Pivot'!G23)","v":"0"},{"$f":"secs2string('Record Pivot'!H23)","v":"0"},{"$f":"secs2string('Record Pivot'!I23)","v":"55.4"},{"$f":"secs2string('Record Pivot'!J23)","v":"0"},{"$f":"secs2string('Record Pivot'!K23)","v":"20:32.8"},{"$f":"secs2string('Record Pivot'!L23)","v":"2:08.6"},{"$f":"secs2string('Record Pivot'!M23)","v":"3:36"},{"$f":"secs2string('Record Pivot'!N23)","v":"8:34.7"},{"$f":"secs2string('Record Pivot'!O23)","v":"13:19.3"},{"$f":"secs2string('Record Pivot'!P23)","v":"13.5"},{"$f":"secs2string('Record Pivot'!Q23)","v":"34:41.7"},{"$f":"secs2string('Record Pivot'!R23)","v":"0"},{"$f":"secs2string('Record Pivot'!S23)","v":"4:54.3"},{"$f":"secs2string('Record Pivot'!T23)","v":"0"},{"$f":"secs2string('Record Pivot'!U23)","v":"58:30"},{"$f":"secs2string('Record Pivot'!V23)","v":"0"},{"$f":"secs2string('Record Pivot'!W23)","v":"0"},{"$f":"secs2string('Record Pivot'!X23)","v":"10:44.4"},{"$f":"secs2string('Record Pivot'!Y23)","v":"13.5"}]
["m",{"$f":"secs2string('Record Pivot'!B24)","v":"0"},{"$f":"secs2string('Record Pivot'!C24)","v":"19.9"},{"$f":"secs2string('Record Pivot'!D24)","v":"0"},{"$f":"secs2string('Record Pivot'!E24)","v":"0"},{"$f":"secs2string('Record Pivot'!F24)","v":"0"},{"$f":"secs2string('Record Pivot'!G24)","v":"0"},{"$f":"secs2string('Record Pivot'!H24)","v":"0"},{"$f":"secs2string('Record Pivot'!I24)","v":"45"},{"$f":"secs2string('Record Pivot'!J24)","v":"0"},{"$f":"secs2string('Record Pivot'!K24)","v":"0"},{"$f":"secs2string('Record Pivot'!L24)","v":"1:41.6"},{"$f":"secs2string('Record Pivot'!M24)","v":"0"},{"$f":"secs2string('Record Pivot'!N24)","v":"0"},{"$f":"secs2string('Record Pivot'!O24)","v":"0"},{"$f":"secs2string('Record Pivot'!P24)","v":"0"},{"$f":"secs2string('Record Pivot'!Q24)","v":"37:52"},{"$f":"secs2string('Record Pivot'!R24)","v":"0"},{"$f":"secs2string('Record Pivot'!S24)","v":"3:42"},{"$f":"secs2string('Record Pivot'!T24)","v":"0"},{"$f":"secs2string('Record Pivot'!U24)","v":"0"},{"$f":"secs2string('Record Pivot'!V24)","v":"0"},{"$f":"secs2string('Record Pivot'!W24)","v":"0"},{"$f":"secs2string('Record Pivot'!X24)","v":"0"},{"$f":"secs2string('Record Pivot'!Y24)","v":"19.9"}]
["m05",{"$f":"secs2string('Record Pivot'!B25)","v":"0"},{"$f":"secs2string('Record Pivot'!C25)","v":"0"},{"$f":"secs2string('Record Pivot'!D25)","v":"0"},{"$f":"secs2string('Record Pivot'!E25)","v":"0"},{"$f":"secs2string('Record Pivot'!F25)","v":"7:32.2"},{"$f":"secs2string('Record Pivot'!G25)","v":"0"},{"$f":"secs2string('Record Pivot'!H25)","v":"7:17.6"},{"$f":"secs2string('Record Pivot'!I25)","v":"40.5"},{"$f":"secs2string('Record Pivot'!J25)","v":"18:47"},{"$f":"secs2string('Record Pivot'!K25)","v":"19:55"},{"$f":"secs2string('Record Pivot'!L25)","v":"0"},{"$f":"secs2string('Record Pivot'!M25)","v":"0"},{"$f":"secs2string('Record Pivot'!N25)","v":"0"},{"$f":"secs2string('Record Pivot'!O25)","v":"0"},{"$f":"secs2string('Record Pivot'!P25)","v":"10.4"},{"$f":"secs2string('Record Pivot'!Q25)","v":"27:37"},{"$f":"secs2string('Record Pivot'!R25)","v":"0"},{"$f":"secs2string('Record Pivot'!S25)","v":"0"},{"$f":"secs2string('Record Pivot'!T25)","v":"2:46.8"},{"$f":"secs2string('Record Pivot'!U25)","v":"0"},{"$f":"secs2string('Record Pivot'!V25)","v":"0"},{"$f":"secs2string('Record Pivot'!W25)","v":"0"},{"$f":"secs2string('Record Pivot'!X25)","v":"0"},{"$f":"secs2string('Record Pivot'!Y25)","v":"10.4"}]
["m06",{"$f":"secs2string('Record Pivot'!B26)","v":"0"},{"$f":"secs2string('Record Pivot'!C26)","v":"0"},{"$f":"secs2string('Record Pivot'!D26)","v":"0"},{"$f":"secs2string('Record Pivot'!E26)","v":"0"},{"$f":"secs2string('Record Pivot'!F26)","v":"0"},{"$f":"secs2string('Record Pivot'!G26)","v":"0"},{"$f":"secs2string('Record Pivot'!H26)","v":"0"},{"$f":"secs2string('Record Pivot'!I26)","v":"36.9"},{"$f":"secs2string('Record Pivot'!J26)","v":"0"},{"$f":"secs2string('Record Pivot'!K26)","v":"13:13.3"},{"$f":"secs2string('Record Pivot'!L26)","v":"0"},{"$f":"secs2string('Record Pivot'!M26)","v":"0"},{"$f":"secs2string('Record Pivot'!N26)","v":"0"},{"$f":"secs2string('Record Pivot'!O26)","v":"0"},{"$f":"secs2string('Record Pivot'!P26)","v":"9.9"},{"$f":"secs2string('Record Pivot'!Q26)","v":"23:06"},{"$f":"secs2string('Record Pivot'!R26)","v":"0"},{"$f":"secs2string('Record Pivot'!S26)","v":"3:03.3"},{"$f":"secs2string('Record Pivot'!T26)","v":"2:17.6"},{"$f":"secs2string('Record Pivot'!U26)","v":"0"},{"$f":"secs2string('Record Pivot'!V26)","v":"0"},{"$f":"secs2string('Record Pivot'!W26)","v":"0"},{"$f":"secs2string('Record Pivot'!X26)","v":"6:48.7"},{"$f":"secs2string('Record Pivot'!Y26)","v":"9.9"}]
["m07",{"$f":"secs2string('Record Pivot'!B27)","v":"0"},{"$f":"secs2string('Record Pivot'!C27)","v":"19.1"},{"$f":"secs2string('Record Pivot'!D27)","v":"0"},{"$f":"secs2string('Record Pivot'!E27)","v":"0"},{"$f":"secs2string('Record Pivot'!F27)","v":"0"},{"$f":"secs2string('Record Pivot'!G27)","v":"0"},{"$f":"secs2string('Record Pivot'!H27)","v":"0"},{"$f":"secs2string('Record Pivot'!I27)","v":"39.6"},{"$f":"secs2string('Record Pivot'!J27)","v":"0"},{"$f":"secs2string('Record Pivot'!K27)","v":"13:19"},{"$f":"secs2string('Record Pivot'!L27)","v":"0"},{"$f":"secs2string('Record Pivot'!M27)","v":"0"},{"$f":"secs2string('Record Pivot'!N27)","v":"0"},{"$f":"secs2string('Record Pivot'!O27)","v":"0"},{"$f":"secs2string('Record Pivot'!P27)","v":"9.6"},{"$f":"secs2string('Record Pivot'!Q27)","v":"0"},{"$f":"secs2string('Record Pivot'!R27)","v":"0"},{"$f":"secs2string('Record Pivot'!S27)","v":"0"},{"$f":"secs2string('Record Pivot'!T27)","v":"0"},{"$f":"secs2string('Record Pivot'!U27)","v":"0"},{"$f":"secs2string('Record Pivot'!V27)","v":"0"},{"$f":"secs2string('Record Pivot'!W27)","v":"0"},{"$f":"secs2string('Record Pivot'!X27)","v":"7:42.6"},{"$f":"secs2string('Record Pivot'!Y27)","v":"9.6"}]
["m09",{"$f":"secs2string('Record Pivot'!B28)","v":"0"},{"$f":"secs2string('Record Pivot'!C28)","v":"17.9"},{"$f":"secs2string('Record Pivot'!D28)","v":"0"},{"$f":"secs2string('Record Pivot'!E28)","v":"0"},{"$f":"secs2string('Record Pivot'!F28)","v":"0"},{"$f":"secs2string('Record Pivot'!G28)","v":"0"},{"$f":"secs2string('Record Pivot'!H28)","v":"0"},{"$f":"secs2string('Record Pivot'!I28)","v":"34.9"},{"$f":"secs2string('Record Pivot'!J28)","v":"0"},{"$f":"secs2string('Record Pivot'!K28)","v":"13:02"},{"$f":"secs2string('Record Pivot'!L28)","v":"1:28.5"},{"$f":"secs2string('Record Pivot'!M28)","v":"3:09.3"},{"$f":"secs2string('Record Pivot'!N28)","v":"0"},{"$f":"secs2string('Record Pivot'!O28)","v":"0"},{"$f":"secs2string('Record Pivot'!P28)","v":"9.6"},{"$f":"secs2string('Record Pivot'!Q28)","v":"23:45"},{"$f":"secs2string('Record Pivot'!R28)","v":"0"},{"$f":"secs2string('Record Pivot'!S28)","v":"2:56.1"},{"$f":"secs2string('Record Pivot'!T28)","v":"2:42.3"},{"$f":"secs2string('Record Pivot'!U28)","v":"0"},{"$f":"secs2string('Record Pivot'!V28)","v":"0"},{"$f":"secs2string('Record Pivot'!W28)","v":"0"},{"$f":"secs2string('Record Pivot'!X28)","v":"6:26"},{"$f":"secs2string('Record Pivot'!Y28)","v":"9.6"}]
["m11",{"$f":"secs2string('Record Pivot'!B29)","v":"0"},{"$f":"secs2string('Record Pivot'!C29)","v":"15.5"},{"$f":"secs2string('Record Pivot'!D29)","v":"45:38"},{"$f":"secs2string('Record Pivot'!E29)","v":"0"},{"$f":"secs2string('Record Pivot'!F29)","v":"0"},{"$f":"secs2string('Record Pivot'!G29)","v":"0"},{"$f":"secs2string('Record Pivot'!H29)","v":"0"},{"$f":"secs2string('Record Pivot'!I29)","v":"31.8"},{"$f":"secs2string('Record Pivot'!J29)","v":"10:19.3"},{"$f":"secs2string('Record Pivot'!K29)","v":"13:15.5"},{"$f":"secs2string('Record Pivot'!L29)","v":"1:24"},{"$f":"secs2string('Record Pivot'!M29)","v":"0"},{"$f":"secs2string('Record Pivot'!N29)","v":"0"},{"$f":"secs2string('Record Pivot'!O29)","v":"0"},{"$f":"secs2string('Record Pivot'!P29)","v":"9"},{"$f":"secs2string('Record Pivot'!Q29)","v":"21:31"},{"$f":"secs2string('Record Pivot'!R29)","v":"0"},{"$f":"secs2string('Record Pivot'!S29)","v":"2:52.2"},{"$f":"secs2string('Record Pivot'!T29)","v":"0"},{"$f":"secs2string('Record Pivot'!U29)","v":"0"},{"$f":"secs2string('Record Pivot'!V29)","v":"0"},{"$f":"secs2string('Record Pivot'!W29)","v":"0"},{"$f":"secs2string('Record Pivot'!X29)","v":"6:24"},{"$f":"secs2string('Record Pivot'!Y29)","v":"9"}]
["m13",{"$f":"secs2string('Record Pivot'!B30)","v":"0"},{"$f":"secs2string('Record Pivot'!C30)","v":"0"},{"$f":"secs2string('Record Pivot'!D30)","v":"42:32"},{"$f":"secs2string('Record Pivot'!E30)","v":"1:08:16"},{"$f":"secs2string('Record Pivot'!F30)","v":"0"},{"$f":"secs2string('Record Pivot'!G30)","v":"1:04:05"},{"$f":"secs2string('Record Pivot'!H30)","v":"0"},{"$f":"secs2string('Record Pivot'!I30)","v":"45.2"},{"$f":"secs2string('Record Pivot'!J30)","v":"10:38.7"},{"$f":"secs2string('Record Pivot'!K30)","v":"13:39.4"},{"$f":"secs2string('Record Pivot'!L30)","v":"2:02.5"},{"$f":"secs2string('Record Pivot'!M30)","v":"0"},{"$f":"secs2string('Record Pivot'!N30)","v":"0"},{"$f":"secs2string('Record Pivot'!O30)","v":"0"},{"$f":"secs2string('Record Pivot'!P30)","v":"8.5"},{"$f":"secs2string('Record Pivot'!Q30)","v":"18:04"},{"$f":"secs2string('Record Pivot'!R30)","v":"0"},{"$f":"secs2string('Record Pivot'!S30)","v":"2:42.2"},{"$f":"secs2string('Record Pivot'!T30)","v":"2:08.8"},{"$f":"secs2string('Record Pivot'!U30)","v":"31:58"},{"$f":"secs2string('Record Pivot'!V30)","v":"0"},{"$f":"secs2string('Record Pivot'!W30)","v":"0"},{"$f":"secs2string('Record Pivot'!X30)","v":"4:51.5"},{"$f":"secs2string('Record Pivot'!Y30)","v":"8.5"}]
["m15",{"$f":"secs2string('Record Pivot'!B31)","v":"0"},{"$f":"secs2string('Record Pivot'!C31)","v":"15.5"},{"$f":"secs2string('Record Pivot'!D31)","v":"0"},{"$f":"secs2string('Record Pivot'!E31)","v":"0"},{"$f":"secs2string('Record Pivot'!F31)","v":"0"},{"$f":"secs2string('Record Pivot'!G31)","v":"57:28"},{"$f":"secs2string('Record Pivot'!H31)","v":"0"},{"$f":"secs2string('Record Pivot'!I31)","v":"28.2"},{"$f":"secs2string('Record Pivot'!J31)","v":"10:08.1"},{"$f":"secs2string('Record Pivot'!K31)","v":"10:21.5"},{"$f":"secs2string('Record Pivot'!L31)","v":"0"},{"$f":"secs2string('Record Pivot'!M31)","v":"3:10.6"},{"$f":"secs2string('Record Pivot'!N31)","v":"0"},{"$f":"secs2string('Record Pivot'!O31)","v":"14:51.6"},{"$f":"secs2string('Record Pivot'!P31)","v":"8.2"},{"$f":"secs2string('Record Pivot'!Q31)","v":"17:58"},{"$f":"secs2string('Record Pivot'!R31)","v":"0"},{"$f":"secs2string('Record Pivot'!S31)","v":"2:02.7"},{"$f":"secs2string('Record Pivot'!T31)","v":"1:53.4"},{"$f":"secs2string('Record Pivot'!U31)","v":"30:08"},{"$f":"secs2string('Record Pivot'!V31)","v":"0"},{"$f":"secs2string('Record Pivot'!W31)","v":"0"},{"$f":"secs2string('Record Pivot'!X31)","v":"4:53"},{"$f":"secs2string('Record Pivot'!Y31)","v":"8.2"}]
["m17",{"$f":"secs2string('Record Pivot'!B32)","v":"0"},{"$f":"secs2string('Record Pivot'!C32)","v":"0"},{"$f":"secs2string('Record Pivot'!D32)","v":"0"},{"$f":"secs2string('Record Pivot'!E32)","v":"0"},{"$f":"secs2string('Record Pivot'!F32)","v":"4:40.4"},{"$f":"secs2string('Record Pivot'!G32)","v":"1:09:06.8"},{"$f":"secs2string('Record Pivot'!H32)","v":"4:31.8"},{"$f":"secs2string('Record Pivot'!I32)","v":"25.6"},{"$f":"secs2string('Record Pivot'!J32)","v":"0"},{"$f":"secs2string('Record Pivot'!K32)","v":"10:14.5"},{"$f":"secs2string('Record Pivot'!L32)","v":"53.3"},{"$f":"secs2string('Record Pivot'!M32)","v":"2:31.8"},{"$f":"secs2string('Record Pivot'!N32)","v":"5:54.9"},{"$f":"secs2string('Record Pivot'!O32)","v":"0"},{"$f":"secs2string('Record Pivot'!P32)","v":"7.3"},{"$f":"secs2string('Record Pivot'!Q32)","v":"19:27"},{"$f":"secs2string('Record Pivot'!R32)","v":"0"},{"$f":"secs2string('Record Pivot'!S32)","v":"2:14.1"},{"$f":"secs2string('Record Pivot'!T32)","v":"1:53.4"},{"$f":"secs2string('Record Pivot'!U32)","v":"35:37.1"},{"$f":"secs2string('Record Pivot'!V32)","v":"0"},{"$f":"secs2string('Record Pivot'!W32)","v":"0"},{"$f":"secs2string('Record Pivot'!X32)","v":"5:04.7"},{"$f":"secs2string('Record Pivot'!Y32)","v":"7.3"}]
["m19",{"$f":"secs2string('Record Pivot'!B33)","v":"2:22:08"},{"$f":"secs2string('Record Pivot'!C33)","v":"11.2"},{"$f":"secs2string('Record Pivot'!D33)","v":"30:59"},{"$f":"secs2string('Record Pivot'!E33)","v":"55:05"},{"$f":"secs2string('Record Pivot'!F33)","v":"3:56.5"},{"$f":"secs2string('Record Pivot'!G33)","v":"48:22"},{"$f":"secs2string('Record Pivot'!H33)","v":"3:52.3"},{"$f":"secs2string('Record Pivot'!I33)","v":"22.5"},{"$f":"secs2string('Record Pivot'!J33)","v":"8:25.8"},{"$f":"secs2string('Record Pivot'!K33)","v":"8:38.1"},{"$f":"secs2string('Record Pivot'!L33)","v":"49.8"},{"$f":"secs2string('Record Pivot'!M33)","v":"2:31.8"},{"$f":"secs2string('Record Pivot'!N33)","v":"5:33.6"},{"$f":"secs2string('Record Pivot'!O33)","v":"9:27.9"},{"$f":"secs2string('Record Pivot'!P33)","v":"7.8"},{"$f":"secs2string('Record Pivot'!Q33)","v":"14:45"},{"$f":"secs2string('Record Pivot'!R33)","v":"0"},{"$f":"secs2string('Record Pivot'!S33)","v":"1:58.7"},{"$f":"secs2string('Record Pivot'!T33)","v":"1:43.3"},{"$f":"secs2string('Record Pivot'!U33)","v":"26:38.4"},{"$f":"secs2string('Record Pivot'!V33)","v":"11:52.5"},{"$f":"secs2string('Record Pivot'!W33)","v":"1:09:03"},{"$f":"secs2string('Record Pivot'!X33)","v":"4:21.9"},{"$f":"secs2string('Record Pivot'!Y33)","v":"7.8"}]
["m29",{"$f":"secs2string('Record Pivot'!B34)","v":"2:22:37"},{"$f":"secs2string('Record Pivot'!C34)","v":"12.7"},{"$f":"secs2string('Record Pivot'!D34)","v":"30:30"},{"$f":"secs2string('Record Pivot'!E34)","v":"59:35"},{"$f":"secs2string('Record Pivot'!F34)","v":"4:15.7"},{"$f":"secs2string('Record Pivot'!G34)","v":"47:25"},{"$f":"secs2string('Record Pivot'!H34)","v":"3:55.9"},{"$f":"secs2string('Record Pivot'!I34)","v":"25.3"},{"$f":"secs2string('Record Pivot'!J34)","v":"8:25.8"},{"$f":"secs2string('Record Pivot'!K34)","v":"8:38.6"},{"$f":"secs2string('Record Pivot'!L34)","v":"53.4"},{"$f":"secs2string('Record Pivot'!M34)","v":"2:31.8"},{"$f":"secs2string('Record Pivot'!N34)","v":"5:33.6"},{"$f":"secs2string('Record Pivot'!O34)","v":"9:53"},{"$f":"secs2string('Record Pivot'!P34)","v":"9.2"},{"$f":"secs2string('Record Pivot'!Q34)","v":"14:52"},{"$f":"secs2string('Record Pivot'!R34)","v":"0"},{"$f":"secs2string('Record Pivot'!S34)","v":"1:57.9"},{"$f":"secs2string('Record Pivot'!T34)","v":"1:44.9"},{"$f":"secs2string('Record Pivot'!U34)","v":"29:40"},{"$f":"secs2string('Record Pivot'!V34)","v":"12:26.7"},{"$f":"secs2string('Record Pivot'!W34)","v":"0"},{"$f":"secs2string('Record Pivot'!X34)","v":"4:22.8"},{"$f":"secs2string('Record Pivot'!Y34)","v":"9.2"}]
["m34",{"$f":"secs2string('Record Pivot'!B35)","v":"3:16:40"},{"$f":"secs2string('Record Pivot'!C35)","v":"12.1"},{"$f":"secs2string('Record Pivot'!D35)","v":"32:42.2"},{"$f":"secs2string('Record Pivot'!E35)","v":"53:56"},{"$f":"secs2string('Record Pivot'!F35)","v":"4:16.9"},{"$f":"secs2string('Record Pivot'!G35)","v":"49:34"},{"$f":"secs2string('Record Pivot'!H35)","v":"3:55.9"},{"$f":"secs2string('Record Pivot'!I35)","v":"22.7"},{"$f":"secs2string('Record Pivot'!J35)","v":"8:35.9"},{"$f":"secs2string('Record Pivot'!K35)","v":"8:59.6"},{"$f":"secs2string('Record Pivot'!L35)","v":"50.7"},{"$f":"secs2string('Record Pivot'!M35)","v":"2:45.6"},{"$f":"secs2string('Record Pivot'!N35)","v":"5:55.3"},{"$f":"secs2string('Record Pivot'!O35)","v":"10:35.7"},{"$f":"secs2string('Record Pivot'!P35)","v":"7.9"},{"$f":"secs2string('Record Pivot'!Q35)","v":"15:49"},{"$f":"secs2string('Record Pivot'!R35)","v":"0"},{"$f":"secs2string('Record Pivot'!S35)","v":"2:00"},{"$f":"secs2string('Record Pivot'!T35)","v":"1:43.3"},{"$f":"secs2string('Record Pivot'!U35)","v":"27:17"},{"$f":"secs2string('Record Pivot'!V35)","v":"12:22.1"},{"$f":"secs2string('Record Pivot'!W35)","v":"1:13:43"},{"$f":"secs2string('Record Pivot'!X35)","v":"4:32.8"},{"$f":"secs2string('Record Pivot'!Y35)","v":"7.9"}]
["m39",{"$f":"secs2string('Record Pivot'!B36)","v":"3:19:52"},{"$f":"secs2string('Record Pivot'!C36)","v":"12.4"},{"$f":"secs2string('Record Pivot'!D36)","v":"32:45"},{"$f":"secs2string('Record Pivot'!E36)","v":"59:20"},{"$f":"secs2string('Record Pivot'!F36)","v":"4:31"},{"$f":"secs2string('Record Pivot'!G36)","v":"51:43"},{"$f":"secs2string('Record Pivot'!H36)","v":"3:56.7"},{"$f":"secs2string('Record Pivot'!I36)","v":"25.2"},{"$f":"secs2string('Record Pivot'!J36)","v":"8:49.1"},{"$f":"secs2string('Record Pivot'!K36)","v":"9:24"},{"$f":"secs2string('Record Pivot'!L36)","v":"51.9"},{"$f":"secs2string('Record Pivot'!M36)","v":"2:36.6"},{"$f":"secs2string('Record Pivot'!N36)","v":"5:47"},{"$f":"secs2string('Record Pivot'!O36)","v":"10:22.5"},{"$f":"secs2string('Record Pivot'!P36)","v":"7.4"},{"$f":"secs2string('Record Pivot'!Q36)","v":"15:40"},{"$f":"secs2string('Record Pivot'!R36)","v":"0"},{"$f":"secs2string('Record Pivot'!S36)","v":"2:03.1"},{"$f":"secs2string('Record Pivot'!T36)","v":"1:44.9"},{"$f":"secs2string('Record Pivot'!U36)","v":"27:12.2"},{"$f":"secs2string('Record Pivot'!V36)","v":"11:52.5"},{"$f":"secs2string('Record Pivot'!W36)","v":"1:09:59"},{"$f":"secs2string('Record Pivot'!X36)","v":"4:41"},{"$f":"secs2string('Record Pivot'!Y36)","v":"7.4"}]
["m44",{"$f":"secs2string('Record Pivot'!B37)","v":"3:57:17"},{"$f":"secs2string('Record Pivot'!C37)","v":"12.4"},{"$f":"secs2string('Record Pivot'!D37)","v":"35:40"},{"$f":"secs2string('Record Pivot'!E37)","v":"1:00:41"},{"$f":"secs2string('Record Pivot'!F37)","v":"4:35"},{"$f":"secs2string('Record Pivot'!G37)","v":"55:24"},{"$f":"secs2string('Record Pivot'!H37)","v":"3:52.3"},{"$f":"secs2string('Record Pivot'!I37)","v":"25.2"},{"$f":"secs2string('Record Pivot'!J37)","v":"8:54.6"},{"$f":"secs2string('Record Pivot'!K37)","v":"9:40"},{"$f":"secs2string('Record Pivot'!L37)","v":"55.8"},{"$f":"secs2string('Record Pivot'!M37)","v":"2:36.6"},{"$f":"secs2string('Record Pivot'!N37)","v":"5:33.6"},{"$f":"secs2string('Record Pivot'!O37)","v":"9:27.9"},{"$f":"secs2string('Record Pivot'!P37)","v":"7.5"},{"$f":"secs2string('Record Pivot'!Q37)","v":"16:44"},{"$f":"secs2string('Record Pivot'!R37)","v":"0"},{"$f":"secs2string('Record Pivot'!S37)","v":"2:11.9"},{"$f":"secs2string('Record Pivot'!T37)","v":"1:44.8"},{"$f":"secs2string('Record Pivot'!U37)","v":"30:41.5"},{"$f":"secs2string('Record Pivot'!V37)","v":"11:52.5"},{"$f":"secs2string('Record Pivot'!W37)","v":"1:37:47"},{"$f":"secs2string('Record Pivot'!X37)","v":"4:46"},{"$f":"secs2string('Record Pivot'!Y37)","v":"7.5"}]
["m49",{"$f":"secs2string('Record Pivot'!B38)","v":"3:22:46"},{"$f":"secs2string('Record Pivot'!C38)","v":"12.5"},{"$f":"secs2string('Record Pivot'!D38)","v":"36:10"},{"$f":"secs2string('Record Pivot'!E38)","v":"1:03:33"},{"$f":"secs2string('Record Pivot'!F38)","v":"4:48.4"},{"$f":"secs2string('Record Pivot'!G38)","v":"54:30"},{"$f":"secs2string('Record Pivot'!H38)","v":"4:05"},{"$f":"secs2string('Record Pivot'!I38)","v":"25"},{"$f":"secs2string('Record Pivot'!J38)","v":"9:11.5"},{"$f":"secs2string('Record Pivot'!K38)","v":"9:57"},{"$f":"secs2string('Record Pivot'!L38)","v":"56.1"},{"$f":"secs2string('Record Pivot'!M38)","v":"2:36.6"},{"$f":"secs2string('Record Pivot'!N38)","v":"5:33.6"},{"$f":"secs2string('Record Pivot'!O38)","v":"9:51.7"},{"$f":"secs2string('Record Pivot'!P38)","v":"7.6"},{"$f":"secs2string('Record Pivot'!Q38)","v":"17:14"},{"$f":"secs2string('Record Pivot'!R38)","v":"0"},{"$f":"secs2string('Record Pivot'!S38)","v":"2:16.8"},{"$f":"secs2string('Record Pivot'!T38)","v":"1:43.3"},{"$f":"secs2string('Record Pivot'!U38)","v":"31:00.9"},{"$f":"secs2string('Record Pivot'!V38)","v":"11:53"},{"$f":"secs2string('Record Pivot'!W38)","v":"1:31:28"},{"$f":"secs2string('Record Pivot'!X38)","v":"4:52.6"},{"$f":"secs2string('Record Pivot'!Y38)","v":"7.6"}]
["m54",{"$f":"secs2string('Record Pivot'!B39)","v":"9:30:08.2"},{"$f":"secs2string('Record Pivot'!C39)","v":"13"},{"$f":"secs2string('Record Pivot'!D39)","v":"36:41"},{"$f":"secs2string('Record Pivot'!E39)","v":"58:18"},{"$f":"secs2string('Record Pivot'!F39)","v":"4:51.3"},{"$f":"secs2string('Record Pivot'!G39)","v":"55:31"},{"$f":"secs2string('Record Pivot'!H39)","v":"3:56.7"},{"$f":"secs2string('Record Pivot'!I39)","v":"26.8"},{"$f":"secs2string('Record Pivot'!J39)","v":"9:25.3"},{"$f":"secs2string('Record Pivot'!K39)","v":"10:00.9"},{"$f":"secs2string('Record Pivot'!L39)","v":"1:00.5"},{"$f":"secs2string('Record Pivot'!M39)","v":"2:44.5"},{"$f":"secs2string('Record Pivot'!N39)","v":"5:47"},{"$f":"secs2string('Record Pivot'!O39)","v":"9:51.7"},{"$f":"secs2string('Record Pivot'!P39)","v":"7.9"},{"$f":"secs2string('Record Pivot'!Q39)","v":"17:44"},{"$f":"secs2string('Record Pivot'!R39)","v":"0"},{"$f":"secs2string('Record Pivot'!S39)","v":"2:19.3"},{"$f":"secs2string('Record Pivot'!T39)","v":"1:43.3"},{"$f":"secs2string('Record Pivot'!U39)","v":"30:44.9"},{"$f":"secs2string('Record Pivot'!V39)","v":"11:53"},{"$f":"secs2string('Record Pivot'!W39)","v":"1:24:00"},{"$f":"secs2string('Record Pivot'!X39)","v":"4:59.8"},{"$f":"secs2string('Record Pivot'!Y39)","v":"7.9"}]
["m59",{"$f":"secs2string('Record Pivot'!B40)","v":"3:59:48"},{"$f":"secs2string('Record Pivot'!C40)","v":"12.4"},{"$f":"secs2string('Record Pivot'!D40)","v":"40:18"},{"$f":"secs2string('Record Pivot'!E40)","v":"1:18:07"},{"$f":"secs2string('Record Pivot'!F40)","v":"4:51"},{"$f":"secs2string('Record Pivot'!G40)","v":"59:21"},{"$f":"secs2string('Record Pivot'!H40)","v":"3:55.9"},{"$f":"secs2string('Record Pivot'!I40)","v":"26.1"},{"$f":"secs2string('Record Pivot'!J40)","v":"8:52.8"},{"$f":"secs2string('Record Pivot'!K40)","v":"10:24.6"},{"$f":"secs2string('Record Pivot'!L40)","v":"59.9"},{"$f":"secs2string('Record Pivot'!M40)","v":"2:43.3"},{"$f":"secs2string('Record Pivot'!N40)","v":"6:15.6"},{"$f":"secs2string('Record Pivot'!O40)","v":"10:35"},{"$f":"secs2string('Record Pivot'!P40)","v":"8.1"},{"$f":"secs2string('Record Pivot'!Q40)","v":"18:09"},{"$f":"secs2string('Record Pivot'!R40)","v":"0"},{"$f":"secs2string('Record Pivot'!S40)","v":"2:24.6"},{"$f":"secs2string('Record Pivot'!T40)","v":"1:44"},{"$f":"secs2string('Record Pivot'!U40)","v":"30:16.7"},{"$f":"secs2string('Record Pivot'!V40)","v":"12:22.1"},{"$f":"secs2string('Record Pivot'!W40)","v":"1:49:53"},{"$f":"secs2string('Record Pivot'!X40)","v":"5:25.3"},{"$f":"secs2string('Record Pivot'!Y40)","v":"8.1"}]
["m64",{"$f":"secs2string('Record Pivot'!B41)","v":"0"},{"$f":"secs2string('Record Pivot'!C41)","v":"13.2"},{"$f":"secs2string('Record Pivot'!D41)","v":"41:32.5"},{"$f":"secs2string('Record Pivot'!E41)","v":"1:19:27"},{"$f":"secs2string('Record Pivot'!F41)","v":"5:19.6"},{"$f":"secs2string('Record Pivot'!G41)","v":"1:00:09"},{"$f":"secs2string('Record Pivot'!H41)","v":"4:01.3"},{"$f":"secs2string('Record Pivot'!I41)","v":"27.7"},{"$f":"secs2string('Record Pivot'!J41)","v":"9:46.5"},{"$f":"secs2string('Record Pivot'!K41)","v":"11:10"},{"$f":"secs2string('Record Pivot'!L41)","v":"1:03.6"},{"$f":"secs2string('Record Pivot'!M41)","v":"2:51.4"},{"$f":"secs2string('Record Pivot'!N41)","v":"6:09.8"},{"$f":"secs2string('Record Pivot'!O41)","v":"10:50.2"},{"$f":"secs2string('Record Pivot'!P41)","v":"8.1"},{"$f":"secs2string('Record Pivot'!Q41)","v":"19:59.7"},{"$f":"secs2string('Record Pivot'!R41)","v":"0"},{"$f":"secs2string('Record Pivot'!S41)","v":"2:35.9"},{"$f":"secs2string('Record Pivot'!T41)","v":"1:44.8"},{"$f":"secs2string('Record Pivot'!U41)","v":"35:33.2"},{"$f":"secs2string('Record Pivot'!V41)","v":"12:46.1"},{"$f":"secs2string('Record Pivot'!W41)","v":"1:44:55"},{"$f":"secs2string('Record Pivot'!X41)","v":"6:02.2"},{"$f":"secs2string('Record Pivot'!Y41)","v":"8.1"}]
["m69",{"$f":"secs2string('Record Pivot'!B42)","v":"0"},{"$f":"secs2string('Record Pivot'!C42)","v":"14.6"},{"$f":"secs2string('Record Pivot'!D42)","v":"49:59"},{"$f":"secs2string('Record Pivot'!E42)","v":"1:59:03"},{"$f":"secs2string('Record Pivot'!F42)","v":"6:29"},{"$f":"secs2string('Record Pivot'!G42)","v":"1:17:11.2"},{"$f":"secs2string('Record Pivot'!H42)","v":"4:21.8"},{"$f":"secs2string('Record Pivot'!I42)","v":"28.2"},{"$f":"secs2string('Record Pivot'!J42)","v":"9:58.1"},{"$f":"secs2string('Record Pivot'!K42)","v":"13:15.2"},{"$f":"secs2string('Record Pivot'!L42)","v":"1:08.7"},{"$f":"secs2string('Record Pivot'!M42)","v":"2:44.5"},{"$f":"secs2string('Record Pivot'!N42)","v":"6:19.8"},{"$f":"secs2string('Record Pivot'!O42)","v":"11:22.6"},{"$f":"secs2string('Record Pivot'!P42)","v":"8.4"},{"$f":"secs2string('Record Pivot'!Q42)","v":"22:57"},{"$f":"secs2string('Record Pivot'!R42)","v":"0"},{"$f":"secs2string('Record Pivot'!S42)","v":"2:52.2"},{"$f":"secs2string('Record Pivot'!T42)","v":"1:49.1"},{"$f":"secs2string('Record Pivot'!U42)","v":"43:49.2"},{"$f":"secs2string('Record Pivot'!V42)","v":"16:30"},{"$f":"secs2string('Record Pivot'!W42)","v":"0"},{"$f":"secs2string('Record Pivot'!X42)","v":"6:39.7"},{"$f":"secs2string('Record Pivot'!Y42)","v":"8.4"}]
["m74",{"$f":"secs2string('Record Pivot'!B43)","v":"0"},{"$f":"secs2string('Record Pivot'!C43)","v":"16.2"},{"$f":"secs2string('Record Pivot'!D43)","v":"49:18"},{"$f":"secs2string('Record Pivot'!E43)","v":"1:45:35"},{"$f":"secs2string('Record Pivot'!F43)","v":"6:54.8"},{"$f":"secs2string('Record Pivot'!G43)","v":"1:17:59"},{"$f":"secs2string('Record Pivot'!H43)","v":"4:38.5"},{"$f":"secs2string('Record Pivot'!I43)","v":"33.6"},{"$f":"secs2string('Record Pivot'!J43)","v":"11:08"},{"$f":"secs2string('Record Pivot'!K43)","v":"13:38.9"},{"$f":"secs2string('Record Pivot'!L43)","v":"1:18.5"},{"$f":"secs2string('Record Pivot'!M43)","v":"3:21.8"},{"$f":"secs2string('Record Pivot'!N43)","v":"7:22.1"},{"$f":"secs2string('Record Pivot'!O43)","v":"10:34.7"},{"$f":"secs2string('Record Pivot'!P43)","v":"9.6"},{"$f":"secs2string('Record Pivot'!Q43)","v":"23:22.4"},{"$f":"secs2string('Record Pivot'!R43)","v":"0"},{"$f":"secs2string('Record Pivot'!S43)","v":"3:19.3"},{"$f":"secs2string('Record Pivot'!T43)","v":"1:59.3"},{"$f":"secs2string('Record Pivot'!U43)","v":"44:54.1"},{"$f":"secs2string('Record Pivot'!V43)","v":"16:30"},{"$f":"secs2string('Record Pivot'!W43)","v":"0"},{"$f":"secs2string('Record Pivot'!X43)","v":"7:59.1"},{"$f":"secs2string('Record Pivot'!Y43)","v":"9.6"}]
["m79",{"$f":"secs2string('Record Pivot'!B44)","v":"0"},{"$f":"secs2string('Record Pivot'!C44)","v":"18.8"},{"$f":"secs2string('Record Pivot'!D44)","v":"1:09:00"},{"$f":"secs2string('Record Pivot'!E44)","v":"2:18:58"},{"$f":"secs2string('Record Pivot'!F44)","v":"7:57.3"},{"$f":"secs2string('Record Pivot'!G44)","v":"0"},{"$f":"secs2string('Record Pivot'!H44)","v":"5:03.1"},{"$f":"secs2string('Record Pivot'!I44)","v":"38.6"},{"$f":"secs2string('Record Pivot'!J44)","v":"12:28.7"},{"$f":"secs2string('Record Pivot'!K44)","v":"15:23.6"},{"$f":"secs2string('Record Pivot'!L44)","v":"1:26.8"},{"$f":"secs2string('Record Pivot'!M44)","v":"2:59.9"},{"$f":"secs2string('Record Pivot'!N44)","v":"7:18"},{"$f":"secs2string('Record Pivot'!O44)","v":"10:39.1"},{"$f":"secs2string('Record Pivot'!P44)","v":"11.3"},{"$f":"secs2string('Record Pivot'!Q44)","v":"28:20"},{"$f":"secs2string('Record Pivot'!R44)","v":"0"},{"$f":"secs2string('Record Pivot'!S44)","v":"3:41.4"},{"$f":"secs2string('Record Pivot'!T44)","v":"2:07.7"},{"$f":"secs2string('Record Pivot'!U44)","v":"45:55.7"},{"$f":"secs2string('Record Pivot'!V44)","v":"0"},{"$f":"secs2string('Record Pivot'!W44)","v":"0"},{"$f":"secs2string('Record Pivot'!X44)","v":"8:09.4"},{"$f":"secs2string('Record Pivot'!Y44)","v":"11.3"}]
["m84",{"$f":"secs2string('Record Pivot'!B45)","v":"0"},{"$f":"secs2string('Record Pivot'!C45)","v":"19.7"},{"$f":"secs2string('Record Pivot'!D45)","v":"0"},{"$f":"secs2string('Record Pivot'!E45)","v":"0"},{"$f":"secs2string('Record Pivot'!F45)","v":"10:41"},{"$f":"secs2string('Record Pivot'!G45)","v":"0"},{"$f":"secs2string('Record Pivot'!H45)","v":"5:16.2"},{"$f":"secs2string('Record Pivot'!I45)","v":"45.6"},{"$f":"secs2string('Record Pivot'!J45)","v":"12:53.8"},{"$f":"secs2string('Record Pivot'!K45)","v":"21:37.2"},{"$f":"secs2string('Record Pivot'!L45)","v":"1:51.8"},{"$f":"secs2string('Record Pivot'!M45)","v":"0"},{"$f":"secs2string('Record Pivot'!N45)","v":"0"},{"$f":"secs2string('Record Pivot'!O45)","v":"0"},{"$f":"secs2string('Record Pivot'!P45)","v":"0"},{"$f":"secs2string('Record Pivot'!Q45)","v":"44:54"},{"$f":"secs2string('Record Pivot'!R45)","v":"0"},{"$f":"secs2string('Record Pivot'!S45)","v":"4:48.5"},{"$f":"secs2string('Record Pivot'!T45)","v":"2:28.4"},{"$f":"secs2string('Record Pivot'!U45)","v":"0"},{"$f":"secs2string('Record Pivot'!V45)","v":"0"},{"$f":"secs2string('Record Pivot'!W45)","v":"0"},{"$f":"secs2string('Record Pivot'!X45)","v":"10:54.2"},{"$f":"secs2string('Record Pivot'!Y45)","v":"19.7"}]
["m89",{"$f":"secs2string('Record Pivot'!B46)","v":"0"},{"$f":"secs2string('Record Pivot'!C46)","v":"24.5"},{"$f":"secs2string('Record Pivot'!D46)","v":"0"},{"$f":"secs2string('Record Pivot'!E46)","v":"0"},{"$f":"secs2string('Record Pivot'!F46)","v":"13:24.2"},{"$f":"secs2string('Record Pivot'!G46)","v":"0"},{"$f":"secs2string('Record Pivot'!H46)","v":"7:54.5"},{"$f":"secs2string('Record Pivot'!I46)","v":"55.1"},{"$f":"secs2string('Record Pivot'!J46)","v":"0"},{"$f":"secs2string('Record Pivot'!K46)","v":"0"},{"$f":"secs2string('Record Pivot'!L46)","v":"2:27.6"},{"$f":"secs2string('Record Pivot'!M46)","v":"3:39.9"},{"$f":"secs2string('Record Pivot'!N46)","v":"8:56.9"},{"$f":"secs2string('Record Pivot'!O46)","v":"16:51.1"},{"$f":"secs2string('Record Pivot'!P46)","v":"18.7"},{"$f":"secs2string('Record Pivot'!Q46)","v":"0"},{"$f":"secs2string('Record Pivot'!R46)","v":"0"},{"$f":"secs2string('Record Pivot'!S46)","v":"5:59.1"},{"$f":"secs2string('Record Pivot'!T46)","v":"2:58.3"},{"$f":"secs2string('Record Pivot'!U46)","v":"0"},{"$f":"secs2string('Record Pivot'!V46)","v":"0"},{"$f":"secs2string('Record Pivot'!W46)","v":"0"},{"$f":"secs2string('Record Pivot'!X46)","v":"0"},{"$f":"secs2string('Record Pivot'!Y46)","v":"18.7"}]
["m94",{"$f":"secs2string('Record Pivot'!B47)","v":"2:22:08"},{"$f":"secs2string('Record Pivot'!C47)","v":"11.2"},{"$f":"secs2string('Record Pivot'!D47)","v":"30:30"},{"$f":"secs2string('Record Pivot'!E47)","v":"53:56"},{"$f":"secs2string('Record Pivot'!F47)","v":"3:56.5"},{"$f":"secs2string('Record Pivot'!G47)","v":"47:25"},{"$f":"secs2string('Record Pivot'!H47)","v":"3:52.3"},{"$f":"secs2string('Record Pivot'!I47)","v":"22.5"},{"$f":"secs2string('Record Pivot'!J47)","v":"8:25.8"},{"$f":"secs2string('Record Pivot'!K47)","v":"8:38.1"},{"$f":"secs2string('Record Pivot'!L47)","v":"49.8"},{"$f":"secs2string('Record Pivot'!M47)","v":"2:31.8"},{"$f":"secs2string('Record Pivot'!N47)","v":"5:33.6"},{"$f":"secs2string('Record Pivot'!O47)","v":"9:27.9"},{"$f":"secs2string('Record Pivot'!P47)","v":"7.3"},{"$f":"secs2string('Record Pivot'!Q47)","v":"14:45"},{"$f":"secs2string('Record Pivot'!R47)","v":"37:09"},{"$f":"secs2string('Record Pivot'!S47)","v":"1:57.9"},{"$f":"secs2string('Record Pivot'!T47)","v":"1:43.3"},{"$f":"secs2string('Record Pivot'!U47)","v":"26:38.4"},{"$f":"secs2string('Record Pivot'!V47)","v":"11:52.5"},{"$f":"secs2string('Record Pivot'!W47)","v":"1:09:03"},{"$f":"secs2string('Record Pivot'!X47)","v":"4:21.9"},{"$f":"secs2string('Record Pivot'!Y47)","v":"7.3"}]

{"sheet":"Avg Pivot","index":1,"n_rows":45,"n_cols":25,"rows_kept":45,"cut":false,"hidden":false,"merged":[]}
["Average of TIME(SECS)","Column Labels"]
["Row Labels","mar","100m","10k","10M","1500m","15k","1600r","200m","3200r","3k","400m","4x1manley","4x2manley","4x3manley","55m","5k","5M","800m","800r","8k","dmr","hmar","mile","Grand Total"]
["f05",null,null,null,null,null,null,null,60.05,null,null,null,null,790.1,null,null,null,null,null,null,null,null,null,null,303.40000000000003]
["f06",null,24.1,null,null,null,null,null,59.75,null,null,null,null,null,null,null,null,null,null,null,null,null,null,null,47.866666666666674]
["f07",null,23.1,null,null,null,null,null,53.949999999999996,null,null,94.6,null,null,null,null,null,null,203.6,null,null,null,null,null,70.025000000000006]
["f09",null,18,null,null,null,null,317.7,46.785714285714285,null,995.7,115.8,null,null,null,null,1810,null,258.14999999999998,136.69999999999999,null,null,null,570.59999999999991,379.31052631578945]
["f13",null,18.033333333333335,3321.4,null,325.89999999999998,null,null,40.270000000000003,null,883.74,98.82,null,null,null,9.5399999999999991,1808.3200000000002,null,205.8,144.4,null,null,null,449.52999999999992,391.42186666666657]
["f15",null,16.399999999999999,null,4813,340,null,309,33.466666666666661,654.29999999999995,709.35,73.400000000000006,null,null,null,null,1362,null,173.67499999999998,135.20000000000002,null,null,null,null,684.79642857142858]
["f17",null,null,null,null,304.83999999999997,null,260.89999999999998,31.9,648.4,642.44000000000005,69.900000000000006,null,null,null,null,null,null,214.95,112.2,2819.7,null,null,391.1,660.23714285714289]
["f19",null,14.5,null,null,427.5,null,null,27.9,null,680.5,null,null,null,null,null,null,null,null,null,null,null,null,407.65,327.61666666666667]
["f29",14704.25,23.164285714285718,2637.7518181818182,4860.2,376.48999999999995,4057.6800000000003,321.98181818181826,51.030147058823516,706.41666666666663,798.84375,80.015735294117661,192.9,499.4,730.5,9.44,1510.1442857142856,null,190.84431034482756,139.05490196078429,2345.1,846,6518.5714285714284,392.70488888888883,780.5137397034589]
["f34",12452.5,17.237931034482752,2887.2148148148144,5432.3,346.88,4511.4214285714288,301.77948717948715,39.892982456140345,714.22608695652161,837.98846153846148,87.922950819672138,270.82,510.63333333333327,930.35,8.94,1425.0189655172414,null,192.07258620689657,132.78297872340423,3142.75,847,5914,453.9177777777777,774.66264367815961]
["f39",13852.833333333334,17.358108108108105,3061.4535714285712,5271.5,397.7695652173914,4597.9227272727276,305.7838709677419,40.060975609756106,722.26065573770506,802.4937500000002,88.067058823529393,244.91538461538462,564.44999999999993,863.76666666666677,18.940000000000001,1466.5000000000005,null,194.64352941176466,133.96973684210528,2577.2999999999997,893.85714285714278,6384.5,410.99018518518534,837.59225842696731]
["f44",14169.5,18.995522388059705,2975.8282608695649,4903.625,370.47740740740738,4363.5714285714284,314.05303030303031,39.420980392156856,745.96111111111111,826.73782051282069,90.649999999999991,216.7,473.89375000000001,755.85,10.011428571428571,1565.151578947369,null,190.77360465116283,138.26933333333329,2835.04,825.45,6430,412.7773214285715,890.55492693110705]
["f49",14773,19.561058823529411,2920.5238095238096,5142.894736842105,427.81739130434772,4650.3117647058816,313.64347826086959,42.646206896551718,737.89482758620693,880.11087499999974,94.390388349514566,233.44444444444446,543.22222222222217,817.78823529411761,12.195555555555554,1539.3738636363632,null,212.08365384615388,143.85029411764708,2675.7368421052633,905.6,7854.2363636363643,453.70194029850728,887.63673003802262]
["f54",15025,18.667857142857141,8908.9249999999993,4851.3076923076924,446,4452.4518518518516,332.0046875000001,71.001000000000019,729.47812500000009,901.81202380952425,92.143181818181858,239.70833333333334,516.23571428571427,790.41250000000002,9.8949999999999996,1496.9880434782608,null,205.61405797101449,149.91034482758619,2482.53125,null,7225.75,439.11000000000007,989.94541176470739]
["f59",13860,20.87028985507246,3050.3416666666667,4885.333333333333,410.64735294117651,4527.937931034483,334.48260869565235,42.716631578947357,771.62500000000034,888.64800000000002,94.815333333333328,222.01428571428571,532.43243243243239,856.41212121212129,12.175624999999998,1519.3019480519479,null,206.57381578947368,148.64999999999998,2518.931818181818,null,7020.545454545455,434.11714285714288,840.34811891891763]
["f64",null,19.755294117647065,3166.3249999999998,4900.25,394.70173913043482,4798.9299999999994,323.92727272727274,44.830925925925925,733.54285714285732,907.64960000000008,93.659482758620712,221.97666666666672,469.25199999999995,755.4157894736843,10.34,1528.4975609756095,2229,215.82960000000006,139.42499999999998,2430.0124999999998,null,6932.333333333333,491.12157894736839,844.85750448833039]
["f69",29206.5,21.591764705882355,3418.6777777777775,4890.333333333333,446.35263157894741,5365.7,346.10000000000008,42.707692307692305,783.55294117647043,1040.5052631578947,101.31609756097563,211.08823529411765,509.73571428571421,845.44375000000014,10.264999999999999,1795.0374418604647,null,239.29210526315791,151.95357142857145,2755.0633333333335,948.3,8239.25,563.11052631578934,900.65280172413827]
["f74",20663,32.424999999999997,3665.5,6735,649.42500000000007,5830.666666666667,414.57777777777778,63.00913043478262,891.48571428571427,1186.0818181818181,146.34117647058824,209.16000000000003,551.65000000000009,920.81666666666661,13.762500000000001,1985.8384615384616,null,303.52499999999998,178.51428571428573,3590.85,null,null,519.53666666666675,891.0430769230768]
["f79",null,36.379999999999995,null,null,598.69999999999993,null,null,59.114285714285714,null,1274.625,131.96666666666667,230,538.20000000000005,820.56666666666661,14.168571428571429,2144.2599999999998,null,305.60000000000002,null,3613.1666666666665,null,null,646.95000000000005,716.14078431372548]
["m05",null,20.549999999999997,null,null,null,null,null,54.75,null,null,101.6,null,null,null,null,2272,null,222,null,null,null,null,null,392.31428571428569]
["m06",null,null,null,null,452.2,null,437.6,40.5,1127,1195,null,null,null,null,10.4,1657,null,null,166.8,null,null,null,null,635.81250000000011]
["m07",null,null,null,null,null,null,null,46.374999999999993,null,802.65,null,null,null,null,10.173333333333332,1386,null,264.39999999999998,154.89999999999998,null,null,null,408.7,244.21684210526314]
["m09",null,19.100000000000001,null,null,null,null,null,39.6,null,799,null,null,null,null,9.64,null,null,null,null,null,null,null,462.6,265.988]
["m11",null,19.333333333333332,null,null,null,null,null,41.100000000000009,null,1025.9000000000001,91.825000000000003,189.3,null,null,9.64,1439.4,null,201.84399999999999,162.30000000000001,null,null,null,486.7,292.21241379310345]
["m13",null,15.5,2738,null,null,null,null,31.8,619.29999999999995,795.5,84.15,null,null,null,9.3733333333333331,1472.25,null,182.69166666666669,null,null,null,null,455.41666666666669,465.40291666666667]
["m15",null,null,2552,4096,null,3845,null,45.2,638.70000000000005,845.45,122.5,null,null,null,8.5399999999999991,1111.5,null,162.19999999999999,128.80000000000001,1918,null,null,348.51333333333332,976.09600000000023]
["m17",null,15.5,null,null,null,3988.5,null,36.06666666666667,623.40000000000009,621.5,null,192,null,891.6,8.24,1125.6666666666667,null,127.14,113.4,2108.75,null,null,315.54333333333335,807.08600000000001]
["m19",null,null,null,null,305.5,4146.8,290.26666666666665,32.871428571428574,null,726.52499999999998,65.8,188.38333333333333,445.42499999999995,null,7.4399999999999995,1391,null,159.92857142857142,113.4,2137.1,null,null,411.77500000000003,417.18784313725496]
["m29",12383.4,13.93520547945206,2552.7909090909093,3989.875,285.25107142857149,3856.7097560975603,280.69290780141819,30.300558659217863,649.67685039370065,654.8695945945949,64.424139784946192,194.26111111111109,439.29545454545462,701.82499999999993,7.9650000000000007,1134.7319727891154,null,146.9966463414633,123.63461538461543,1876.35,787.90000000000009,4719.666666666667,319.1053658536585,554.23566027088089]
["m34",9806,14.70842105263158,2506.4826923076926,4762.5,299.28266666666667,3921.6764705882351,283.59339622641511,29.898198198198191,660.9317894736846,710.95744897959185,64.584259259259284,198.35000000000002,432.13749999999999,791.19999999999982,9.7899999999999991,1221.7036190476194,null,152.32525252525252,125.17333333333329,1780,746.7,null,348.24886363636375,618.75920593368278]
["m39",12246,14.454636871508381,2662.7576923076927,4267.4920000000002,335.33404255319147,3885.0802197802195,287.89432314410465,31.059920634920644,663.57447916666638,694.89310344827595,67.123999999999995,204.12857142857143,479.96999999999997,710.39999999999986,8.16,1208.3684684684688,null,152.24460093896715,127.52090163934432,1961.8583333333333,832.13000000000011,5533.25,344.62214285714276,662.27318663406629]
["m44",11992,15.219138755980847,2542.6363636363635,4264.8205128205127,323.37500000000006,3761.0522222222216,287.99116465863455,31.239774436090229,665.23725490196057,690.78468750000036,68.203015267175644,197.66956521739129,481.67857142857144,760.60434782608706,8.2799999999999994,1184.8341269841267,null,155.5698023715415,127.23309608540927,2043.2080000000001,815.1,5625,337.404824120603,641.15286657400839]
["m49",16435,15.795964125560534,2564.6546218487392,4624.104166666667,338.89013698630129,3946.9804123711338,292.57602996254667,32.499999999999986,683.64871794871794,719.97734082397039,70.591636363636439,195.3333333333334,448.06250000000006,710.47500000000002,8.557894736842103,1257.5129537366547,null,161.56638059701496,130.58273615635179,2168.7200000000003,821.84999999999991,6013,356.49933014354065,676.74081228013995]
["m54",13075.142857142857,16.136453201970429,2721.5175438596498,4665.7169811320755,347.40129870129874,4182.3867346938769,298.54038461538471,33.686343283582083,690.96387434554993,749.49547511312255,74.094839857651294,200.58813559322036,434.49148936170212,730.60434782608718,9.4910344827586215,1298.9341772151906,null,172.58576335877859,134.8927659574467,2170.8285714285716,875.72,6177.25,370.21736842105264,763.09124439848324]
["m59",34208.199999999997,16.948969072164946,2903.5536363636365,5099.8157894736842,377.73485436893196,4476.4047058823526,305.94805825242702,34.560937500000016,697.66987951807243,802.89360594795573,77.721992882562262,207.57555555555555,472.83157894736826,768.64888888888902,9.5553124999999994,1399.6526315789483,null,179.38600746268665,137.84444444444443,2356.15,805.36363636363637,6129.3,401.89467455621281,737.73285714285862]
["m64",14388,17.035707964601759,2963.8690476190473,4949.5,398.31407894736833,4548.1975903614448,306.88724489795891,35.257956204379582,728.86107784431113,855.6338325991187,83.107559055118116,204.63823529411761,497.51750000000004,801.05000000000007,9.4641666666666673,1450.5070731707317,null,191.05565040650407,137.79880733944947,2542.9956521739127,826.72500000000002,6925.666666666667,428.67524822695066,679.20330243337196]
["m69",null,18.166689655172416,3143.0490566037743,5586,439.98589285714297,4945.0450000000001,316.59819819819813,40.55157608695653,729.43092783505108,899.14513888888882,87.308780487804881,218.73018867924515,523.77948717948721,804.60249999999996,10.034444444444446,1559.3361538461538,null,209.65286624203813,139.78529032258061,2724.5857142857144,819.55,6295,447.72378947368423,668.46190011481042]
["m74",null,19.730229885057472,3486.6,7143,456.85038461538454,5599.1785714285716,329.42162162162151,42.732499999999995,767.5796875000002,958.22021276595763,94.192362204724361,240.42500000000001,543.13636363636363,876.92499999999995,11.356666666666666,1743.4675324675325,null,234.87979797979801,143.80108695652177,2811.8,990,null,499.3356060606061,594.12515240904679]
["m79",null,22.641891891891884,3820.4,6926,509.39393939393938,5562.8777777777777,349.88181818181829,48.271445783132535,848.69459459459449,1113.1282051282055,106.045,238.80000000000004,532.11,829.73749999999995,12.165000000000001,1866.2617647058819,null,261.42682352941176,159.09464285714284,3370.9166666666665,990,null,554.22454545454571,685.38016688061634]
["m84",null,26.259523809523806,4556.1750000000002,8338,625.91111111111115,null,372.12631578947372,52.208108108108114,858.57333333333338,1268.3020833333333,130.12500000000003,252.05238095238096,612.68333333333339,951.53684210526342,14.449090909090909,2094.0388888888888,null,310.71357142857141,146.48695652173913,3446.8599999999997,null,null,620.02400000000011,664.43567129629662]
["m89",null,26.070588235294121,null,null,697.35,null,351.05714285714288,55.680952380952377,920.9666666666667,1643.8714285714289,148.5625,null,null,null,null,2801.5749999999998,null,373.28750000000002,153.81,null,null,null,828.81142857142856,441.97028571428552]
["m94",null,29.024999999999999,null,null,889.6,null,474.5,106.52250000000001,null,null,228.238,258.26666666666665,595.93333333333328,1097.7666666666667,25.939999999999998,null,null,414.74,178.3,null,null,null,null,363.46387096774197]
["Grand Total",14736.472340425531,17.531268808458709,2989.0421172353449,4806.2770348837212,390.72233576642321,4280.5256849315074,303.34124783362159,38.03344740177441,703.47834319526828,811.20268328991415,81.460624593363548,215.20578512396671,494.08739495798307,793.93137254902035,10.355979020979014,1399.4879377577804,2229,186.21612903225807,135.03370919881311,2426.2357107843127,839.26190476190459,6463.1203539823009,398.75874115267999,714.36431123992725]

{"sheet":"Count Pivot","index":2,"n_rows":47,"n_cols":25,"rows_kept":47,"cut":false,"hidden":false,"merged":[]}
[]
[]
["Count of TIME(SECS)","Column Labels"]
["Row Labels","mar","100m","10k","10M","1500m","15k","1600r","200m","3200r","3k","400m","4x1manley","4x2manley","4x3manley","55m","5k","5M","800m","800r","8k","dmr","hmar","mile","Grand Total"]
["f05",null,null,null,null,null,null,null,2,null,null,null,null,1,null,null,null,null,null,null,null,null,null,null,3]
["f06",null,1,null,null,null,null,null,2,null,null,null,null,null,null,null,null,null,null,null,null,null,null,null,3]
["f07",null,2,null,null,null,null,null,4,null,null,1,null,null,null,null,null,null,1,null,null,null,null,null,8]
["f09",null,2,null,null,null,null,1,7,null,1,1,null,null,null,null,2,null,2,1,null,null,null,2,19]
["f13",null,9,2,null,2,null,null,20,null,5,10,null,null,null,1,5,null,9,2,null,null,null,10,75]
["f15",null,2,null,2,2,null,2,3,2,4,2,null,null,null,null,2,null,4,3,null,null,null,null,28]
["f17",null,null,null,null,1,null,1,1,1,2,2,null,null,null,null,null,null,2,1,2,null,null,1,14]
["f19",null,1,null,null,1,null,null,1,null,1,null,null,null,null,null,null,null,null,null,null,null,null,2,6]
["f29",4,42,22,5,15,10,44,68,42,48,68,2,1,1,1,70,null,58,51,2,1,7,45,607]
["f34",2,58,27,10,10,14,39,57,46,52,61,5,6,6,1,58,null,58,47,2,3,2,45,609]
["f39",6,74,28,12,23,22,62,82,61,80,85,13,8,6,1,88,null,85,76,11,7,6,54,890]
["f44",6,67,46,16,27,21,66,102,54,78,98,8,16,10,7,95,null,86,75,10,4,10,56,958]
["f49",2,85,42,19,23,34,69,116,58,80,103,18,18,17,9,88,null,104,68,19,2,11,67,1052]
["f54",1,84,32,13,12,27,64,100,64,84,88,12,14,8,4,92,null,69,87,16,null,4,60,935]
["f59",1,69,36,6,34,29,46,95,48,75,90,28,37,33,16,77,null,76,54,22,null,11,42,925]
["f64",null,34,20,8,23,20,22,54,28,50,58,30,25,19,8,41,1,50,28,16,null,3,19,557]
["f69",2,51,9,3,19,10,21,52,17,38,41,17,14,16,12,43,null,38,28,9,1,4,19,464]
["f74",1,20,4,1,8,3,9,23,7,11,17,5,4,6,4,13,null,16,7,4,null,null,6,169]
["f79",null,5,null,null,3,null,null,7,null,4,3,3,3,3,7,5,null,3,null,3,null,null,2,51]
["m05",null,2,null,null,null,null,null,2,null,null,1,null,null,null,null,1,null,1,null,null,null,null,null,7]
["m06",null,null,null,null,1,null,1,1,1,1,null,null,null,null,1,1,null,null,1,null,null,null,null,8]
["m07",null,null,null,null,null,null,null,8,null,2,null,null,null,null,3,1,null,2,2,null,null,null,1,19]
["m09",null,1,null,null,null,null,null,1,null,1,null,null,null,null,1,null,null,null,null,null,null,null,1,5]
["m11",null,3,null,null,null,null,null,7,null,2,4,1,null,null,1,2,null,5,1,null,null,null,3,29]
["m13",null,1,1,null,null,null,null,1,1,1,2,null,null,null,3,2,null,6,null,null,null,null,6,24]
["m15",null,null,1,1,null,1,null,1,1,2,1,null,null,null,1,2,null,1,1,1,null,null,6,20]
["m17",null,2,null,null,null,2,null,3,2,1,null,2,null,1,1,3,null,2,1,2,null,null,3,25]
["m19",null,null,null,null,2,1,3,7,null,4,6,6,4,null,2,3,null,7,1,1,null,null,4,51]
["m29",5,146,55,8,28,41,141,179,127,148,186,18,22,16,4,147,null,164,182,16,10,6,123,1772]
["m34",2,95,52,10,15,34,106,111,95,98,108,4,8,7,2,105,null,99,105,1,1,null,88,1146]
["m39",3,179,104,25,47,91,229,252,192,203,225,7,10,5,5,222,null,213,244,12,10,8,168,2454]
["m44",1,209,132,39,60,90,249,266,204,256,262,23,28,23,16,252,null,253,281,25,5,5,199,2878]
["m49",2,223,119,48,73,97,267,282,234,267,275,36,32,36,19,281,null,268,307,40,6,6,209,3127]
["m54",7,203,114,53,77,98,208,268,191,221,281,59,47,46,29,237,null,262,235,49,10,16,190,2901]
["m59",1,194,110,38,103,85,206,256,166,269,281,45,57,45,32,209,null,268,252,56,11,10,169,2863]
["m64",1,226,84,10,76,83,196,274,167,227,254,34,40,26,24,205,null,246,218,46,8,3,141,2589]
["m69",null,145,53,12,56,40,111,184,97,144,164,53,39,40,36,130,null,157,155,28,2,1,95,1742]
["m74",null,87,24,2,26,14,74,112,64,94,127,16,11,8,18,77,null,99,92,4,2,null,66,1017]
["m79",null,74,22,2,33,9,44,83,37,78,100,15,10,8,4,68,null,85,56,6,1,null,44,779]
["m84",null,42,4,1,18,null,19,37,15,48,48,21,18,19,11,36,null,42,23,5,null,null,25,432]
["m89",null,17,null,null,2,null,7,21,6,7,16,null,null,null,null,4,null,8,10,null,null,null,7,105]
["m94",null,4,null,null,2,null,1,4,null,null,5,3,3,3,2,null,null,3,1,null,null,null,null,31]
["Grand Total",47,2459,1143,344,822,876,2308,3156,2028,2687,3074,484,476,408,286,2667,1,2852,2696,408,84,113,1978,31397]

{"sheet":"Record Pivot","index":3,"n_rows":47,"n_cols":25,"rows_kept":47,"cut":false,"hidden":false,"merged":[]}
[]
[]
["Min of TIME(SECS)","Column Labels"]
["Row Labels","mar","100m","10k","10M","1500m","15k","1600r","200m","3200r","3k","400m","4x1manley","4x2manley","4x3manley","55m","5k","5M","800m","800r","8k","dmr","hmar","mile","Grand Total"]
["f05",null,null,null,null,null,null,null,58.7,null,null,null,null,790.1,null,null,null,null,null,null,null,null,null,null,58.7]
["f06",null,24.1,null,null,null,null,null,57.7,null,null,null,null,null,null,null,null,null,null,null,null,null,null,null,24.1]
["f07",null,22.4,null,null,null,null,null,52.7,null,null,94.6,null,null,null,null,null,null,203.6,null,null,null,null,null,22.4]
["f09",null,17.5,null,null,null,null,317.7,38.1,null,995.7,115.8,null,null,null,null,1810,null,253,136.69999999999999,null,null,null,526.9,17.5]
["f13",null,15.7,3070.9,null,317.3,null,null,32.4,null,819.3,78.5,null,null,null,9.5399999999999991,1385,null,178.5,141,null,null,null,391,9.5399999999999991]
["f15",null,16.399999999999999,null,4813,340,null,309,31.8,654.29999999999995,697,73.400000000000006,null,null,null,null,1362,null,171.9,132.30000000000001,null,null,null,null,16.399999999999999]
["f17",null,null,null,null,304.83999999999997,null,260.89999999999998,31.9,648.4,635.58000000000004,60.8,null,null,null,null,null,null,165.7,112.2,2819.7,null,null,391.1,31.9]
["f19",null,14.5,null,null,427.5,null,null,27.9,null,680.5,null,null,null,null,null,null,null,null,null,null,null,null,329.1,14.5]
["f29",10351,12.6,2045.04,3818,286.27999999999997,3449,245,25.4,582.1,596.6,57.6,173.3,499.4,730.5,9.44,1044,null,133.12,110.6,1930,846,4845,310.2,9.44]
["f34",12017,13.5,2269,3864,267.39999999999998,3464,241.2,28.3,579.9,629.9,62,209.8,375.6,742.1,8.94,1079,null,131.1,112.6,2164.1,746.7,5914,315.60000000000002,8.94]
["f39",10925,13.5,2313,3727,287.2,3562,241.5,28.3,562.79999999999995,622.79999999999995,63.1,163.30000000000001,375.6,635,18.940000000000001,1049,null,141.1,110.9,1836.5,766.1,5651,305.39999999999998,13.5]
["f44",13318,13.2,2226,3989,267.56,3358,240.4,26.4,532.1,604.92999999999995,58.5,189.6,408.3,634.70000000000005,9.34,1050,null,133.34,110,2217,712.5,5409,294.55,9.34]
["f49",14753,13.2,2472.5,4106,312.5,3686,255.7,27.62,573.20000000000005,623.1,63.12,165.6,403.6,657.9,9.74,1132.0999999999999,null,153.9,120.72,1964.1,821.2,5438,318.10000000000002,9.74]
["f54",15025,13.47,2462,4225,319.60000000000002,3753,254.1,29,567.20000000000005,684.7,68,170,390,591.70000000000005,8,1185,null,154.9,112.9,2013.2,null,5941,336.49,8]
["f59",13860,15.9,2526,4455,330.2,3865.7,253.1,32.6,613.29999999999995,696.2,68.8,171.4,379.3,643.70000000000005,9.4,1195,null,155.19999999999999,114.9,1914.1,null,6186,355.25,9.4]
["f64",null,16.2,2866,4327,338.4,4046,260.5,33.6,618.70000000000005,743,71.400000000000006,165.1,374.4,567.9,9.34,1285.9000000000001,2229,162.4,124.8,2148.9,null,6400,371.06,9.34]
["f69",24229,16.600000000000001,3074,4576,354.8,4839,290.60000000000002,34.1,649.79999999999995,767.7,74.599999999999994,174.2,358.5,639.4,9.5399999999999991,1343,null,173.1,123.8,2246.87,948.3,7429,396.8,9.5399999999999991]
["f74",20663,17.8,3486,6735,463.3,5665,318.10000000000002,38.299999999999997,777.9,971.3,90.1,179,419.6,710.9,9.94,1739.6,null,229.4,131,3050.4,null,null,496.91,9.94]
["f79",null,26.7,null,null,586.1,null,null,55.4,null,1232.8,128.6,216,514.70000000000005,799.3,13.54,2081.6999999999998,null,294.3,null,3510,null,null,644.4,13.54]
["m05",null,19.899999999999999,null,null,null,null,null,45,null,null,101.6,null,null,null,null,2272,null,222,null,null,null,null,null,19.899999999999999]
["m06",null,null,null,null,452.2,null,437.6,40.5,1127,1195,null,null,null,null,10.4,1657,null,null,166.8,null,null,null,null,10.4]
["m07",null,null,null,null,null,null,null,36.9,null,793.3,null,null,null,null,9.94,1386,null,183.3,137.6,null,null,null,408.7,9.94]
["m09",null,19.100000000000001,null,null,null,null,null,39.6,null,799,null,null,null,null,9.64,null,null,null,null,null,null,null,462.6,9.64]
["m11",null,17.899999999999999,null,null,null,null,null,34.9,null,782,88.5,189.3,null,null,9.64,1425,null,176.1,162.30000000000001,null,null,null,386,9.64]
["m13",null,15.5,2738,null,null,null,null,31.8,619.29999999999995,795.5,84,null,null,null,9.0399999999999991,1291,null,172.23,null,null,null,null,384,9.0399999999999991]
["m15",null,null,2552,4096,null,3845,null,45.2,638.70000000000005,819.4,122.5,null,null,null,8.5399999999999991,1084,null,162.19999999999999,128.80000000000001,1918,null,null,291.54000000000002,8.5399999999999991]
["m17",null,15.5,null,null,null,3448,null,28.2,608.1,621.5,null,190.6,null,891.6,8.24,1078,null,122.68,113.4,1808,null,null,293,8.24]
["m19",null,null,null,null,280.39999999999998,4146.8,271.8,25.6,null,614.5,53.3,151.80000000000001,354.9,null,7.34,1167,null,134.1,113.4,2137.1,null,null,304.7,7.34]
["m29",8528,11.2,1859,3305,236.5,2902,232.3,22.5,505.82,518.1,49.8,151.80000000000001,333.6,567.9,7.84,885,null,118.7,103.3,1598.4,712.5,4143,261.87,7.84]
["m34",8557,12.7,1830,3575,255.74,2845,235.9,25.3,505.82,518.6,53.4,151.80000000000001,333.6,593,9.24,892,null,117.9,104.9,1780,746.7,null,262.8,9.24]
["m39",11800,12.1,1962.2,3236,256.89999999999998,2974,235.9,22.7,515.9,539.6,50.7,165.6,355.3,635.70000000000005,7.94,949,null,120,103.3,1637,742.1,4423,272.8,7.94]
["m44",11992,12.4,1965,3560,271,3103,236.7,25.2,529.1,564,51.89,156.6,347,622.5,7.44,940,null,123.1,104.9,1632.2,712.5,4199,281,7.44]
["m49",14237,12.4,2140,3641,275,3324,232.3,25.2,534.6,580,55.8,156.6,333.6,567.9,7.5,1004,null,131.9,104.8,1841.5,712.5,5867,286,7.5]
["m54",12166,12.5,2170,3813,288.39999999999998,3270,245,25,551.5,597,56.1,156.6,333.6,591.70000000000005,7.64,1034,null,136.77000000000001,103.3,1860.9,713,5488,292.64999999999998,7.64]
["m59",34208.199999999997,13,2201,3498,291.3,3331,236.7,26.8,565.29999999999995,600.91999999999996,60.5,164.5,347,591.70000000000005,7.94,1064,null,139.30000000000001,103.3,1844.9,713,5040,299.83,7.94]
["m64",14388,12.4,2418,4687,291,3561,235.9,26.1,532.79999999999995,624.6,59.9,163.30000000000001,375.6,635,8.14,1089,null,144.6,104,1816.7,742.1,6593,325.32,8.14]
["m69",null,13.2,2492.5,4767,319.60000000000002,3609,241.3,27.7,586.5,670,63.6,171.4,369.8,650.20000000000005,8.14,1199.7,null,155.87,104.8,2133.1999999999998,766.1,6295,362.2,8.14]
["m74",null,14.58,2999,7143,389,4631.2,261.8,28.24,598.1,795.2,68.7,164.5,379.8,682.6,8.41,1377,null,172.2,109.1,2629.2,990,null,399.7,8.41]
["m79",null,16.2,2958,6335,414.8,4679,278.5,33.6,668,818.9,78.5,201.8,442.1,634.70000000000005,9.64,1402.4,null,199.3,119.3,2694.1,990,null,479.1,9.64]
["m84",null,18.8,4140,8338,477.3,null,303.10000000000002,38.6,748.7,923.6,86.8,179.9,438,639.1,11.34,1700,null,221.4,127.7,2755.7,null,null,489.4,11.34]
["m89",null,19.7,null,null,641,null,316.2,45.6,773.8,1297.2,111.8,null,null,null,null,2694,null,288.5,148.4,null,null,null,654.17999999999995,19.7]
["m94",null,24.5,null,null,804.2,null,474.5,55.09,null,null,147.59,219.9,536.9,1011.1,18.739999999999998,null,null,359.12,178.3,null,null,null,null,18.739999999999998]
["Grand Total",8528,11.2,1830,3236,236.5,2845,232.3,22.5,505.82,518.1,49.8,151.80000000000001,333.6,567.9,7.34,885,2229,117.9,103.3,1598.4,712.5,4143,261.87,7.34]

{"sheet":"All Performances","index":4,"n_rows":31398,"n_cols":9,"rows_kept":4500,"cut":true,"hidden":false,"merged":[],"bounds":{"rows_first":2000,"rows_last":500,"rows_between":2000,"halvings":0}}
["NAME","TEAM","SEX","AG","EVENT","DATE","TIME(SECS)","POINTS","TYPE(0=outside 1=official 2=informal)"]
["sleone","pof","f","f64","10k","2015-01-09",3104,6,0]
["ithompson","tmt","f","f44","3k","1994-10-21",819,3,1]
["kbarth","rkp","m","m59","3k","1994-10-21",758.3,4,1]
["mgratzer","rhp","m","m64","3k","1994-10-21",860.5,3,1]
["pford","rkp","f","f39","5k","1994-10-21",1195.2,5,1]
["mbennett","tmt","f","f39","5k","1994-10-21",1755.4,1,1]
["klaquidari","sdd","f","f44","5k","1994-10-21",1163,6,0]
["klaquidari","sdd","f","f44","5k","1994-10-21",1190.8,5,1]
["llowe","tmt","f","f44","5k","1994-10-21",1678,1,1]
["ytasker","tmt","f","f59","5k","1994-10-21",1431,5,1]
["mdintzner","rhp","m","m29","5k","1994-10-21",1277.4000000000001,2,1]
["jnelson","una","m","m34","5k","1994-10-21",1055.7,4,1]
["kmann","sdd","m","m34","5k","1994-10-21",1123.8,3,1]
["jmelczer","sdd","m","m34","5k","1994-10-21",1207,2,1]
["rwheeless","hbn","m","m39","5k","1994-10-21",1012.9,5,1]
["mdibattista","una","m","m39","5k","1994-10-21",1013.2,5,1]
["kjabbour","tmt","m","m39","5k","1994-10-21",1236.5999999999999,2,1]
["wnicholson","rkp","m","m39","5k","1994-10-21",1502,1,1]
["tmcconnell","tmt","m","m44","5k","1994-10-21",1136.4000000000001,4,1]
["jthompson","sdd","m","m44","5k","1994-10-21",1209,3,1]
["slove","hbn","m","m44","5k","1994-10-21",1218.9000000000001,3,1]
["priposo","hbn","m","m49","5k","1994-10-21",1144.9000000000001,5,1]
["jcondon","rhp","m","m49","5k","1994-10-21",1199.5999999999999,4,1]
["pmcclure","rhp","m","m49","5k","1994-10-21",1206,4,1]
["pjewell","hbn","m","m49","5k","1994-10-21",1207,4,1]
["pwillsey","tmt","m","m49","5k","1994-10-21",1227,4,1]
["dbraveman","rkp","m","m49","5k","1994-10-21",1245,3,1]
["smurphy","rkp","m","m54","5k","1994-10-21",1117.2,6,1]
["jreynolds","sdd","m","m54","5k","1994-10-21",1188.7,5,1]
["jstraussman","sdd","m","m54","5k","1994-10-21",1192,5,1]
["rgoldsmith","rkp","m","m54","5k","1994-10-21",1239,4,1]
["rcoleman","rkp","m","m54","5k","1994-10-21",1286.8,3,1]
["adrew","hbn","m","m54","5k","1994-10-21",1448,2,1]
["rellison","rkp","m","m54","5k","1994-10-21",1450,2,1]
["kbarth","rkp","m","m59","5k","1994-10-21",1311,4,0]
["tfondy","hbn","m","m59","5k","1994-10-21",1327,4,1]
["jmautz","hbn","m","m59","5k","1994-10-21",1393,3,1]
["price","rkp","m","m59","5k","1994-10-21",1423,3,1]
["rrabin","rkp","m","m59","5k","1994-10-21",1450,2,1]
["wmcrae","sdd","m","m64","5k","1994-10-21",1224,6,1]
["gbodine","rhp","m","m64","5k","1994-10-21",1299.5999999999999,5,1]
["rhahn","rhp","m","m64","5k","1994-10-21",1362.5,4,1]
["mrothenberg","tmt","m","m64","5k","1994-10-21",1412,4,1]
["mfried","sdd","m","m64","5k","1994-10-21",1435,3,1]
["wobrian","tmt","m","m64","5k","1994-10-21",1438,3,1]
["establer","sdd","m","m69","5k","1994-10-21",1199.7,7,1]
["twalnut","rkp","m","m74","5k","1994-10-21",1424.8,5,1]
["rmore","rhp","m","m74","5k","1994-10-21",1641,3,1]
["bkneale","sdd","f","f34","10k","1994-10-28",2424.5,4,1]
["ldamron","rhp","f","f34","10k","1994-10-28",2425.5,4,1]
["pford","rkp","f","f39","10k","1994-10-28",2460.6,5,1]
["ryanai","hbn","f","f39","10k","1994-10-28",2615,4,1]
["klaquidari","sdd","f","f44","10k","1994-10-28",2397,6,1]
["llowe","tmt","f","f44","10k","1994-10-28",3327,1,1]
["bblaszak","tmt","f","f49","10k","1994-10-28",2507,6,1]
["ytasker","tmt","f","f59","10k","1994-10-28",2948,5,1]
["mdintzner","rhp","m","m29","10k","1994-10-28",2726,1,1]
["kmann","sdd","m","m34","10k","1994-10-28",2461,3,1]
["rwheeless","hbn","m","m39","10k","1994-10-28",2024,6,1]
["mdibattista","una","m","m39","10k","1994-10-28",2148.5,5,1]
["relder","rhp","m","m39","10k","1994-10-28",2513,3,1]
["kjabbour","tmt","m","m39","10k","1994-10-28",2638,2,1]
["mdriscoll","rkp","m","m39","10k","1994-10-28",3145,1,1]
["rcleary","rkp","m","m44","10k","1994-10-28",2344,4,1]
["rklinetop","rkp","m","m44","10k","1994-10-28",2353,4,1]
["jcapoccia","rkp","m","m44","10k","1994-10-28",2391,4,1]
["tmcconnell","tmt","m","m44","10k","1994-10-28",2461,3,1]
["doja","tmt","m","m44","10k","1994-10-28",2506.5,3,1]
["gdiamond","sdd","m","m44","10k","1994-10-28",2622,3,1]
["pgriffin","rhp","m","m44","10k","1994-10-28",2757,2,1]
["pjewell","hbn","m","m49","10k","1994-10-28",2463,4,1]
["pmcclure","rhp","m","m49","10k","1994-10-28",2608,3,1]
["smurphy","rkp","m","m54","10k","1994-10-28",2357.5,5,1]
["jreynolds","sdd","m","m54","10k","1994-10-28",2557.5,4,1]
["rgoldsmith","rkp","m","m54","10k","1994-10-28",2593.5,4,1]
["dfrost","rhp","m","m54","10k","1994-10-28",2939,2,1]
["bfredrikson","sdd","m","m59","10k","1994-10-28",2526,5,1]
["kbarth","rkp","m","m59","10k","1994-10-28",2752,4,1]
["jmautz","hbn","m","m59","10k","1994-10-28",2857,3,1]
["price","rkp","m","m59","10k","1994-10-28",2913,3,1]
["tfondy","hbn","m","m59","10k","1994-10-28",2963,3,0]
["wmcrae","sdd","m","m64","10k","1994-10-28",2547,6,1]
["rwilett","hbn","m","m64","10k","1994-10-28",2639.9,5,1]
["rhahn","rhp","m","m64","10k","1994-10-28",2811.5,4,1]
["mrothenberg","tmt","m","m64","10k","1994-10-28",2979,3,1]
["wobrian","tmt","m","m64","10k","1994-10-28",2990,3,1]
["mfried","sdd","m","m64","10k","1994-10-28",3051.5,3,1]
["flyman","tmt","m","m64","10k","1994-10-28",3276,2,1]
["establer","sdd","m","m69","10k","1994-10-28",2492.5,7,1]
["twalnut","rkp","m","m74","10k","1994-10-28",2999,5,1]
["rmore","rhp","m","m74","10k","1994-10-28",3334,3,1]
["nwhite","hbn","m","m79","10k","1994-10-28",2968,6,1]
["mcarrino","hbn","f","f64","3k","1994-10-28",1258.5,1,1]
["fstdennis","sdd","m","m39","3k","1994-10-28",632.9,4,1]
["labrahamson","tmt","m","m54","3k","1994-10-28",671.8,5,1]
["tfondy","hbn","m","m59","3k","1994-10-28",753.5,4,1]
["kcarrino","hbn","f","f44","5k","1994-10-28",1492,2,0]
["sstehman","hbn","m","m39","5k","1994-10-28",1433,1,1]
["tmcconnell","tmt","m","m44","5k","1994-10-28",1061,5,0]
["lwalker","rhp","m","m44","5k","1994-10-28",1406,1,1]
["dfrost","rhp","m","m54","5k","1994-10-28",1386,2,0]
["nwhite","hbn","m","m79","10k","1994-11-03",2958,6,0]
["mcarrino","hbn","f","f64","1500m","1994-11-03",577,1,1]
["nwhite","hbn","m","m79","15k","1994-11-03",4679,6,0]
["ldamron","rhp","f","f34","3k","1994-11-03",660,5,1]
["bkneale","sdd","f","f34","3k","1994-11-03",671,4,1]
["pford","rkp","f","f39","3k","1994-11-03",626.20000000000005,6,0]
["mbennett","tmt","f","f39","3k","1994-11-03",1009,1,1]
["nscott","rhp","f","f44","3k","1994-11-03",743,4,1]
["kcarrino","hbn","f","f44","3k","1994-11-03",839,2,1]
["bblaszak","tmt","f","f49","3k","1994-11-03",688.6,6,1]
["ytasker","tmt","f","f59","3k","1994-11-03",822,5,1]
["rwink","sdd","m","m29","3k","1994-11-03",639,4,1]
["mdintzner","rhp","m","m29","3k","1994-11-03",693,2,1]
["rhouck","sdd","m","m34","3k","1994-11-03",584,5,1]
["kmann","sdd","m","m34","3k","1994-11-03",592.5,5,1]
["rnessel","una","m","m34","3k","1994-11-03",596,5,1]
["rwheeless","hbn","m","m39","3k","1994-11-03",562.1,6,1]
["rnelson","hbn","m","m39","3k","1994-11-03",589,5,1]
["ncoffey","sdd","m","m39","3k","1994-11-03",640,4,1]
["kjabbour","tmt","m","m39","3k","1994-11-03",684.3,3,1]
["tmcconnell","tmt","m","m44","3k","1994-11-03",596,6,1]
["rcleary","rkp","m","m44","3k","1994-11-03",632.6,5,1]
["jcapoccia","rkp","m","m44","3k","1994-11-03",633.1,5,1]
["gdiamond","sdd","m","m44","3k","1994-11-03",710,3,1]
["wdawson","sdd","m","m49","3k","1994-11-03",677,4,1]
["pjewell","hbn","m","m49","3k","1994-11-03",683,4,1]
["rmicho","hbn","m","m49","3k","1994-11-03",695,4,1]
["pmcclure","rhp","m","m49","3k","1994-11-03",707,4,1]
["dbraveman","rkp","m","m49","3k","1994-11-03",714,4,1]
["jsmith","sdd","m","m54","3k","1994-11-03",613.1,7,1]
["smurphy","rkp","m","m54","3k","1994-11-03",641,6,1]
["jreynolds","sdd","m","m54","3k","1994-11-03",676,5,1]
["rgoldsmith","rkp","m","m54","3k","1994-11-03",724,4,1]
["adrew","hbn","m","m54","3k","1994-11-03",797.8,3,1]
["jucci","sdd","m","m59","3k","1994-11-03",678.4,6,1]
["jallen","tmt","m","m59","3k","1994-11-03",684.9,5,1]
["bfredrikson","sdd","m","m59","3k","1994-11-03",717,5,1]
["tfondy","hbn","m","m59","3k","1994-11-03",735,4,1]
["jmautz","hbn","m","m59","3k","1994-11-03",776,4,1]
["sclemence","rhp","m","m59","3k","1994-11-03",787,3,1]
["price","rkp","m","m59","3k","1994-11-03",809,3,1]
["rbrock","rhp","m","m64","3k","1994-11-03",674.4,7,1]
["wmcrae","sdd","m","m64","3k","1994-11-03",694.8,6,1]
["rwilett","hbn","m","m64","3k","1994-11-03",716.7,6,1]
["fschlereth","rhp","m","m64","3k","1994-11-03",731.2,5,1]
["rhahn","rhp","m","m64","3k","1994-11-03",757,5,1]
["mrothenberg","tmt","m","m64","3k","1994-11-03",793,4,1]
["mfried","sdd","m","m64","3k","1994-11-03",806,4,1]
["establer","sdd","m","m69","3k","1994-11-03",670,8,1]
["hmacmillan","hbn","m","m69","3k","1994-11-03",812.3,4,1]
["twalnut","rkp","m","m74","3k","1994-11-03",818,5,1]
["nwhite","hbn","m","m79","3k","1994-11-03",845.7,6,1]
["pford","rkp","f","f39","5k","1994-11-03",1130.4000000000001,5,0]
["nwhite","hbn","m","m79","5k","1994-11-03",1434,6,0]
["rhouck","sdd","m","m34","10k","1994-11-11",2119,5,0]
["bkneale","sdd","f","f34","1500m","1994-11-11",314.89999999999998,4,1]
["pford","rkp","f","f39","1500m","1994-11-11",313.7,5,0]
["pford","rkp","f","f39","1500m","1994-11-11",371,3,1]
["amorss","una","f","f39","1500m","1994-11-11",379.2,2,1]
["mbennett","tmt","f","f39","1500m","1994-11-11",476.2,1,1]
["ithompson","tmt","f","f44","1500m","1994-11-11",352.3,4,1]
["kcarrino","hbn","f","f44","1500m","1994-11-11",380.5,3,1]
["bblaszak","tmt","f","f49","1500m","1994-11-11",323.5,6,1]
["rwink","sdd","m","m29","1500m","1994-11-11",290,4,1]
["blindsey","una","m","m29","1500m","1994-11-11",293.7,4,1]
["mroux","hbn","m","m29","1500m","1994-11-11",294.60000000000002,4,1]
["kmaresca","rhp","m","m29","1500m","1994-11-11",333.8,2,1]
["rhouck","sdd","m","m34","1500m","1994-11-11",271.8,5,1]
["kmann","sdd","m","m34","1500m","1994-11-11",273,5,1]
["jnelson","una","m","m34","1500m","1994-11-11",274.60000000000002,5,1]
["ttruong","una","m","m34","1500m","1994-11-11",293.5,4,1]
["mstrong","rkp","m","m34","1500m","1994-11-11",299.5,4,1]
["pdriscoll","rkp","m","m34","1500m","1994-11-11",319.2,3,1]
["rwheeless","hbn","m","m39","1500m","1994-11-11",262.7,6,1]
["rnelson","hbn","m","m39","1500m","1994-11-11",264.39999999999998,6,1]
["dchristensen","hbn","m","m39","1500m","1994-11-11",274.5,5,1]
["fstdennis","sdd","m","m39","1500m","1994-11-11",278.5,5,1]
["mdibattista","una","m","m39","1500m","1994-11-11",280.89999999999998,5,1]
["ncoffey","sdd","m","m39","1500m","1994-11-11",294.60000000000002,4,1]
["relder","rhp","m","m39","1500m","1994-11-11",310.5,4,1]
["kjabbour","tmt","m","m39","1500m","1994-11-11",324.60000000000002,3,1]
["wnicholson","rkp","m","m39","1500m","1994-11-11",394.2,1,1]
["mdriscoll","rkp","m","m39","1500m","1994-11-11",427.8,1,1]
["tmcconnell","tmt","m","m44","1500m","1994-11-11",281.60000000000002,6,0]
["rcleary","rkp","m","m44","1500m","1994-11-11",288.8,5,1]
["jcapoccia","rkp","m","m44","1500m","1994-11-11",290.89999999999998,5,1]
["pgriffin","rhp","m","m44","1500m","1994-11-11",297.5,5,1]
["kreynolds","rhp","m","m44","1500m","1994-11-11",308,4,1]
["jview","sdd","m","m44","1500m","1994-11-11",317.60000000000002,4,1]
["jthompson","sdd","m","m44","1500m","1994-11-11",320.8,4,1]
["gdiamond","sdd","m","m44","1500m","1994-11-11",332.2,3,1]
["jcondon","rhp","m","m49","1500m","1994-11-11",297.2,5,1]
["rmicho","hbn","m","m49","1500m","1994-11-11",298,5,1]
["wdawson","sdd","m","m49","1500m","1994-11-11",303.2,5,1]
["priposo","hbn","m","m49","1500m","1994-11-11",306.39999999999998,5,1]
["pmcclure","rhp","m","m49","1500m","1994-11-11",314.5,4,1]
["pjewell","hbn","m","m49","1500m","1994-11-11",324,4,1]
["lnafie","rkp","m","m49","1500m","1994-11-11",324.7,4,1]
["dbraveman","rkp","m","m49","1500m","1994-11-11",332.5,4,1]
["smurphy","rkp","m","m54","1500m","1994-11-11",300.89999999999998,6,1]
["labrahamson","tmt","m","m54","1500m","1994-11-11",304.89999999999998,6,1]
["jreynolds","sdd","m","m54","1500m","1994-11-11",310.60000000000002,5,1]
["dfrost","rhp","m","m54","1500m","1994-11-11",377.9,2,1]
["jallen","tmt","m","m59","1500m","1994-11-11",304,6,1]
["jucci","sdd","m","m59","1500m","1994-11-11",312.10000000000002,6,1]
["tfondy","hbn","m","m59","1500m","1994-11-11",322.2,5,1]
["jmautz","hbn","m","m59","1500m","1994-11-11",363.5,4,1]
["sclemence","rhp","m","m59","1500m","1994-11-11",375.5,3,1]
["price","rkp","m","m59","1500m","1994-11-11",377.1,3,1]
["rmilner","rhp","m","m64","1500m","1994-11-11",310.5,7,1]
["rbrock","rhp","m","m64","1500m","1994-11-11",311.8,7,1]
["fschlereth","rhp","m","m64","1500m","1994-11-11",322.39999999999998,6,1]
["rwilett","hbn","m","m64","1500m","1994-11-11",330.7,6,1]
["rhahn","rhp","m","m64","1500m","1994-11-11",347.9,5,1]
["gbodine","rhp","m","m64","1500m","1994-11-11",354.6,5,1]
["wmcrae","sdd","m","m64","1500m","1994-11-11",357.8,5,1]
["establer","sdd","m","m69","1500m","1994-11-11",319.60000000000002,7,1]
["hmacmillan","hbn","m","m69","1500m","1994-11-11",376.7,5,1]
["nwhite","hbn","m","m79","1500m","1994-11-11",427.8,5,1]
["rhouck","sdd","m","m34","5k","1994-11-11",989,5,0]
["wdawson","sdd","m","m49","5k","1994-11-11",1155,4,0]
["rmicho","hbn","m","m49","5k","1994-11-11",1220,4,0]
["mcarrino","hbn","f","f64","800m","1994-11-11",284,1,1]
["mcarrino","hbn","f","f64","800r","1994-11-11",124.8,5,1]
["mroux","hbn","m","m29","800r","1994-11-11",124.8,5,1]
["rmicho","hbn","m","m49","800r","1994-11-11",124.8,5,1]
["tfondy","hbn","m","m59","800r","1994-11-11",124.8,5,1]
["fstdennis","sdd","m","m39","10k","1994-11-23",2336.8000000000002,4,0]
["priposo","hbn","m","m49","10k","1994-11-23",2487,4,2]
["jucci","sdd","m","m59","10k","1994-11-23",2580,5,0]
["wborgstede","tmt","m","m49","15k","1994-11-23",6039,1,0]
["wborgstede","tmt","m","m49","200m","1994-11-23",37.4,1,1]
["bblaszak","tmt","f","f49","5k","1994-11-23",1143,7,0]
["fstdennis","sdd","m","m39","5k","1994-11-23",1096.5,4,0]
["jucci","sdd","m","m59","5k","1994-11-23",1191,5,0]
["pford","rkp","f","f39","800m","1994-11-23",148.19999999999999,6,0]
["ryanai","hbn","f","f39","800m","1994-11-23",162.4,4,1]
["pford","rkp","f","f39","800m","1994-11-23",175.8,3,1]
["amorss","una","f","f39","800m","1994-11-23",183.1,3,1]
["nscott","rhp","f","f44","800m","1994-11-23",170.2,4,1]
["kcarrino","hbn","f","f44","800m","1994-11-23",181.5,3,1]
["bblaszak","tmt","f","f49","800m","1994-11-23",155.19999999999999,6,1]
["mroux","hbn","m","m29","800m","1994-11-23",129.80000000000001,5,1]
["rwink","sdd","m","m29","800m","1994-11-23",140.69999999999999,4,1]
["jnelson","una","m","m34","800m","1994-11-23",132.6,5,1]
["kmann","sdd","m","m34","800m","1994-11-23",134.4,5,1]
["mstrong","rkp","m","m34","800m","1994-11-23",136.6,5,1]
["pturley","tmt","m","m34","800m","1994-11-23",142,4,1]
["ttruong","una","m","m34","800m","1994-11-23",145.30000000000001,4,1]
["jmelczer","sdd","m","m34","800m","1994-11-23",152.1,3,1]
["pdriscoll","rkp","m","m34","800m","1994-11-23",153.4,3,1]
["rwheeless","hbn","m","m39","800m","1994-11-23",125.5,7,1]
["fstdennis","sdd","m","m39","800m","1994-11-23",130.69999999999999,6,1]
["dchristensen","hbn","m","m39","800m","1994-11-23",132.6,6,1]
["mdibattista","una","m","m39","800m","1994-11-23",135.80000000000001,5,1]
["relder","rhp","m","m39","800m","1994-11-23",153,4,1]
["sstehman","hbn","m","m39","800m","1994-11-23",167.9,2,1]
["wnicholson","rkp","m","m39","800m","1994-11-23",183.3,1,1]
["tmcconnell","tmt","m","m44","800m","1994-11-23",137.30000000000001,6,0]
["rcleary","rkp","m","m44","800m","1994-11-23",141.19999999999999,5,1]
["pgriffin","rhp","m","m44","800m","1994-11-23",144.1,5,1]
["jthompson","sdd","m","m44","800m","1994-11-23",150.1,4,1]
["khinman","hbn","m","m44","800m","1994-11-23",152.4,4,1]
["doja","tmt","m","m44","800m","1994-11-23",153.9,4,1]
["wdawson","sdd","m","m49","800m","1994-11-23",142.5,6,1]
["bbush","una","m","m49","800m","1994-11-23",143.9,6,1]
["pmcclure","rhp","m","m49","800m","1994-11-23",145,5,1]
["priposo","hbn","m","m49","800m","1994-11-23",147.4,5,1]
["jcondon","rhp","m","m49","800m","1994-11-23",150.4,5,1]
["pwillsey","tmt","m","m49","800m","1994-11-23",162.80000000000001,4,1]
["labrahamson","tmt","m","m54","800m","1994-11-23",143.69999999999999,6,1]
["smurphy","rkp","m","m54","800m","1994-11-23",148.1,6,1]
["tcollins","hbn","m","m54","800m","1994-11-23",150.5,6,1]
["jstraussman","sdd","m","m54","800m","1994-11-23",155.1,5,1]
["dfrost","rhp","m","m54","800m","1994-11-23",180.7,3,1]
["jallen","tmt","m","m59","800m","1994-11-23",143.19999999999999,7,1]
["tfondy","hbn","m","m59","800m","1994-11-23",149.9,6,1]
["jucci","sdd","m","m59","800m","1994-11-23",152.6,6,1]
["sclemence","rhp","m","m59","800m","1994-11-23",176,4,1]
["jmautz","hbn","m","m59","800m","1994-11-23",176.7,4,1]
["fschlereth","rhp","m","m64","800m","1994-11-23",145.6,8,1]
["rbrock","rhp","m","m64","800m","1994-11-23",155.30000000000001,7,1]
["wmcrae","sdd","m","m64","800m","1994-11-23",160.19999999999999,6,1]
["mfried","sdd","m","m64","800m","1994-11-23",186.2,4,1]
["mgratzer","rhp","m","m64","800m","1994-11-23",190.3,3,1]
["wobrian","tmt","m","m64","800m","1994-11-23",192.8,3,1]
["establer","sdd","m","m69","800m","1994-11-23",161,7,1]
["hmacmillan","hbn","m","m69","800m","1994-11-23",174.2,6,1]
["rmore","rhp","m","m74","800m","1994-11-23",223.7,3,1]
["mroux","hbn","m","m29","800r","1994-11-23",112.7,6,1]
["tcollins","hbn","m","m54","800r","1994-11-23",112.7,6,1]
["tfondy","hbn","m","m59","800r","1994-11-23",112.7,6,1]
["hmacmillan","hbn","m","m69","800r","1994-11-23",112.7,6,1]
["jallen","tmt","m","m59","200m","1994-12-02",29.2,6,1]
["klarson","rkp","f","f29","400m","1994-12-02",70.599999999999994,3,1]
["kelbadawi","tmt","f","f29","400m","1994-12-02",77.3,2,1]
["chiort","rhp","f","f29","400m","1994-12-02",79.099999999999994,2,1]
["ldamron","rhp","f","f34","400m","1994-12-02",73,3,1]
["kbedard","tmt","f","f34","400m","1994-12-02",80.8,2,1]
["amorss","una","f","f39","400m","1994-12-02",79.5,2,1]
["sohara-c","rkp","f","f39","400m","1994-12-02",81,2,1]
["ithompson","tmt","f","f44","400m","1994-12-02",63,6,1]
["klaquidari","sdd","f","f44","400m","1994-12-02",75.3,4,1]
["kcarrino","hbn","f","f44","400m","1994-12-02",75.8,4,1]
["dsherrer","sdd","f","f44","400m","1994-12-02",99.6,1,1]
["bblaszak","tmt","f","f49","400m","1994-12-02",74.099999999999994,4,1]
["rripley","rhp","f","f49","400m","1994-12-02",85.9,2,1]
["ytasker","tmt","f","f59","400m","1994-12-02",87,4,1]
["ehahn","una","f","f59","400m","1994-12-02",143.30000000000001,1,1]
["mroux","hbn","m","m29","400m","1994-12-02",49.8,7,1]
["rwink","sdd","m","m29","400m","1994-12-02",61.8,4,1]
["kmaresca","rhp","m","m29","400m","1994-12-02",62.6,3,1]
["blindsey","una","m","m29","400m","1994-12-02",63.5,3,1]
["mdintzner","rhp","m","m29","400m","1994-12-02",69.2,2,1]
["rhouck","sdd","m","m34","400m","1994-12-02",56.8,5,1]
["mstrong","rkp","m","m34","400m","1994-12-02",58.2,5,1]
["kmann","sdd","m","m34","400m","1994-12-02",59.1,5,1]
["jmelczer","sdd","m","m34","400m","1994-12-02",62.3,4,1]
["ttruong","una","m","m34","400m","1994-12-02",64.099999999999994,3,1]
["pdriscoll","rkp","m","m34","400m","1994-12-02",64.599999999999994,3,1]
["pturley","tmt","m","m34","400m","1994-12-02",64.8,3,1]
["rnelson","hbn","m","m39","400m","1994-12-02",56.3,6,1]
["dchristensen","hbn","m","m39","400m","1994-12-02",59.2,5,1]
["mdibattista","una","m","m39","400m","1994-12-02",60.7,5,1]
["ncoffey","sdd","m","m39","400m","1994-12-02",62.9,4,1]
["sstehman","hbn","m","m39","400m","1994-12-02",65.3,4,1]
["wnicholson","rkp","m","m39","400m","1994-12-02",73.5,2,1]
["mdriscoll","rkp","m","m39","400m","1994-12-02",79.5,1,1]
["tmcconnell","tmt","m","m44","400m","1994-12-02",59.2,6,1]
["pgriffin","rhp","m","m44","400m","1994-12-02",60.3,5,1]
["rklinetop","rkp","m","m44","400m","1994-12-02",62.1,5,1]
["rcleary","rkp","m","m44","400m","1994-12-02",63.5,4,1]
["slove","hbn","m","m44","400m","1994-12-02",65.3,4,1]
["kreynolds","rhp","m","m44","400m","1994-12-02",65.8,4,1]
["khinman","hbn","m","m44","400m","1994-12-02",66.5,4,1]
["pmcclure","rhp","m","m49","400m","1994-12-02",62.9,5,1]
["jcondon","rhp","m","m49","400m","1994-12-02",63.4,5,1]
["lnafie","rkp","m","m49","400m","1994-12-02",63.9,5,1]
["priposo","hbn","m","m49","400m","1994-12-02",66.2,4,1]
["pwillsey","tmt","m","m49","400m","1994-12-02",72.2,3,1]
["rkalinoski","hbn","m","m49","400m","1994-12-02",75.400000000000006,3,1]
["wborgstede","tmt","m","m49","400m","1994-12-02",85,1,1]
["smurphy","rkp","m","m54","400m","1994-12-02",65.099999999999994,5,1]
["labrahamson","tmt","m","m54","400m","1994-12-02",67.900000000000006,5,1]
["jstraussman","sdd","m","m54","400m","1994-12-02",68.3,4,1]
["jreynolds","sdd","m","m54","400m","1994-12-02",68.8,4,1]
["dmittler","sdd","m","m54","400m","1994-12-02",97.2,1,1]
["tfondy","hbn","m","m59","400m","1994-12-02",61,7,1]
["jallen","tmt","m","m59","400m","1994-12-02",62.7,6,1]
["jucci","sdd","m","m59","400m","1994-12-02",70,5,1]
["bfredrikson","sdd","m","m59","400m","1994-12-02",74.2,4,1]
["price","rkp","m","m59","400m","1994-12-02",77.7,3,1]
["jmautz","hbn","m","m59","400m","1994-12-02",78,3,1]
["kbarth","rkp","m","m59","400m","1994-12-02",79.599999999999994,3,1]
["rwilett","hbn","m","m64","400m","1994-12-02",64.3,7,1]
["abranch","hbn","m","m64","400m","1994-12-02",69.2,6,1]
["rbrock","rhp","m","m64","400m","1994-12-02",69.8,5,1]
["wmcrae","sdd","m","m64","400m","1994-12-02",71.7,5,1]
["rhahn","rhp","m","m64","400m","1994-12-02",74.8,4,1]
["mfried","sdd","m","m64","400m","1994-12-02",81.400000000000006,3,1]
["mrothenberg","tmt","m","m64","400m","1994-12-02",81.400000000000006,3,1]
["bchambers","rhp","m","m64","400m","1994-12-02",156,1,1]
["establer","sdd","m","m69","400m","1994-12-02",71,6,1]
["twalnut","rkp","m","m74","400m","1994-12-02",82.3,5,1]
["rmore","rhp","m","m74","400m","1994-12-02",93.1,3,1]
["ithompson","tmt","f","f44","5k","1994-12-02",1463.3,2,0]
["rnelson","hbn","m","m39","800r","1994-12-02",113.7,6,1]
["priposo","hbn","m","m49","800r","1994-12-02",113.7,6,1]
["tfondy","hbn","m","m59","800r","1994-12-02",113.7,6,1]
["abranch","hbn","m","m64","800r","1994-12-02",113.7,6,1]
["klarson","rkp","f","f29","200m","1994-12-04",31.5,3,1]
["chiort","rhp","f","f29","200m","1994-12-04",31.8,3,1]
["kelbadawi","tmt","f","f29","200m","1994-12-04",34.9,2,1]
["ldamron","rhp","f","f34","200m","1994-12-04",33.4,3,1]
["kbedard","tmt","f","f34","200m","1994-12-04",35.700000000000003,2,1]
["ryanai","hbn","f","f39","200m","1994-12-04",33.6,3,1]
["sohara-c","rkp","f","f39","200m","1994-12-04",35.9,2,1]
["kcarrino","hbn","f","f44","200m","1994-12-04",34.200000000000003,3,1]
["dsherrer","sdd","f","f44","200m","1994-12-04",42.8,1,1]
["rripley","rhp","f","f49","200m","1994-12-04",39.9,2,1]
["ytasker","tmt","f","f59","200m","1994-12-04",38.200000000000003,4,1]
["ehahn","una","f","f59","200m","1994-12-04",61.9,1,1]
["rwink","sdd","m","m29","200m","1994-12-04",27,4,1]
["kmaresca","rhp","m","m29","200m","1994-12-04",27.2,4,1]
["jwarner","una","m","m29","200m","1994-12-04",28.1,4,1]
["lrothenberg","tmt","m","m29","200m","1994-12-04",29.2,3,1]
["mdintzner","rhp","m","m29","200m","1994-12-04",29.7,3,1]
["blindsey","una","m","m29","200m","1994-12-04",29.9,3,1]
["rhouck","sdd","m","m34","200m","1994-12-04",26.8,4,1]
["mstrong","rkp","m","m34","200m","1994-12-04",26.9,4,1]
["kmann","sdd","m","m34","200m","1994-12-04",27,4,1]
["mstrong","rkp","m","m34","200m","1994-12-04",27.5,4,1]
["jnelson","una","m","m34","200m","1994-12-04",27.8,4,1]
["ttruong","una","m","m34","200m","1994-12-04",28.3,4,1]
["pdriscoll","rkp","m","m34","200m","1994-12-04",29.2,3,1]
["khanlon","tmt","m","m39","200m","1994-12-04",26.7,5,1]
["sstehman","hbn","m","m39","200m","1994-12-04",28.5,4,1]
["ncoffey","sdd","m","m39","200m","1994-12-04",29.1,4,1]
["nprice","rkp","m","m39","200m","1994-12-04",30.4,3,1]
["relder","rhp","m","m39","200m","1994-12-04",30.5,3,1]
["wnicholson","rkp","m","m39","200m","1994-12-04",32.1,2,1]
["pgriffin","rhp","m","m44","200m","1994-12-04",27.3,5,1]
["tmcconnell","tmt","m","m44","200m","1994-12-04",27.9,5,1]
["khinman","hbn","m","m44","200m","1994-12-04",29.7,4,1]
["jthompson","sdd","m","m44","200m","1994-12-04",29.7,4,1]
["kreynolds","rhp","m","m44","200m","1994-12-04",29.9,4,1]
["doja","tmt","m","m44","200m","1994-12-04",30.1,4,1]
["gdiamond","sdd","m","m44","200m","1994-12-04",30.7,3,1]
["jview","sdd","m","m44","200m","1994-12-04",31.9,3,1]
["jcondon","rhp","m","m49","200m","1994-12-04",28.8,5,1]
["pmcclure","rhp","m","m49","200m","1994-12-04",28.8,5,1]
["lnafie","rkp","m","m49","200m","1994-12-04",29.6,5,1]
["adrew","hbn","m","m54","200m","1994-12-04",28.6,6,1]
["smurphy","rkp","m","m54","200m","1994-12-04",30.4,5,1]
["jstraussman","sdd","m","m54","200m","1994-12-04",31.7,4,1]
["dfrost","rhp","m","m54","200m","1994-12-04",32.200000000000003,4,1]
["jreynolds","sdd","m","m54","200m","1994-12-04",32.4,4,1]
["labrahamson","tmt","m","m54","200m","1994-12-04",32.5,4,1]
["jlagraff","rkp","m","m54","200m","1994-12-04",34.4,3,1]
["tfondy","hbn","m","m59","200m","1994-12-04",26.8,7,1]
["jucci","sdd","m","m59","200m","1994-12-04",32.5,4,1]
["sclemence","rhp","m","m59","200m","1994-12-04",33.700000000000003,4,1]
["bfredrikson","sdd","m","m59","200m","1994-12-04",34,4,1]
["jmautz","hbn","m","m59","200m","1994-12-04",34.9,3,1]
["price","rkp","m","m59","200m","1994-12-04",35.799999999999997,3,1]
["kbarth","rkp","m","m59","200m","1994-12-04",35.9,3,1]
["fschlereth","rhp","m","m64","200m","1994-12-04",26.9,8,1]
["rwilett","hbn","m","m64","200m","1994-12-04",29.1,7,1]
["rbrock","rhp","m","m64","200m","1994-12-04",32.4,5,1]
["wmcrae","sdd","m","m64","200m","1994-12-04",32.6,5,1]
["rhahn","rhp","m","m64","200m","1994-12-04",34,4,1]
["mrothenberg","tmt","m","m64","200m","1994-12-04",35.700000000000003,3,1]
["mgratzer","rhp","m","m64","200m","1994-12-04",37.299999999999997,3,1]
["mfried","sdd","m","m64","200m","1994-12-04",37.5,3,1]
["hmacmillan","hbn","m","m69","200m","1994-12-04",31.9,6,1]
["establer","sdd","m","m69","200m","1994-12-04",32.799999999999997,5,1]
["rmore","rhp","m","m74","200m","1994-12-04",37.4,4,1]
["twalnut","rkp","m","m74","200m","1994-12-04",38.700000000000003,4,1]
["nwhite","hbn","m","m79","200m","1994-12-04",44.6,3,1]
["ryanai","hbn","f","f39","800r","1994-12-04",122.8,4,1]
["kcarrino","hbn","f","f44","800r","1994-12-04",123.3,5,1]
["dsherrer","sdd","f","f44","800r","1994-12-04",134.9,3,1]
["rripley","rhp","f","f49","800r","1994-12-04",147.19999999999999,3,1]
["rwink","sdd","m","m29","800r","1994-12-04",125.8,4,1]
["kmann","sdd","m","m34","800r","1994-12-04",117.7,4,1]
["fstdennis","sdd","m","m39","800r","1994-12-04",117.7,4,1]
["sstehman","hbn","m","m39","800r","1994-12-04",122.8,4,1]
["ncoffey","sdd","m","m39","800r","1994-12-04",134.9,3,1]
["jthompson","sdd","m","m44","800r","1994-12-04",125.8,4,1]
["gdiamond","sdd","m","m44","800r","1994-12-04",134.9,3,1]
["jstraussman","sdd","m","m54","800r","1994-12-04",117.7,4,1]
["adrew","hbn","m","m54","800r","1994-12-04",123.3,5,1]
["jreynolds","sdd","m","m54","800r","1994-12-04",134.9,3,1]
["bfredrikson","sdd","m","m59","800r","1994-12-04",117.7,4,1]
["tfondy","hbn","m","m59","800r","1994-12-04",122.8,4,1]
["tfondy","hbn","m","m59","800r","1994-12-04",123.3,5,1]
["jucci","sdd","m","m59","800r","1994-12-04",125.8,4,1]
["rwilett","hbn","m","m64","800r","1994-12-04",122.8,4,1]
["wmcrae","sdd","m","m64","800r","1994-12-04",125.8,4,1]
["rbrock","rhp","m","m64","800r","1994-12-04",147.19999999999999,3,1]
["rhahn","rhp","m","m64","800r","1994-12-04",147.19999999999999,3,1]
["hmacmillan","hbn","m","m69","800r","1994-12-04",123.3,5,1]
["rmore","rhp","m","m74","800r","1994-12-04",147.19999999999999,3,1]
["hmacmillan","hbn","m","m69","10k","1994-12-09",3007,4,0]
["kjabbour","tmt","m","m39","15k","1994-12-09",4085,2,0]
["rwilett","hbn","m","m64","15k","1994-12-09",4169,5,0]
["mroux","hbn","m","m29","200m","1994-12-09",23.1,7,0]
["kjabbour","tmt","m","m39","200m","1994-12-09",32.6,2,0]
["rmicho","hbn","m","m49","200m","1994-12-09",26.4,6,0]
["tcollins","hbn","m","m54","200m","1994-12-09",28.5,6,0]
["kcarrino","hbn","f","f44","5k","1994-12-09",1485,2,0]
["rnelson","hbn","m","m39","5k","1994-12-09",1023,5,0]
["kjabbour","tmt","m","m39","5k","1994-12-09",1224,3,0]
["rmicho","hbn","m","m49","5k","1994-12-09",1221,4,0]
["rwilett","hbn","m","m64","5k","1994-12-09",1288,5,0]
["hmacmillan","hbn","m","m69","5k","1994-12-09",1456,4,0]
["rnelson","hbn","m","m39","800m","1994-12-09",129.6,6,0]
["kjabbour","tmt","m","m39","800m","1994-12-09",176.9,2,0]
["pstelmaszyk","hbn","m","m54","800m","1994-12-09",138,7,0]
["tcollins","hbn","m","m54","800m","1994-12-09",146.69999999999999,6,0]
["tfondy","hbn","m","m59","800m","1994-12-09",148,7,0]
["kmann","sdd","m","m34","10k","1994-12-16",2092,5,0]
["sgraceffo","tmt","m","m59","10k","1994-12-16",2330,6,0]
["sgraceffo","tmt","m","m59","15k","1994-12-16",3469,7,0]
["mcarrino","hbn","f","f64","200m","1994-12-16",47.4,1,1]
["mroux","hbn","m","m29","3k","1994-12-16",676.5,3,1]
["jview","sdd","m","m44","3k","1994-12-16",698.9,3,1]
["khinman","hbn","m","m44","3k","1994-12-16",795,2,1]
["priposo","hbn","m","m49","3k","1994-12-16",658.2,5,1]
["tcollins","hbn","m","m54","3k","1994-12-16",737.6,4,1]
["tfondy","hbn","m","m59","3k","1994-12-16",748,4,1]
["gbodine","rhp","m","m64","3k","1994-12-16",768,4,1]
["fschlereth","rhp","m","m64","400m","1994-12-16",65.099999999999994,7,1]
["hmacmillan","hbn","m","m69","400m","1994-12-16",72.3,6,0]
["bkneale","sdd","f","f34","5k","1994-12-16",1137.9000000000001,5,1]
["ldamron","rhp","f","f34","5k","1994-12-16",1175.0999999999999,4,1]
["ryanai","hbn","f","f39","5k","1994-12-16",1238.9000000000001,4,1]
["jhaun","una","f","f39","5k","1994-12-16",1280,4,1]
["amorss","una","f","f39","5k","1994-12-16",1381.8,3,1]
["jwinterhalt","sdd","f","f39","5k","1994-12-16",1533,1,1]
["klaquidari","sdd","f","f44","5k","1994-12-16",1200.5,5,1]
["eberntsen","sdd","m","m29","5k","1994-12-16",987.3,5,1]
["kmaresca","rhp","m","m29","5k","1994-12-16",1299.8,1,1]
["dhagrman","rhp","m","m29","5k","1994-12-16",1478.2,1,1]
["kmann","sdd","m","m34","5k","1994-12-16",1024,5,0]
["pturley","tmt","m","m34","5k","1994-12-16",1051,4,1]
["kmann","sdd","m","m34","5k","1994-12-16",1079.3,4,1]
["khanlon","tmt","m","m39","5k","1994-12-16",1091.3,4,1]
["mhaun","una","m","m39","5k","1994-12-16",1210.5,3,1]
["nprice","rkp","m","m39","5k","1994-12-16",1314.4,2,1]
["mdriscoll","rkp","m","m39","5k","1994-12-16",1472.9,1,1]
["tmcconnell","tmt","m","m44","5k","1994-12-16",1077.8,5,1]
["rcleary","rkp","m","m44","5k","1994-12-16",1096.5,5,1]
["kreynolds","rhp","m","m44","5k","1994-12-16",1165.2,4,1]
["pgriffin","rhp","m","m44","5k","1994-12-16",1192.3,3,1]
["doja","tmt","m","m44","5k","1994-12-16",1197.2,3,1]
["jthompson","sdd","m","m44","5k","1994-12-16",1207.9000000000001,3,1]
["slove","hbn","m","m44","5k","1994-12-16",1212.5,3,1]
["gdiamond","sdd","m","m44","5k","1994-12-16",1247.7,3,1]
["rmicho","hbn","m","m49","5k","1994-12-16",1233.3,4,1]
["jsmith","sdd","m","m54","5k","1994-12-16",1077.8,6,1]
["smurphy","rkp","m","m54","5k","1994-12-16",1138.5,5,1]
["dfrost","rhp","m","m54","5k","1994-12-16",1377.6,3,1]
["sgraceffo","tmt","m","m59","5k","1994-12-16",1079,7,0]
["sgraceffo","tmt","m","m59","5k","1994-12-16",1103,7,1]
["bfredrikson","sdd","m","m59","5k","1994-12-16",1231.5,5,1]
["jallen","tmt","m","m59","5k","1994-12-16",1240,5,0]
["jmautz","hbn","m","m59","5k","1994-12-16",1285.0999999999999,4,1]
["rwerner","sdd","m","m59","5k","1994-12-16",1394.2,3,1]
["price","rkp","m","m59","5k","1994-12-16",1423.5,3,1]
["nwhite","hbn","m","m79","5k","1994-12-16",1402.4,7,1]
["rmicho","hbn","m","m49","800r","1994-12-16",118.2,5,1]
["tcollins","hbn","m","m54","800r","1994-12-16",118.2,5,1]
["tfondy","hbn","m","m59","800r","1994-12-16",118.2,5,1]
["jmautz","hbn","m","m59","800r","1994-12-16",118.2,5,1]
["ytasker","tmt","f","f59","1500m","1994-12-23",367,6,0]
["adrew","hbn","m","m54","1500m","1994-12-23",339.8,4,1]
["pstelmaszyk","hbn","m","m54","1500m","1994-12-23",392,2,1]
["bfredrikson","sdd","m","m59","1500m","1994-12-23",328.4,5,1]
["ytasker","tmt","f","f59","15k","1994-12-23",4770,4,0]
["mrothenberg","tmt","m","m64","15k","1994-12-23",4769,3,0]
["kmann","sdd","m","m34","1600r","1994-12-23",263.10000000000002,4,1]
["mpowell","hbn","m","m34","1600r","1994-12-23",282,3,1]
["tguiden","hbn","m","m39","1600r","1994-12-23",247.9,6,1]
["fstdennis","sdd","m","m39","1600r","1994-12-23",263.10000000000002,4,1]
["jview","sdd","m","m44","1600r","1994-12-23",263.10000000000002,4,1]
["slove","hbn","m","m44","1600r","1994-12-23",282,3,1]
["pjewell","hbn","m","m49","1600r","1994-12-23",282,3,1]
["adrew","hbn","m","m54","1600r","1994-12-23",247.9,6,1]
["pstelmaszyk","hbn","m","m54","1600r","1994-12-23",247.9,6,1]
["jstraussman","sdd","m","m54","1600r","1994-12-23",263.10000000000002,4,1]
["tfondy","hbn","m","m59","1600r","1994-12-23",247.9,6,1]
["jmautz","hbn","m","m59","1600r","1994-12-23",282,3,1]
["ithompson","tmt","f","f44","200m","1994-12-23",27.5,7,0]
["pjewell","hbn","m","m49","200m","1994-12-23",35.4,2,1]
["ttrudell","una","f","f19","3k","1994-12-23",680.5,4,1]
["bkneale","sdd","f","f34","3k","1994-12-23",649.20000000000005,5,1]
["ldamron","rhp","f","f34","3k","1994-12-23",673.6,4,1]
["nverdoliva","una","f","f34","3k","1994-12-23",678.1,4,1]
["ryanai","hbn","f","f39","3k","1994-12-23",704,4,1]
["mbennett","tmt","f","f39","3k","1994-12-23",953.6,1,1]
["klaquidari","sdd","f","f44","3k","1994-12-23",694.8,5,1]
["bblaszak","tmt","f","f49","3k","1994-12-23",660.8,7,1]
["ytasker","tmt","f","f59","3k","1994-12-23",794,5,0]
["dpatruno","rkp","m","m29","3k","1994-12-23",568.20000000000005,5,1]
["blindsey","una","m","m29","3k","1994-12-23",609,4,1]
["rbrenner","rhp","m","m34","3k","1994-12-23",565.29999999999995,5,1]
["rnessel","una","m","m34","3k","1994-12-23",595,5,1]
["jnelson","una","m","m34","3k","1994-12-23",604.4,4,1]
["mpowell","hbn","m","m34","3k","1994-12-23",698.9,2,1]
["mdibattista","una","m","m39","3k","1994-12-23",598.1,5,1]
["dchristensen","hbn","m","m39","3k","1994-12-23",614.70000000000005,5,1]
["khanlon","tmt","m","m39","3k","1994-12-23",629.4,4,1]
["kjabbour","tmt","m","m39","3k","1994-12-23",672,3,1]
["mdriscoll","rkp","m","m39","3k","1994-12-23",817.6,1,1]
["kkelly","una","m","m44","3k","1994-12-23",591.79999999999995,6,1]
["tmcconnell","tmt","m","m44","3k","1994-12-23",612.79999999999995,5,1]
["rklinetop","rkp","m","m44","3k","1994-12-23",622.29999999999995,5,1]
["pgriffin","rhp","m","m44","3k","1994-12-23",653.70000000000005,4,1]
["jthompson","sdd","m","m44","3k","1994-12-23",701.1,3,1]
["slove","hbn","m","m44","3k","1994-12-23",705,3,1]
["thomeyer","una","m","m49","3k","1994-12-23",603.70000000000005,6,1]
["jcondon","rhp","m","m49","3k","1994-12-23",655.20000000000005,5,1]
["pmcclure","rhp","m","m49","3k","1994-12-23",682.9,4,1]
["pwillsey","tmt","m","m49","3k","1994-12-23",722,3,1]
["rkalinoski","hbn","m","m49","3k","1994-12-23",809.5,2,1]
["smurphy","rkp","m","m54","3k","1994-12-23",669.2,5,1]
["jstraussman","sdd","m","m54","3k","1994-12-23",684,5,1]
["jreynolds","sdd","m","m54","3k","1994-12-23",690.3,5,1]
["dfrost","rhp","m","m54","3k","1994-12-23",794.3,3,1]
["vcolgan","una","m","m59","3k","1994-12-23",626.29999999999995,7,1]
["sgraceffo","tmt","m","m59","3k","1994-12-23",627.6,7,1]
["tfondy","hbn","m","m59","3k","1994-12-23",721.1,5,1]
["kbarth","rkp","m","m59","3k","1994-12-23",739.5,4,1]
["jmautz","hbn","m","m59","3k","1994-12-23",748.5,4,1]
["rwerner","sdd","m","m59","3k","1994-12-23",803,3,1]
["rmilner","rhp","m","m64","3k","1994-12-23",624.6,8,1]
["mrothenberg","tmt","m","m64","3k","1994-12-23",784,4,0]
["mrothenberg","tmt","m","m64","3k","1994-12-23",819.7,3,1]
["twalnut","rkp","m","m74","3k","1994-12-23",834.2,5,1]
["nwhite","hbn","m","m79","3k","1994-12-23",818.9,7,1]
["ytasker","tmt","f","f59","400m","1994-12-23",89,3,0]
["gdiamond","sdd","m","m44","400m","1994-12-23",69.2,3,1]
["mgratzer","rhp","m","m64","400m","1994-12-23",83.1,3,1]
["ytasker","tmt","f","f59","5k","1994-12-23",1361,5,0]
["mrothenberg","tmt","m","m64","5k","1994-12-23",1339,4,0]
["ithompson","tmt","f","f44","800m","1994-12-23",163.5,5,0]
["ytasker","tmt","f","f59","800m","1994-12-23",182,5,0]
["gdiamond","sdd","m","m44","800m","1994-12-23",157.9,4,1]
["jview","sdd","m","m44","800m","1994-12-23",158,4,1]
["mrothenberg","tmt","m","m64","800m","1994-12-23",186,4,0]
["abranch","hbn","m","m64","800m","1994-12-23",231.6,1,1]
["bkneale","sdd","f","f34","800r","1994-12-23",144.1,3,1]
["jreynolds","sdd","m","m54","800r","1994-12-23",144.1,3,1]
["mfried","sdd","m","m64","800r","1994-12-23",144.1,3,1]
["establer","sdd","m","m69","800r","1994-12-23",144.1,3,1]
["labrahamson","tmt","m","m54","10k","1994-12-30",2378,5,0]
["pford","rkp","f","f39","15k","1994-12-30",3931,4,0]
["labrahamson","tmt","m","m54","15k","1994-12-30",3961,4,0]
["sclemence","rhp","m","m59","15k","1994-12-30",4930,2,0]
["tcollins","hbn","m","m54","1600r","1994-12-30",311.10000000000002,4,1]
["tfondy","hbn","m","m59","1600r","1994-12-30",311.10000000000002,4,1]
["hmacmillan","hbn","m","m69","1600r","1994-12-30",311.10000000000002,4,1]
["nwhite","hbn","m","m79","1600r","1994-12-30",311.10000000000002,4,1]
["bkneale","sdd","f","f34","3200r","1994-12-30",670.8,4,1]
["klaquidari","sdd","f","f44","3200r","1994-12-30",670.8,4,1]
["kmann","sdd","m","m34","3200r","1994-12-30",598,5,1]
["rnelson","hbn","m","m39","3200r","1994-12-30",567.5,6,1]
["fstdennis","sdd","m","m39","3200r","1994-12-30",598,5,1]
["fstdennis","sdd","m","m39","3200r","1994-12-30",602.5,4,1]
["gdiamond","sdd","m","m44","3200r","1994-12-30",602.5,4,1]
["jthompson","sdd","m","m44","3200r","1994-12-30",602.5,4,1]
["jview","sdd","m","m44","3200r","1994-12-30",602.5,4,1]
["tcollins","hbn","m","m54","3200r","1994-12-30",567.5,6,1]
["pstelmaszyk","hbn","m","m54","3200r","1994-12-30",567.5,6,1]
["jstraussman","sdd","m","m54","3200r","1994-12-30",598,5,1]
["jreynolds","sdd","m","m54","3200r","1994-12-30",670.8,4,1]
["tfondy","hbn","m","m59","3200r","1994-12-30",567.5,6,1]
["establer","sdd","m","m69","3200r","1994-12-30",598,5,1]
["establer","sdd","m","m69","3200r","1994-12-30",670.8,4,1]
["labrahamson","tmt","m","m54","5k","1994-12-30",1137,5,0]
["dstokes","una","f","f29","800m","1994-12-30",184.5,2,1]
["bkneale","sdd","f","f34","800m","1994-12-30",165,4,1]
["ryanai","hbn","f","f39","800m","1994-12-30",161,4,1]
["amorss","una","f","f39","800m","1994-12-30",187.3,2,1]
["ithompson","tmt","f","f44","800m","1994-12-30",161.4,5,1]
["klaquidari","sdd","f","f44","800m","1994-12-30",162.69999999999999,5,1]
["dsherrer","sdd","f","f44","800m","1994-12-30",212.9,1,1]
["bblaszak","tmt","f","f49","800m","1994-12-30",160.69999999999999,6,1]
["mpersick","una","m","m29","800m","1994-12-30",128.6,5,1]
["blindsey","una","m","m29","800m","1994-12-30",138.80000000000001,4,1]
["rnessel","una","m","m34","800m","1994-12-30",132,5,1]
["pturley","tmt","m","m34","800m","1994-12-30",146.6,4,1]
["prougeux","una","m","m39","800m","1994-12-30",131.19999999999999,6,1]
["khanlon","tmt","m","m39","800m","1994-12-30",133.4,6,1]
["tguiden","hbn","m","m39","800m","1994-12-30",146.5,4,1]
["mhaun","una","m","m39","800m","1994-12-30",158,3,1]
["kkelly","una","m","m44","800m","1994-12-30",131.6,6,1]
["jcapoccia","rkp","m","m44","800m","1994-12-30",138.1,6,1]
["pgriffin","rhp","m","m44","800m","1994-12-30",139.9,5,1]
["kreynolds","rhp","m","m44","800m","1994-12-30",145.30000000000001,5,1]
["jthompson","sdd","m","m44","800m","1994-12-30",151.4,4,1]
["rmicho","hbn","m","m49","800m","1994-12-30",141.6,6,1]
["lnafie","rkp","m","m49","800m","1994-12-30",145.5,5,1]
["rkalinoski","hbn","m","m49","800m","1994-12-30",176,3,1]
["jreynolds","sdd","m","m54","800m","1994-12-30",152.69999999999999,5,1]
["tcollins","hbn","m","m54","800m","1994-12-30",176.7,3,1]
["jlagraff","rkp","m","m54","800m","1994-12-30",195.2,2,1]
["jucci","sdd","m","m59","800m","1994-12-30",162.1,5,1]
["jmautz","hbn","m","m59","800m","1994-12-30",172.4,4,1]
["kbarth","rkp","m","m59","800m","1994-12-30",176.3,4,1]
["price","rkp","m","m59","800m","1994-12-30",187.8,3,1]
["rmilner","rhp","m","m64","800m","1994-12-30",144.6,8,1]
["fschlereth","rhp","m","m64","800m","1994-12-30",146.9,8,1]
["gbodine","rhp","m","m64","800m","1994-12-30",180.3,4,1]
["twalnut","rkp","m","m74","800m","1994-12-30",191.8,5,1]
["nwhite","hbn","m","m79","800m","1994-12-30",199.3,6,1]
["ryanai","hbn","f","f39","1600r","1995-01-06",300.3,4,1]
["kcarrino","hbn","f","f44","1600r","1995-01-06",300.3,4,1]
["tfondy","hbn","m","m59","1600r","1995-01-06",300.3,4,1]
["hmacmillan","hbn","m","m69","1600r","1995-01-06",300.3,4,1]
["jmelczer","sdd","m","m34","200m","1995-01-06",38,1,1]
["abranch","hbn","m","m64","200m","1995-01-06",27.4,8,1]
["klaquidari","sdd","f","f44","3200r","1995-01-06",651.1,6,1]
["jucci","sdd","m","m59","3200r","1995-01-06",651.1,6,1]
["wmcrae","sdd","m","m64","3200r","1995-01-06",651.1,6,1]
["establer","sdd","m","m69","3200r","1995-01-06",651.1,6,1]
["sfalso","una","f","f34","400m","1995-01-06",67.900000000000006,4,1]
["bkneale","sdd","f","f34","400m","1995-01-06",74.8,3,1]
["ryanai","hbn","f","f39","400m","1995-01-06",72.599999999999994,4,1]
["pford","rkp","f","f39","400m","1995-01-06",77,3,1]
["amorss","una","f","f39","400m","1995-01-06",81.7,2,1]
["mbennett","tmt","f","f39","400m","1995-01-06",106.7,1,1]
["kcarrino","hbn","f","f44","400m","1995-01-06",76.5,3,1]
["dsherrer","sdd","f","f44","400m","1995-01-06",92.6,1,1]
["bblaszak","tmt","f","f49","400m","1995-01-06",71.400000000000006,5,1]
["ytasker","tmt","f","f59","400m","1995-01-06",85.2,4,1]
["mpersick","una","m","m29","400m","1995-01-06",56.8,5,1]
["blindsey","una","m","m29","400m","1995-01-06",62.8,3,1]
["mpowell","hbn","m","m34","400m","1995-01-06",54.7,6,1]
["prougeux","una","m","m39","400m","1995-01-06",55.6,6,1]
["rnelson","hbn","m","m39","400m","1995-01-06",56.5,6,1]
["khanlon","tmt","m","m39","400m","1995-01-06",56.9,6,1]
["rwheeless","hbn","m","m39","400m","1995-01-06",56.9,6,1]
["relder","rhp","m","m39","400m","1995-01-06",67.099999999999994,3,1]
["avogel","sdd","m","m39","400m","1995-01-06",68.400000000000006,3,1]
["kjabbour","tmt","m","m39","400m","1995-01-06",69.2,3,1]
["tmcconnell","tmt","m","m44","400m","1995-01-06",59.9,5,1]
["pgriffin","rhp","m","m44","400m","1995-01-06",60.6,5,1]
["jthompson","sdd","m","m44","400m","1995-01-06",64,4,1]
["doja","tmt","m","m44","400m","1995-01-06",65.8,4,1]
["gdiamond","sdd","m","m44","400m","1995-01-06",67.2,4,1]
["kreynolds","rhp","m","m44","400m","1995-01-06",72.7,3,1]
["pmcclure","rhp","m","m49","400m","1995-01-06",62.2,5,1]
["lnafie","rkp","m","m49","400m","1995-01-06",63.5,5,1]
["pjewell","hbn","m","m49","400m","1995-01-06",75.599999999999994,2,1]
["adrew","hbn","m","m54","400m","1995-01-06",62.7,6,1]
["jreynolds","sdd","m","m54","400m","1995-01-06",67.2,5,1]
["jstraussman","sdd","m","m54","400m","1995-01-06",68.7,4,1]
["dfrost","rhp","m","m54","400m","1995-01-06",71.599999999999994,4,1]
["tfondy","hbn","m","m59","400m","1995-01-06",60.7,7,1]
["sgraceffo","tmt","m","m59","400m","1995-01-06",71.8,4,1]
["jmautz","hbn","m","m59","400m","1995-01-06",73.599999999999994,4,1]
["price","rkp","m","m59","400m","1995-01-06",76.2,3,1]
["rwerner","sdd","m","m59","400m","1995-01-06",86,2,1]
["fschlereth","rhp","m","m64","400m","1995-01-06",59.9,8,1]
["rbrock","rhp","m","m64","400m","1995-01-06",69.099999999999994,6,1]
["mrothenberg","tmt","m","m64","400m","1995-01-06",78.099999999999994,4,1]
["hmacmillan","hbn","m","m69","400m","1995-01-06",72.3,6,1]
["twalnut","rkp","m","m74","400m","1995-01-06",81.900000000000006,5,1]
["rmore","rhp","m","m74","400m","1995-01-06",94.2,3,1]
["nwhite","hbn","m","m79","400m","1995-01-06",95.6,3,1]
["wborgstede","tmt","m","m49","800m","1995-01-06",216,1,1]
["bkneale","sdd","f","f34","800r","1995-01-06",137.19999999999999,2,1]
["jthompson","sdd","m","m44","800r","1995-01-06",137.19999999999999,2,1]
["jview","sdd","m","m44","800r","1995-01-06",137.19999999999999,2,1]
["rwerner","sdd","m","m59","800r","1995-01-06",137.19999999999999,2,1]
["mpowell","hbn","m","m34","200m","1995-01-13",25.6,5,1]
["dmittler","sdd","m","m54","200m","1995-01-13",61.6,1,1]
["wobrian","tmt","m","m64","200m","1995-01-13",38.4,2,1]
["bkneale","sdd","f","f34","3200r","1995-01-13",606,5,1]
["ldamron","rhp","f","f34","3200r","1995-01-13",659.3,4,1]
["pford","rkp","f","f39","3200r","1995-01-13",659,5,1]
["mbennett","tmt","f","f39","3200r","1995-01-13",786.1,2,1]
["klaquidari","sdd","f","f44","3200r","1995-01-13",649.79999999999995,5,1]
["kcarrino","hbn","f","f44","3200r","1995-01-13",706.2,4,1]
["ithompson","tmt","f","f44","3200r","1995-01-13",786.1,2,1]
["dsherrer","sdd","f","f44","3200r","1995-01-13",826.1,1,1]
["bblaszak","tmt","f","f49","3200r","1995-01-13",573.20000000000005,6,1]
["bblaszak","tmt","f","f49","3200r","1995-01-13",786.1,2,1]
["mcarrino","hbn","f","f64","3200r","1995-01-13",746.6,3,1]
["eberntsen","sdd","m","m29","3200r","1995-01-13",565.29999999999995,6,1]
["eberntsen","sdd","m","m29","3200r","1995-01-13",606,5,1]
["kmann","sdd","m","m34","3200r","1995-01-13",586.5,5,1]
["rhouck","sdd","m","m34","3200r","1995-01-13",649.79999999999995,5,1]
["mpowell","hbn","m","m34","3200r","1995-01-13",746.6,3,1]
["fstdennis","sdd","m","m39","3200r","1995-01-13",565.29999999999995,6,1]
["khanlon","tmt","m","m39","3200r","1995-01-13",573.20000000000005,6,1]
["ncoffey","sdd","m","m39","3200r","1995-01-13",586.5,5,1]
["fstdennis","sdd","m","m39","3200r","1995-01-13",606,5,1]
["rwheeless","hbn","m","m39","3200r","1995-01-13",607.1,6,1]
["kjabbour","tmt","m","m39","3200r","1995-01-13",725.3,3,1]
["wnicholson","rkp","m","m39","3200r","1995-01-13",735.5,3,1]
["jchaiken","rhp","m","m39","3200r","1995-01-13",765.9,3,1]
["avogel","sdd","m","m39","3200r","1995-01-13",826.1,1,1]
["tmcconnell","tmt","m","m44","3200r","1995-01-13",573.20000000000005,6,1]
["jthompson","sdd","m","m44","3200r","1995-01-13",586.5,5,1]
["rcleary","rkp","m","m44","3200r","1995-01-13",659,5,1]
["kreynolds","rhp","m","m44","3200r","1995-01-13",659.3,4,1]
["slove","hbn","m","m44","3200r","1995-01-13",706.2,4,1]
["pgriffin","rhp","m","m44","3200r","1995-01-13",765.9,3,1]
["rmicho","hbn","m","m49","3200r","1995-01-13",607.1,6,1]
["jcondon","rhp","m","m49","3200r","1995-01-13",613.70000000000005,6,1]
["lnafie","rkp","m","m49","3200r","1995-01-13",659,5,1]
["jcondon","rhp","m","m49","3200r","1995-01-13",659.3,4,1]
["pjewell","hbn","m","m49","3200r","1995-01-13",706.2,4,1]
["wborgstede","tmt","m","m49","3200r","1995-01-13",725.3,3,1]
["pwillsey","tmt","m","m49","3200r","1995-01-13",725.3,3,1]
["jreynolds","sdd","m","m54","3200r","1995-01-13",565.29999999999995,6,1]
["labrahamson","tmt","m","m54","3200r","1995-01-13",573.20000000000005,6,1]
["dfrost","rhp","m","m54","3200r","1995-01-13",659.3,4,1]
["jlagraff","rkp","m","m54","3200r","1995-01-13",735.5,3,1]
["dmittler","sdd","m","m54","3200r","1995-01-13",826.1,1,1]
["jucci","sdd","m","m59","3200r","1995-01-13",565.29999999999995,6,1]
["tfondy","hbn","m","m59","3200r","1995-01-13",607.1,6,1]
["bfredrikson","sdd","m","m59","3200r","1995-01-13",649.79999999999995,5,1]
["kbarth","rkp","m","m59","3200r","1995-01-13",735.5,3,1]
["price","rkp","m","m59","3200r","1995-01-13",735.5,3,1]
["tfondy","hbn","m","m59","3200r","1995-01-13",746.6,3,1]
["jmautz","hbn","m","m59","3200r","1995-01-13",746.6,3,1]
["rbrock","rhp","m","m64","3200r","1995-01-13",613.70000000000005,6,1]
["rhahn","rhp","m","m64","3200r","1995-01-13",613.70000000000005,6,1]
["fschlereth","rhp","m","m64","3200r","1995-01-13",613.70000000000005,6,1]
["mfried","sdd","m","m64","3200r","1995-01-13",649.79999999999995,5,1]
["mrothenberg","tmt","m","m64","3200r","1995-01-13",725.3,3,1]
["msage","rhp","m","m64","3200r","1995-01-13",765.9,3,1]
["flyman","tmt","m","m64","3200r","1995-01-13",786.1,2,1]
["wmcrae","sdd","m","m64","3200r","1995-01-13",826.1,1,1]
["establer","sdd","m","m69","3200r","1995-01-13",586.5,5,1]
["establer","sdd","m","m69","3200r","1995-01-13",606,5,1]
["hmacmillan","hbn","m","m69","3200r","1995-01-13",607.1,6,1]
["twalnut","rkp","m","m74","3200r","1995-01-13",659,5,1]
["rmore","rhp","m","m74","3200r","1995-01-13",765.9,3,1]
["nwhite","hbn","m","m79","3200r","1995-01-13",706.2,4,1]
["mcarrino","hbn","f","f64","400m","1995-01-13",116.7,1,1]
["sbennett","una","m","m44","400m","1995-01-13",60.5,5,1]
["akilfoyle","una","m","m29","800m","1995-01-13",128,5,1]
["pjewell","hbn","m","m49","800m","1995-01-13",165.3,4,1]
["dmittler","sdd","m","m54","800m","1995-01-13",246.6,1,1]
["bfredrikson","sdd","m","m59","800m","1995-01-13",159.80000000000001,5,1]
["rmicho","hbn","m","m49","10k","1995-01-19",2619,3,0]
["mgratzer","rhp","m","m64","1500m","1995-01-19",381.7,4,1]
["rnelson","hbn","m","m39","15k","1995-01-19",3303,5,0]
["bkneale","sdd","f","f34","1600r","1995-01-19",276.60000000000002,3,1]
["ldamron","rhp","f","f34","1600r","1995-01-19",287.3,3,1]
["bkneale","sdd","f","f34","1600r","1995-01-19",350.8,1,1]
["ryanai","hbn","f","f39","1600r","1995-01-19",285.10000000000002,4,1]
["pford","rkp","f","f39","1600r","1995-01-19",312.8,3,1]
["sohara-c","rkp","f","f39","1600r","1995-01-19",325.39999999999998,2,1]
["ithompson","tmt","f","f44","1600r","1995-01-19",279.7,4,1]
["klaquidari","sdd","f","f44","1600r","1995-01-19",287.10000000000002,3,1]
["bblaszak","tmt","f","f49","1600r","1995-01-19",255.7,5,1]
["bblaszak","tmt","f","f49","1600r","1995-01-19",279.7,4,1]
["ceggert","sdd","f","f49","1600r","1995-01-19",350.8,1,1]
["mcarrino","hbn","f","f64","1600r","1995-01-19",339.4,3,1]
["mroux","hbn","m","m29","1600r","1995-01-19",237.9,6,1]
["eberntsen","sdd","m","m29","1600r","1995-01-19",246.9,5,1]
["eberntsen","sdd","m","m29","1600r","1995-01-19",252.1,5,1]
["eberntsen","sdd","m","m29","1600r","1995-01-19",276.60000000000002,3,1]
["mdintzner","rhp","m","m29","1600r","1995-01-19",333.5,2,1]
["kmaresca","rhp","m","m29","1600r","1995-01-19",333.5,2,1]
["rhouck","sdd","m","m34","1600r","1995-01-19",246.9,5,1]
["rhouck","sdd","m","m34","1600r","1995-01-19",276.60000000000002,3,1]
["fstdennis","sdd","m","m39","1600r","1995-01-19",246.9,5,1]
["fstdennis","sdd","m","m39","1600r","1995-01-19",252.1,5,1]
["khanlon","tmt","m","m39","1600r","1995-01-19",255.7,5,1]
["khanlon","tmt","m","m39","1600r","1995-01-19",279.7,4,1]
["fstdennis","sdd","m","m39","1600r","1995-01-19",287.10000000000002,3,1]
["avogel","sdd","m","m39","1600r","1995-01-19",287.10000000000002,3,1]
["ncoffey","sdd","m","m39","1600r","1995-01-19",288.5,4,1]
["wnicholson","rkp","m","m39","1600r","1995-01-19",310.89999999999998,2,1]
["nprice","rkp","m","m39","1600r","1995-01-19",310.89999999999998,2,1]
["tmcconnell","tmt","m","m44","1600r","1995-01-19",255.7,5,1]
["tmcconnell","tmt","m","m44","1600r","1995-01-19",267.3,5,1]
["wcampbell","rhp","m","m44","1600r","1995-01-19",284.8,4,1]
["kreynolds","rhp","m","m44","1600r","1995-01-19",284.8,4,1]
["khinman","hbn","m","m44","1600r","1995-01-19",285.10000000000002,4,1]
["kreynolds","rhp","m","m44","1600r","1995-01-19",287.3,3,1]
["lwalker","rhp","m","m44","1600r","1995-01-19",287.3,3,1]
["gdiamond","sdd","m","m44","1600r","1995-01-19",288.5,4,1]
["jview","sdd","m","m44","1600r","1995-01-19",350.8,1,1]
["rmicho","hbn","m","m49","1600r","1995-01-19",237.9,6,1]
["pmcclure","rhp","m","m49","1600r","1995-01-19",266.89999999999998,6,1]
["pwillsey","tmt","m","m49","1600r","1995-01-19",267.3,5,1]
["wborgstede","tmt","m","m49","1600r","1995-01-19",279.7,4,1]
["pmcclure","rhp","m","m49","1600r","1995-01-19",284.8,4,1]
["lnafie","rkp","m","m49","1600r","1995-01-19",312.8,3,1]
["labrahamson","tmt","m","m54","1600r","1995-01-19",267.3,5,1]
["dfrost","rhp","m","m54","1600r","1995-01-19",287.3,3,1]
["jlagraff","rkp","m","m54","1600r","1995-01-19",310.89999999999998,2,1]
["jlagraff","rkp","m","m54","1600r","1995-01-19",325.39999999999998,2,1]
["tfondy","hbn","m","m59","1600r","1995-01-19",237.9,6,1]
["jucci","sdd","m","m59","1600r","1995-01-19",252.1,5,1]
["jallen","tmt","m","m59","1600r","1995-01-19",255.7,5,1]
["jallen","tmt","m","m59","1600r","1995-01-19",267.3,5,1]
["rwerner","sdd","m","m59","1600r","1995-01-19",287.10000000000002,3,1]
["price","rkp","m","m59","1600r","1995-01-19",310.89999999999998,2,1]
["kbarth","rkp","m","m59","1600r","1995-01-19",312.8,3,1]
["kbarth","rkp","m","m59","1600r","1995-01-19",325.39999999999998,2,1]
["price","rkp","m","m59","1600r","1995-01-19",325.39999999999998,2,1]
["tfondy","hbn","m","m59","1600r","1995-01-19",339.4,3,1]
["jmautz","hbn","m","m59","1600r","1995-01-19",339.4,3,1]
["jucci","sdd","m","m59","1600r","1995-01-19",350.8,1,1]
["rwilett","hbn","m","m64","1600r","1995-01-19",237.9,6,1]
["wmcrae","sdd","m","m64","1600r","1995-01-19",246.9,5,1]
["rbrock","rhp","m","m64","1600r","1995-01-19",266.89999999999998,6,1]
["rhahn","rhp","m","m64","1600r","1995-01-19",266.89999999999998,6,1]
["fschlereth","rhp","m","m64","1600r","1995-01-19",266.89999999999998,6,1]
["wmcrae","sdd","m","m64","1600r","1995-01-19",276.60000000000002,3,1]
["mgratzer","rhp","m","m64","1600r","1995-01-19",284.8,4,1]
["abranch","hbn","m","m64","1600r","1995-01-19",285.10000000000002,4,1]
["mfried","sdd","m","m64","1600r","1995-01-19",288.5,4,1]
["bchambers","rhp","m","m64","1600r","1995-01-19",333.5,2,1]
["rwilett","hbn","m","m64","1600r","1995-01-19",339.4,3,1]
["establer","sdd","m","m69","1600r","1995-01-19",252.1,5,1]
["hmacmillan","hbn","m","m69","1600r","1995-01-19",285.10000000000002,4,1]
["establer","sdd","m","m69","1600r","1995-01-19",288.5,4,1]
["twalnut","rkp","m","m74","1600r","1995-01-19",312.8,3,1]
["rmore","rhp","m","m74","1600r","1995-01-19",333.5,2,1]
["pstelmaszyk","hbn","m","m54","200m","1995-01-19",25,8,0]
["abranch","hbn","m","m64","200m","1995-01-19",26.1,9,0]
["rmicho","hbn","m","m49","400m","1995-01-19",57.4,7,0]
["pstelmaszyk","hbn","m","m54","400m","1995-01-19",56.1,8,0]
["mpowell","hbn","m","m34","5k","1995-01-19",1086,4,0]
["tcollins","hbn","m","m54","5k","1995-01-19",1259,4,0]
["pstelmaszyk","hbn","m","m54","5k","1995-01-19",1360,3,0]
["mpowell","hbn","m","m34","800m","1995-01-19",118.9,7,0]
["gbodine","rhp","m","m64","15k","1995-01-26",4438,4,0]
["jthompson","sdd","m","m44","1600r","1995-01-26",286.8,4,1]
["jview","sdd","m","m44","1600r","1995-01-26",286.8,4,1]
["bfredrikson","sdd","m","m59","1600r","1995-01-26",286.8,4,1]
["wmcrae","sdd","m","m64","1600r","1995-01-26",286.8,4,1]
["dchristensen","hbn","m","m39","200m","1995-01-26",27.8,4,1]
["jmautz","hbn","m","m59","200m","1995-01-26",33.1,4,1]
["khanlon","tmt","m","m39","3k","1995-01-26",608,5,0]
["chiort","rhp","f","f29","800r","1995-01-26",134.1,3,1]
["ldamron","rhp","f","f34","800r","1995-01-26",134.1,3,1]
["ryanai","hbn","f","f39","800r","1995-01-26",119.1,5,1]
["mbennett","tmt","f","f39","800r","1995-01-26",152.80000000000001,1,1]
["ithompson","tmt","f","f44","800r","1995-01-26",110,6,1]
["bblaszak","tmt","f","f49","800r","1995-01-26",138,3,1]
["bblaszak","tmt","f","f49","800r","1995-01-26",152.80000000000001,1,1]
["mroux","hbn","m","m29","800r","1995-01-26",104,7,1]
["mdintzner","rhp","m","m29","800r","1995-01-26",134.1,3,1]
["mpowell","hbn","m","m34","800r","1995-01-26",106.2,7,0]
["kmann","sdd","m","m34","800r","1995-01-26",118,4,1]
["rhouck","sdd","m","m34","800r","1995-01-26",118.9,5,1]
["uenglich","rhp","m","m34","800r","1995-01-26",124.5,3,1]
["mpowell","hbn","m","m34","800r","1995-01-26",127.8,5,1]
["rwheeless","hbn","m","m39","800r","1995-01-26",104,7,1]
["tguiden","hbn","m","m39","800r","1995-01-26",108.8,7,1]
["khanlon","tmt","m","m39","800r","1995-01-26",110,6,1]
["khanlon","tmt","m","m39","800r","1995-01-26",113.4,5,1]
["ncoffey","sdd","m","m39","800r","1995-01-26",118.9,5,1]
["tguiden","hbn","m","m39","800r","1995-01-26",121.9,4,1]
["avogel","sdd","m","m39","800r","1995-01-26",122.3,5,1]
["nprice","rkp","m","m39","800r","1995-01-26",133.4,3,1]
["wnicholson","rkp","m","m39","800r","1995-01-26",137.80000000000001,2,1]
["nprice","rkp","m","m39","800r","1995-01-26",137.80000000000001,2,1]
["kjabbour","tmt","m","m39","800r","1995-01-26",152.80000000000001,1,1]
["tmcconnell","tmt","m","m44","800r","1995-01-26",110,6,1]
["tmcconnell","tmt","m","m44","800r","1995-01-26",113.4,5,1]
["jthompson","sdd","m","m44","800r","1995-01-26",118,4,1]
["jview","sdd","m","m44","800r","1995-01-26",118,4,1]
["khinman","hbn","m","m44","800r","1995-01-26",119.1,5,1]
["pgriffin","rhp","m","m44","800r","1995-01-26",119.2,6,1]
["wcampbell","rhp","m","m44","800r","1995-01-26",120.9,5,1]
["slove","hbn","m","m44","800r","1995-01-26",121.9,4,1]
["pgriffin","rhp","m","m44","800r","1995-01-26",124.5,3,1]
["kreynolds","rhp","m","m44","800r","1995-01-26",124.5,3,1]
["lwalker","rhp","m","m44","800r","1995-01-26",124.5,3,1]
["jcapoccia","rkp","m","m44","800r","1995-01-26",132.1,4,1]
["doja","tmt","m","m44","800r","1995-01-26",138,3,1]
["rmicho","hbn","m","m49","800r","1995-01-26",106.2,7,0]
["rmicho","hbn","m","m49","800r","1995-01-26",119.1,5,1]
["pmcclure","rhp","m","m49","800r","1995-01-26",119.2,6,1]
["pmcclure","rhp","m","m49","800r","1995-01-26",120.9,5,1]
["rkalinoski","hbn","m","m49","800r","1995-01-26",121.9,4,1]
["rmicho","hbn","m","m49","800r","1995-01-26",127.8,5,1]
["lnafie","rkp","m","m49","800r","1995-01-26",132.1,4,1]
["wborgstede","tmt","m","m49","800r","1995-01-26",138,3,1]
["pwillsey","tmt","m","m49","800r","1995-01-26",138,3,1]
["pwillsey","tmt","m","m49","800r","1995-01-26",152.80000000000001,1,1]
["labrahamson","tmt","m","m54","800r","1995-01-26",113.4,5,1]
["jsmith","sdd","m","m54","800r","1995-01-26",118,4,1]
["jsmith","sdd","m","m54","800r","1995-01-26",122.3,5,1]
["rcoleman","rkp","m","m54","800r","1995-01-26",133.4,3,1]
["jlagraff","rkp","m","m54","800r","1995-01-26",133.4,3,1]
["rcoleman","rkp","m","m54","800r","1995-01-26",137.80000000000001,2,1]
["tfondy","hbn","m","m59","800r","1995-01-26",104,7,1]
["tfondy","hbn","m","m59","800r","1995-01-26",106.2,7,0]
["tfondy","hbn","m","m59","800r","1995-01-26",108.8,7,1]
["jallen","tmt","m","m59","800r","1995-01-26",110,6,1]
["jallen","tmt","m","m59","800r","1995-01-26",113.4,5,1]
["jucci","sdd","m","m59","800r","1995-01-26",118.9,5,1]
["tfondy","hbn","m","m59","800r","1995-01-26",119.1,5,1]
["jucci","sdd","m","m59","800r","1995-01-26",122.3,5,1]
["kbarth","rkp","m","m59","800r","1995-01-26",132.1,4,1]
["price","rkp","m","m59","800r","1995-01-26",133.4,3,1]
["price","rkp","m","m59","800r","1995-01-26",137.80000000000001,2,1]
["abranch","hbn","m","m64","800r","1995-01-26",104,7,1]
["abranch","hbn","m","m64","800r","1995-01-26",106.2,7,0]
["abranch","hbn","m","m64","800r","1995-01-26",108.8,7,1]
["rwilett","hbn","m","m64","800r","1995-01-26",108.8,7,1]
["fschlereth","rhp","m","m64","800r","1995-01-26",119.2,6,1]
["rhahn","rhp","m","m64","800r","1995-01-26",120.9,5,1]
["fschlereth","rhp","m","m64","800r","1995-01-26",120.9,5,1]
["msage","rhp","m","m64","800r","1995-01-26",134.1,3,1]
["establer","sdd","m","m69","800r","1995-01-26",118.9,5,1]
["hmacmillan","hbn","m","m69","800r","1995-01-26",121.9,4,1]
["establer","sdd","m","m69","800r","1995-01-26",122.3,5,1]
["hmacmillan","hbn","m","m69","800r","1995-01-26",127.8,5,1]
["rmore","rhp","m","m74","800r","1995-01-26",119.2,6,1]
["twalnut","rkp","m","m74","800r","1995-01-26",132.1,4,1]
["nwhite","hbn","m","m79","800r","1995-01-26",127.8,5,1]
["dchristensen","hbn","m","m39","10k","1995-02-02",2198,5,0]
["dchristensen","hbn","m","m39","15k","1995-02-02",3582,4,0]
["relder","rhp","m","m39","15k","1995-02-02",4055,2,0]
["jsmith","sdd","m","m54","15k","1995-02-02",3270,7,0]
["rmilner","rhp","m","m64","15k","1995-02-02",3676,7,0]
["establer","sdd","m","m69","15k","1995-02-02",3609,8,0]
["pgriffin","rhp","m","m44","1600r","1995-02-02",298.8,4,1]
["rhahn","rhp","m","m64","1600r","1995-02-02",298.8,4,1]
["fschlereth","rhp","m","m64","1600r","1995-02-02",298.8,4,1]
["rmore","rhp","m","m74","1600r","1995-02-02",298.8,4,1]
["chiort","rhp","f","f29","200m","1995-02-02",31.9,3,1]
["bkneale","sdd","f","f34","200m","1995-02-02",37.4,1,1]
["nscott","rhp","f","f44","200m","1995-02-02",36,3,1]
["klaquidari","sdd","f","f44","200m","1995-02-02",36.1,3,1]
["dsherrer","sdd","f","f44","200m","1995-02-02",42.9,1,1]
["bblaszak","tmt","f","f49","200m","1995-02-02",35.6,3,1]
["ceggert","sdd","f","f49","200m","1995-02-02",47.1,1,1]
["ehahn","una","f","f59","200m","1995-02-02",59.2,1,1]
["mcarrino","hbn","f","f64","200m","1995-02-02",46,2,1]
["kmaresca","rhp","m","m29","200m","1995-02-02",27.4,4,1]
["mdintzner","rhp","m","m29","200m","1995-02-02",29.3,3,1]
["uenglich","rhp","m","m34","200m","1995-02-02",38.799999999999997,1,1]
["khanlon","tmt","m","m39","200m","1995-02-02",26.5,5,1]
["dchristensen","hbn","m","m39","200m","1995-02-02",27.6,4,1]
["gwoods","una","m","m39","200m","1995-02-02",27.8,4,1]
["avogel","sdd","m","m39","200m","1995-02-02",29.8,3,1]
["mdriscoll","rkp","m","m39","200m","1995-02-02",51.5,1,1]
["pgriffin","rhp","m","m44","200m","1995-02-02",26.8,5,1]
["jcapoccia","rkp","m","m44","200m","1995-02-02",27.7,5,1]
["khinman","hbn","m","m44","200m","1995-02-02",29.1,4,1]
["gdiamond","sdd","m","m44","200m","1995-02-02",31.3,3,1]
["wcampbell","rhp","m","m44","200m","1995-02-02",31.4,3,1]
["lwalker","rhp","m","m44","200m","1995-02-02",33.200000000000003,2,1]
["rmicho","hbn","m","m49","200m","1995-02-02",25.6,7,1]
["pmcclure","rhp","m","m49","200m","1995-02-02",28.3,5,1]
["wborgstede","tmt","m","m49","200m","1995-02-02",36.200000000000003,2,1]
["jsmith","sdd","m","m54","200m","1995-02-02",29.2,5,1]
["rcoleman","rkp","m","m54","200m","1995-02-02",31,4,1]
["jreynolds","sdd","m","m54","200m","1995-02-02",31.5,4,1]
["jlagraff","rkp","m","m54","200m","1995-02-02",32.700000000000003,4,1]
["tfondy","hbn","m","m59","200m","1995-02-02",26.8,7,1]
["jucci","sdd","m","m59","200m","1995-02-02",32,4,1]
["price","rkp","m","m59","200m","1995-02-02",34.9,3,1]
["kbarth","rkp","m","m59","200m","1995-02-02",36.299999999999997,3,1]
["rwerner","sdd","m","m59","200m","1995-02-02",38.799999999999997,2,1]
["rwilett","hbn","m","m64","200m","1995-02-02",28.8,7,1]
["rhahn","rhp","m","m64","200m","1995-02-02",33.4,4,1]
["hmacmillan","hbn","m","m69","200m","1995-02-02",31.1,6,1]
["rmore","rhp","m","m74","200m","1995-02-02",35.799999999999997,5,1]
["gdiamond","sdd","m","m44","3200r","1995-02-02",641.20000000000005,5,1]
["jsmith","sdd","m","m54","3200r","1995-02-02",641.20000000000005,5,1]
["wmcrae","sdd","m","m64","3200r","1995-02-02",641.20000000000005,5,1]
["establer","sdd","m","m69","3200r","1995-02-02",641.20000000000005,5,1]
["bkneale","sdd","f","f34","5k","1995-02-02",1117,5,0]
["ldamron","rhp","f","f34","5k","1995-02-02",1145,5,0]
["nscott","rhp","f","f44","5k","1995-02-02",1271,4,0]
["rripley","rhp","f","f49","5k","1995-02-02",1355,4,0]
["mcarrino","hbn","f","f64","5k","1995-02-02",2234,1,0]
["mroux","hbn","m","m29","5k","1995-02-02",1127,3,0]
["dchristensen","hbn","m","m39","5k","1995-02-02",1050,5,0]
["relder","rhp","m","m39","5k","1995-02-02",1125,4,0]
["jreynolds","sdd","m","m54","5k","1995-02-02",1118,6,0]
["rmilner","rhp","m","m64","5k","1995-02-02",1089,8,0]
["rbrock","rhp","m","m64","5k","1995-02-02",1162,7,0]
["fschlereth","rhp","m","m64","5k","1995-02-02",1335,4,0]
["chiort","rhp","f","f29","800r","1995-02-02",131.1,3,1]
["mdintzner","rhp","m","m29","800r","1995-02-02",131.1,3,1]
["dchristensen","hbn","m","m39","800r","1995-02-02",116.5,5,1]
["khinman","hbn","m","m44","800r","1995-02-02",127.7,4,1]
["rmicho","hbn","m","m49","800r","1995-02-02",116.5,5,1]
["pjewell","hbn","m","m49","800r","1995-02-02",127.7,4,1]
["pmcclure","rhp","m","m49","800r","1995-02-02",131.1,3,1]
["tfondy","hbn","m","m59","800r","1995-02-02",116.5,5,1]
["tfondy","hbn","m","m59","800r","1995-02-02",127.7,4,1]
["sclemence","rhp","m","m59","800r","1995-02-02",131.1,3,1]
["rwilett","hbn","m","m64","800r","1995-02-02",116.5,5,1]
["hmacmillan","hbn","m","m69","800r","1995-02-02",127.7,4,1]
["bkneale","sdd","f","f34","1500m","1995-02-09",320,4,1]
["ryanai","hbn","f","f39","1500m","1995-02-09",331.3,4,1]
["klaquidari","sdd","f","f44","1500m","1995-02-09",318.2,5,1]
["bblaszak","tmt","f","f49","1500m","1995-02-09",315.7,6,1]
["eberntsen","sdd","m","m29","1500m","1995-02-09",239.9,7,1]
["xverdoes","una","m","m29","1500m","1995-02-09",283.10000000000002,4,1]
["mroux","hbn","m","m29","1500m","1995-02-09",284.89999999999998,4,1]
["mdintzner","rhp","m","m29","1500m","1995-02-09",337.2,2,1]
["mpowell","hbn","m","m34","1500m","1995-02-09",275.89999999999998,5,1]
["jmelczer","sdd","m","m34","1500m","1995-02-09",330.3,2,1]
["khanlon","tmt","m","m39","1500m","1995-02-09",280.10000000000002,5,1]
["fstdennis","sdd","m","m39","1500m","1995-02-09",293.5,4,1]
["jplunkett","rkp","m","m39","1500m","1995-02-09",298.3,4,1]
["gwoods","una","m","m39","1500m","1995-02-09",307.89999999999998,4,1]
["sstehman","hbn","m","m39","1500m","1995-02-09",321.89999999999998,3,1]
["avogel","sdd","m","m39","1500m","1995-02-09",364.5,1,1]
["doja","tmt","m","m44","1500m","1995-02-09",305.89999999999998,4,1]
["khinman","hbn","m","m44","1500m","1995-02-09",317.7,4,1]
["lwalker","rhp","m","m44","1500m","1995-02-09",356,2,1]
["lnafie","rkp","m","m49","1500m","1995-02-09",299.5,5,1]
["pmcclure","rhp","m","m49","1500m","1995-02-09",310.10000000000002,5,1]
["rkalinoski","hbn","m","m49","1500m","1995-02-09",377,2,1]
["wborgstede","tmt","m","m49","1500m","1995-02-09",399.2,1,1]
["jsmith","sdd","m","m54","1500m","1995-02-09",288.39999999999998,6,1]
["jstraussman","sdd","m","m54","1500m","1995-02-09",320.10000000000002,5,1]
["jlagraff","rkp","m","m54","1500m","1995-02-09",365,3,1]
["sgraceffo","tmt","m","m59","1500m","1995-02-09",306,6,1]
["tfondy","hbn","m","m59","1500m","1995-02-09",330.9,5,1]
["jmautz","hbn","m","m59","1500m","1995-02-09",346.6,4,1]
["rwerner","sdd","m","m59","1500m","1995-02-09",369.9,3,1]
["price","rkp","m","m59","1500m","1995-02-09",383.5,3,1]
["xfoote","una","m","m59","1500m","1995-02-09",458,1,1]
["rmilner","rhp","m","m64","1500m","1995-02-09",291,8,0]
["wmcrae","sdd","m","m64","1500m","1995-02-09",331,6,1]
["msage","rhp","m","m64","1500m","1995-02-09",409.8,3,1]
["twalnut","rkp","m","m74","1500m","1995-02-09",400.4,5,1]
["rmore","rhp","m","m74","1500m","1995-02-09",459,3,1]
["priposo","hbn","m","m49","15k","1995-02-09",3590,5,0]
["jcondon","rhp","m","m49","15k","1995-02-09",3793,4,0]
["rmilner","rhp","m","m64","15k","1995-02-09",3676,7,0]
["pford","rkp","f","f39","200m","1995-02-09",37.200000000000003,2,1]
["mbennett","tmt","f","f39","200m","1995-02-09",52.2,1,1]
["priposo","hbn","m","m49","200m","1995-02-09",29.8,4,2]
["labrahamson","tmt","m","m54","200m","1995-02-09",30.7,4,1]
["ryanai","hbn","f","f39","3200r","1995-02-09",678,4,1]
["sstehman","hbn","m","m39","3200r","1995-02-09",678,4,1]
["tfondy","hbn","m","m59","3200r","1995-02-09",678,4,1]
["hmacmillan","hbn","m","m69","3200r","1995-02-09",678,4,1]
["fstdennis","sdd","m","m39","3k","1995-02-09",603.29999999999995,5,0]
["rmilner","rhp","m","m64","3k","1995-02-09",624.6,8,0]
["wcampbell","rhp","m","m44","400m","1995-02-09",71.8,3,1]
["rmilner","rhp","m","m64","5k","1995-02-09",1089,8,0]
["mbennett","tmt","f","f39","800m","1995-02-09",236.5,1,1]
["rwilett","hbn","m","m64","800m","1995-02-09",163,6,1]
["pford","rkp","f","f39","800r","1995-02-09",138.9,3,1]
["jplunkett","rkp","m","m39","800r","1995-02-09",138.9,3,1]
["rcleary","rkp","m","m44","800r","1995-02-09",138.9,3,1]
["twalnut","rkp","m","m74","800r","1995-02-09",138.9,3,1]
["eberntsen","sdd","m","m29","10k","1995-02-23",1979,6,0]
["jstraussman","sdd","m","m54","10k","1995-02-23",2582.5,4,1]
["tcollins","hbn","m","m54","1500m","1995-02-23",330,4,1]
["sohara-c","rkp","f","f39","15k","1995-02-23",4861,1,1]
["bblaszak","tmt","f","f49","15k","1995-02-23",3775,6,0]
["kmorrisroe","una","m","m29","15k","1995-02-23",3821,3,1]
["ncoffey","sdd","m","m39","15k","1995-02-23",3508,4,0]
["dchristensen","hbn","m","m39","15k","1995-02-23",3541,4,1]
["mdriscoll","rkp","m","m39","15k","1995-02-23",4776,1,1]
["pjewell","hbn","m","m49","15k","1995-02-23",3978,3,1]
["jreynolds","sdd","m","m54","15k","1995-02-23",3996,4,1]
["sgraceffo","tmt","m","m59","15k","1995-02-23",3647,6,1]
["jallen","tmt","m","m59","15k","1995-02-23",4157.5,4,1]
["jmautz","hbn","m","m59","15k","1995-02-23",4195,4,1]
["bfredrikson","sdd","m","m59","15k","1995-02-23",4220,4,1]
["twalnut","rkp","m","m74","15k","1995-02-23",4782.8,4,1]
["rmore","rhp","m","m74","15k","1995-02-23",5074,3,1]
["klaquidari","sdd","f","f44","1600r","1995-02-23",273,5,1]
["jmelczer","sdd","m","m34","1600r","1995-02-23",293.8,3,1]
["fstdennis","sdd","m","m39","1600r","1995-02-23",273,5,1]
["fstdennis","sdd","m","m39","1600r","1995-02-23",293.8,3,1]
["pmcclure","rhp","m","m49","1600r","1995-02-23",293.8,4,1]
["jsmith","sdd","m","m54","1600r","1995-02-23",273,5,1]
["jsmith","sdd","m","m54","1600r","1995-02-23",293.8,3,1]
["sclemence","rhp","m","m59","1600r","1995-02-23",293.8,4,1]
["rhahn","rhp","m","m64","1600r","1995-02-23",293.8,4,1]
["rmilner","rhp","m","m64","1600r","1995-02-23",293.8,4,1]
["establer","sdd","m","m69","1600r","1995-02-23",273,5,1]
["establer","sdd","m","m69","1600r","1995-02-23",293.8,3,1]
["labrahamson","tmt","m","m54","200m","1995-02-23",30.5,5,1]
["jmelczer","sdd","m","m34","3200r","1995-02-23",680.5,4,1]
["pmcclure","rhp","m","m49","3200r","1995-02-23",620.6,6,1]
["rwerner","sdd","m","m59","3200r","1995-02-23",680.5,4,1]
["rbrock","rhp","m","m64","3200r","1995-02-23",620.6,6,1]
["rmilner","rhp","m","m64","3200r","1995-02-23",620.6,6,1]
["fschlereth","rhp","m","m64","3200r","1995-02-23",620.6,6,1]
["wmcrae","sdd","m","m64","3200r","1995-02-23",680.5,4,1]
["establer","sdd","m","m69","3200r","1995-02-23",680.5,4,1]
["dsherrer","sdd","f","f44","3k","1995-02-23",942.3,1,1]
["rripley","rhp","f","f49","3k","1995-02-23",840,3,1]
["sstehman","hbn","m","m39","3k","1995-02-23",691,3,1]
["wborgstede","tmt","m","m49","3k","1995-02-23",894,1,1]
["rcoleman","rkp","m","m54","3k","1995-02-23",771.4,3,1]
["eberntsen","sdd","m","m29","5k","1995-02-23",914,7,0]
["fstdennis","sdd","m","m39","5k","1995-02-23",1079.8,4,1]
["rkalinoski","hbn","m","m49","5k","1995-02-23",1479,1,1]
["nwhite","hbn","m","m79","5k","1995-02-23",1445.6,6,1]
["chiort","rhp","f","f29","800m","1995-02-23",192.8,1,1]
["ldamron","rhp","f","f34","800m","1995-02-23",157.69999999999999,4,1]
["kmaresca","rhp","m","m29","800m","1995-02-23",157.80000000000001,2,1]
["mdintzner","rhp","m","m29","800m","1995-02-23",164.4,2,1]
["uenglich","rhp","m","m34","800m","1995-02-23",183.6,1,1]
["avogel","sdd","m","m39","800m","1995-02-23",164.5,3,1]
["pgriffin","rhp","m","m44","10k","1995-03-02",2551,3,2]
["lnafie","rkp","m","m49","10k","1995-03-02",2542.3000000000002,4,1]
["jallen","tmt","m","m59","10k","1995-03-02",2577.8000000000002,5,1]
["sclemence","rhp","m","m59","10k","1995-03-02",2868,3,0]
["rbrock","rhp","m","m64","10k","1995-03-02",2478,6,0]
["rripley","rhp","f","f49","1500m","1995-03-02",380,3,1]
["uenglich","rhp","m","m34","1500m","1995-03-02",364.1,1,1]
["slove","hbn","m","m44","1500m","1995-03-02",322.3,3,1]
["rcoleman","rkp","m","m54","1500m","1995-03-02",339.1,4,1]
["kbarth","rkp","m","m59","1500m","1995-03-02",352.8,4,1]
["rwheeless","hbn","m","m39","15k","1995-03-02",3131,6,0]
["smurphy","rkp","m","m54","15k","1995-03-02",3567,5,0]
["rripley","rhp","f","f49","1600r","1995-03-02",330.4,3,1]
["dchristensen","hbn","m","m39","1600r","1995-03-02",259.5,5,1]
["sstehman","hbn","m","m39","1600r","1995-03-02",259.5,5,1]
["rwheeless","hbn","m","m39","1600r","1995-03-02",259.5,5,1]
["rbrock","rhp","m","m64","1600r","1995-03-02",330.4,3,1]
["rhahn","rhp","m","m64","1600r","1995-03-02",330.4,3,1]
["hmacmillan","hbn","m","m69","1600r","1995-03-02",259.5,5,1]
["rmore","rhp","m","m74","1600r","1995-03-02",330.4,3,1]
["jwinterhalt","sdd","f","f39","200m","1995-03-02",123,1,1]
["sbennett","una","m","m44","200m","1995-03-02",26.1,6,1]
["rkalinoski","hbn","m","m49","200m","1995-03-02",33.200000000000003,3,1]
["pwillsey","tmt","m","m49","200m","1995-03-02",34,3,1]
["sgraceffo","tmt","m","m59","200m","1995-03-02",35.299999999999997,3,1]
["mroux","hbn","m","m29","3200r","1995-03-02",586.9,5,1]
["dchristensen","hbn","m","m39","3200r","1995-03-02",597.6,5,1]
["ncoffey","sdd","m","m39","3200r","1995-03-02",617.4,6,1]
["avogel","sdd","m","m39","3200r","1995-03-02",648.20000000000005,5,1]
["relder","rhp","m","m39","3200r","1995-03-02",686.9,3,1]
["khinman","hbn","m","m44","3200r","1995-03-02",597.6,5,1]
["lwalker","rhp","m","m44","3200r","1995-03-02",686.9,3,1]
["rmicho","hbn","m","m49","3200r","1995-03-02",586.9,5,1]
["rmicho","hbn","m","m49","3200r","1995-03-02",597.6,5,1]
["pmcclure","rhp","m","m49","3200r","1995-03-02",686.9,3,1]
["adrew","hbn","m","m54","3200r","1995-03-02",586.9,5,1]
["jsmith","sdd","m","m54","3200r","1995-03-02",617.4,6,1]
["jsmith","sdd","m","m54","3200r","1995-03-02",648.20000000000005,5,1]
["tfondy","hbn","m","m59","3200r","1995-03-02",586.9,5,1]
["tfondy","hbn","m","m59","3200r","1995-03-02",597.6,5,1]
["wmcrae","sdd","m","m64","3200r","1995-03-02",617.4,6,1]
["wmcrae","sdd","m","m64","3200r","1995-03-02",648.20000000000005,5,1]
["gbodine","rhp","m","m64","3200r","1995-03-02",686.9,3,1]
["establer","sdd","m","m69","3200r","1995-03-02",617.4,6,1]
["establer","sdd","m","m69","3200r","1995-03-02",648.20000000000005,5,1]
["price","rkp","m","m59","3k","1995-03-02",842,2,1]
["ehahn","una","f","f59","400m","1995-03-02",136.69999999999999,1,1]
["sbennett","una","m","m44","400m","1995-03-02",57.8,6,1]
["rwheeless","hbn","m","m39","5k","1995-03-02",954,6,0]
["pzinszer","sdd","m","m54","5k","1995-03-02",1429.5,2,1]
["nwhite","hbn","m","m79","5k","1995-03-02",1430.5,6,1]
["ncoffey","sdd","m","m39","800m","1995-03-02",147.1,4,1]
["sgraceffo","tmt","m","m59","800m","1995-03-02",160.80000000000001,5,1]
["dhagrman","rhp","m","m29","800r","1995-03-02",117.5,4,1]
["kmaresca","rhp","m","m29","800r","1995-03-02",123.9,4,1]
["relder","rhp","m","m39","800r","1995-03-02",117.5,4,1]
["pgriffin","rhp","m","m44","800r","1995-03-02",117.5,4,1]
["pgriffin","rhp","m","m44","800r","1995-03-02",123.9,4,1]
["pmcclure","rhp","m","m49","800r","1995-03-02",117.5,4,1]
["dfrost","rhp","m","m54","800r","1995-03-02",123.9,4,1]
["rmore","rhp","m","m74","800r","1995-03-02",123.9,4,1]
["rripley","rhp","f","f49","10k","1995-03-17",2818,4,0]
["tfondy","hbn","m","m59","1500m","1995-03-17",334.2,5,1]
["bkneale","sdd","f","f34","15k","1995-03-17",3555,5,0]
["rripley","rhp","f","f49","15k","1995-03-17",4518,3,0]
["jthompson","sdd","m","m44","1600r","1995-03-17",281.10000000000002,5,1]
["lnafie","rkp","m","m49","1600r","1995-03-17",318.89999999999998,3,1]
["rcoleman","rkp","m","m54","1600r","1995-03-17",318.89999999999998,3,1]
["jucci","sdd","m","m59","1600r","1995-03-17",281.10000000000002,5,1]
["price","rkp","m","m59","1600r","1995-03-17",318.89999999999998,3,1]
["wmcrae","sdd","m","m64","1600r","1995-03-17",281.10000000000002,5,1]
["establer","sdd","m","m69","1600r","1995-03-17",281.10000000000002,5,1]
["twalnut","rkp","m","m74","1600r","1995-03-17",318.89999999999998,3,1]
["cazar","hbn","f","f29","200m","1995-03-17",34.5,2,1]
["ryanai","hbn","f","f39","200m","1995-03-17",34.700000000000003,3,1]
["ldamron","rhp","f","f34","3200r","1995-03-17",685.5,4,1]
["rripley","rhp","f","f49","3200r","1995-03-17",685.5,4,1]
["jcondon","rhp","m","m49","3200r","1995-03-17",685.5,4,1]
["rhahn","rhp","m","m64","3200r","1995-03-17",685.5,4,1]
["pford","rkp","f","f39","3k","1995-03-17",823.4,2,1]
["bblaszak","tmt","f","f49","3k","1995-03-17",678.6,6,1]
["blindsey","una","m","m29","3k","1995-03-17",605.5,4,1]
["pturley","tmt","m","m34","3k","1995-03-17",610.9,4,1]
["fstdennis","sdd","m","m39","3k","1995-03-17",618.29999999999995,5,1]
["ncoffey","sdd","m","m39","3k","1995-03-17",659.2,4,1]
["gwoods","una","m","m39","3k","1995-03-17",665,4,1]
["avogel","sdd","m","m39","3k","1995-03-17",836.2,1,1]
["kreynolds","rhp","m","m44","3k","1995-03-17",640.1,5,1]
["lnafie","rkp","m","m49","3k","1995-03-17",664.3,5,1]
["jmautz","hbn","m","m59","3k","1995-03-17",721.6,5,1]
["twalnut","rkp","m","m74","3k","1995-03-17",835.4,5,1]
["rmore","rhp","m","m74","3k","1995-03-17",977.2,3,1]
["nwhite","hbn","m","m79","3k","1995-03-17",869.8,6,1]
["sgraceffo","tmt","m","m59","5k","1995-03-17",1123.3,6,1]
["rcoleman","rkp","m","m54","800m","1995-03-17",176.8,3,1]
["cazar","hbn","f","f29","800r","1995-03-17",134,3,1]
["ryanai","hbn","f","f39","800r","1995-03-17",134,3,1]
["fstdennis","sdd","m","m39","800r","1995-03-17",123.9,4,1]
["gdiamond","sdd","m","m44","800r","1995-03-17",123.9,4,1]
["jcondon","rhp","m","m49","800r","1995-03-17",129.80000000000001,4,1]
["pmcclure","rhp","m","m49","800r","1995-03-17",129.80000000000001,4,1]
["jcondon","rhp","m","m49","800r","1995-03-17",139.30000000000001,3,1]
["pmcclure","rhp","m","m49","800r","1995-03-17",139.30000000000001,3,1]
["dfrost","rhp","m","m54","800r","1995-03-17",129.80000000000001,4,1]
["jucci","sdd","m","m59","800r","1995-03-17",123.9,4,1]
["tfondy","hbn","m","m59","800r","1995-03-17",134,3,1]
["jmautz","hbn","m","m59","800r","1995-03-17",134,3,1]
["bchambers","rhp","m","m64","800r","1995-03-17",129.80000000000001,4,1]
["gbodine","rhp","m","m64","800r","1995-03-17",139.30000000000001,3,1]
["rbrock","rhp","m","m64","800r","1995-03-17",139.30000000000001,3,1]
["establer","sdd","m","m69","800r","1995-03-17",123.9,4,1]
["bchambers","rhp","m","m64","1500m","1995-03-22",605.70000000000005,1,1]
["hmacmillan","hbn","m","m69","15k","1995-03-22",6039,1,2]
["slove","hbn","m","m44","200m","1995-03-22",31.2,3,1]
["ldamron","rhp","f","f34","3200r","1995-03-22",710.9,4,1]
["mdintzner","rhp","m","m29","3200r","1995-03-22",710.9,4,1]
["rbrock","rhp","m","m64","3200r","1995-03-22",710.9,4,1]
["rmore","rhp","m","m74","3200r","1995-03-22",710.9,4,1]
["kmaresca","rhp","m","m29","3k","1995-03-22",737,2,1]
["eberntsen","sdd","m","m29","3k","1995-03-22",934.2,1,1]
["uenglich","rhp","m","m34","3k","1995-03-22",841,1,1]
["relder","rhp","m","m39","3k","1995-03-22",669,3,1]
["dhagrman","rhp","m","m29","400m","1995-03-22",72.900000000000006,1,1]
["kstopyra","tmt","f","f34","5k","1995-03-22",1128.9000000000001,5,1]
["bkneale","sdd","f","f34","5k","1995-03-22",1135,5,1]
["pford","rkp","f","f39","5k","1995-03-22",1393,2,1]
["bblaszak","tmt","f","f49","5k","1995-03-22",1193.0999999999999,6,1]
["kmann","sdd","m","m34","5k","1995-03-22",1086,4,1]
["dchristensen","hbn","m","m39","5k","1995-03-22",1085,4,1]
["ncoffey","sdd","m","m39","5k","1995-03-22",1108,4,1]
["avogel","sdd","m","m39","5k","1995-03-22",1407.8,1,1]
["theany","una","m","m44","5k","1995-03-22",1097.2,5,1]
["pgriffin","rhp","m","m44","5k","1995-03-22",1181,4,1]
["jthompson","sdd","m","m44","5k","1995-03-22",1234.5,3,1]
["sgraceffo","tmt","m","m59","5k","1995-03-22",1106,7,1]
["jmautz","hbn","m","m59","5k","1995-03-22",1238.5,5,1]
["twalnut","rkp","m","m74","5k","1995-03-22",1468.2,5,1]
["nwhite","hbn","m","m79","5k","1995-03-22",1443.7,6,1]
["slove","hbn","m","m44","800m","1995-03-22",152.5,4,1]
["tfondy","hbn","m","m59","800m","1995-03-22",155.9,6,1]
["eberntsen","sdd","m","m29","10k","1995-04-14",1901,7,0]
["ldamron","rhp","f","f34","1500m","1995-04-14",320.8,4,1]
["pford","rkp","f","f39","1500m","1995-04-14",409.4,1,1]
["ithompson","tmt","f","f44","1500m","1995-04-14",397.1,2,1]
["rhouck","sdd","m","m34","1500m","1995-04-14",289.7,4,1]
["avogel","sdd","m","m39","1500m","1995-04-14",359.5,2,1]
["fwebster","rhp","m","m39","1500m","1995-04-14",377,1,1]
["tmcconnell","tmt","m","m44","1500m","1995-04-14",292.39999999999998,5,1]
["lnafie","rkp","m","m49","1500m","1995-04-14",314.60000000000002,4,1]
["jmautz","hbn","m","m59","1500m","1995-04-14",363.9,4,1]
["price","rkp","m","m59","1500m","1995-04-14",409.5,2,1]
["mrothenberg","tmt","m","m64","1500m","1995-04-14",369.9,4,0]
["twalnut","rkp","m","m74","1500m","1995-04-14",418.3,4,1]
["rmore","rhp","m","m74","1500m","1995-04-14",464.9,3,1]
["nwhite","hbn","m","m79","1500m","1995-04-14",438,4,1]
["cazar","hbn","f","f29","1600r","1995-04-14",320.5,2,1]
["relder","rhp","m","m39","1600r","1995-04-14",283,3,1]
["bjackson","rhp","m","m39","1600r","1995-04-14",283,3,1]
["rwheeless","hbn","m","m39","1600r","1995-04-14",320.5,2,1]
["pmcclure","rhp","m","m49","1600r","1995-04-14",283,3,1]
["tfondy","hbn","m","m59","1600r","1995-04-14",320.5,2,1]
["jmautz","hbn","m","m59","1600r","1995-04-14",320.5,2,1]
["msage","rhp","m","m64","1600r","1995-04-14",283,3,1]
["rwheeless","hbn","m","m39","200m","1995-04-14",27.4,5,1]
["msage","rhp","m","m64","200m","1995-04-14",38.5,2,1]
["gwoods","una","m","m39","800m","1995-04-14",153.6,4,1]
["lwalker","rhp","m","m44","800m","1995-04-14",180.1,2,1]
["relder","rhp","m","m39","800r","1995-04-14",126.2,3,1]
["bjackson","rhp","m","m39","800r","1995-04-14",126.2,3,1]
["fwebster","rhp","m","m39","800r","1995-04-14",126.2,3,1]
["mgratzer","rhp","m","m64","800r","1995-04-14",126.2,3,1]
["nscott","rhp","f","f44","10k","1995-04-21",2630,4,0]
["chiort","rhp","f","f29","1600r","1995-04-21",283.3,3,1]
["kcarrino","hbn","f","f44","1600r","1995-04-21",309.2,3,1]
["dhagrman","rhp","m","m29","1600r","1995-04-21",283.3,3,1]
["bjackson","rhp","m","m39","1600r","1995-04-21",261.5,4,1]
["fwebster","rhp","m","m39","1600r","1995-04-21",261.5,4,1]
["kreynolds","rhp","m","m44","1600r","1995-04-21",261.5,4,1]
["kreynolds","rhp","m","m44","1600r","1995-04-21",283.3,3,1]
["jcondon","rhp","m","m49","1600r","1995-04-21",261.5,4,1]
["jcondon","rhp","m","m49","1600r","1995-04-21",283.3,3,1]
["rkalinoski","hbn","m","m49","1600r","1995-04-21",309.2,3,1]
["tfondy","hbn","m","m59","1600r","1995-04-21",309.2,3,1]
["rwilett","hbn","m","m64","1600r","1995-04-21",309.2,3,1]
["dhagrman","rhp","m","m29","200m","1995-04-21",31.4,2,2]
["bchambers","rhp","m","m64","200m","1995-04-21",40.5,2,2]
["ryanai","hbn","f","f39","3200r","1995-04-21",733.2,3,1]
["ithompson","tmt","f","f44","3200r","1995-04-21",602.6,5,1]
["khanlon","tmt","m","m39","3200r","1995-04-21",602.6,5,1]
["tguiden","hbn","m","m39","3200r","1995-04-21",661.2,3,1]
["tmcconnell","tmt","m","m44","3200r","1995-04-21",602.6,5,1]
["khinman","hbn","m","m44","3200r","1995-04-21",661.2,3,1]
["rkalinoski","hbn","m","m49","3200r","1995-04-21",661.2,3,1]
["adrew","hbn","m","m54","3200r","1995-04-21",733.2,3,1]
["jallen","tmt","m","m59","3200r","1995-04-21",602.6,5,1]
["tfondy","hbn","m","m59","3200r","1995-04-21",661.2,3,1]
["tfondy","hbn","m","m59","3200r","1995-04-21",733.2,3,1]
["rwilett","hbn","m","m64","3200r","1995-04-21",733.2,3,1]
["dhagrman","rhp","m","m29","3k","1995-04-21",805,1,0]
["relder","rhp","m","m39","3k","1995-04-21",657.8,4,2]
["lwalker","rhp","m","m44","3k","1995-04-21",795,2,2]
["cazar","hbn","f","f29","400m","1995-04-21",84.2,1,2]
["uenglich","rhp","m","m34","5k","1995-04-21",1493,1,2]
["eallen","una","f","f15","800m","1995-04-21",174.9,3,1]
["rripley","rhp","f","f49","800m","1995-04-21",197.2,3,1]
["mcarrino","hbn","f","f64","800m","1995-04-21",293.89999999999998,1,1]
["eberntsen","sdd","m","m29","800m","1995-04-21",121.5,6,1]
["bjackson","rhp","m","m39","800m","1995-04-21",141.30000000000001,5,1]
["ncoffey","sdd","m","m39","800m","1995-04-21",144.1,4,1]
["avogel","sdd","m","m39","800m","1995-04-21",155.80000000000001,3,1]
["adrew","hbn","m","m54","800m","1995-04-21",162.4,4,1]
["pzinszer","sdd","m","m54","800m","1995-04-21",188.9,2,1]
["price","rkp","m","m59","800m","1995-04-21",197,2,1]
["rhahn","rhp","m","m64","800m","1995-04-21",188.3,4,1]
["msage","rhp","m","m64","800m","1995-04-21",197,3,1]
["eberntsen","sdd","m","m29","800r","1995-04-21",124.4,4,1]
["ncoffey","sdd","m","m39","800r","1995-04-21",124.4,4,1]
["jucci","sdd","m","m59","800r","1995-04-21",124.4,4,1]
["wmcrae","sdd","m","m64","800r","1995-04-21",124.4,4,1]
["dmittler","sdd","m","m54","10k","1995-04-28",3419,1,0]
["kreynolds","rhp","m","m44","1500m","1995-04-28",298.3,5,2]
["jucci","sdd","m","m59","15k","1995-04-28",3913,5,0]
["kmaresca","rhp","m","m29","1600r","1995-04-28",300.2,3,1]
["pmcclure","rhp","m","m49","1600r","1995-04-28",300.2,3,1]
["dfrost","rhp","m","m54","1600r","1995-04-28",300.2,3,1]
["rmore","rhp","m","m74","1600r","1995-04-28",300.2,3,1]
["dhagrman","rhp","m","m29","3200r","1995-04-28",675.2,2,1]
["dhagrman","rhp","m","m29","3200r","1995-04-28",909.6,1,1]
["uenglich","rhp","m","m34","3200r","1995-04-28",675.2,2,1]
["bjackson","rhp","m","m39","3200r","1995-04-28",618.1,5,1]
["kreynolds","rhp","m","m44","3200r","1995-04-28",618.1,5,1]
["lwalker","rhp","m","m44","3200r","1995-04-28",675.2,2,1]
["jcondon","rhp","m","m49","3200r","1995-04-28",618.1,5,1]
["jcondon","rhp","m","m49","3200r","1995-04-28",675.2,2,1]
["pmcclure","rhp","m","m49","3200r","1995-04-28",909.6,1,1]
["msage","rhp","m","m64","3200r","1995-04-28",618.1,5,1]
["bchambers","rhp","m","m64","3200r","1995-04-28",909.6,1,1]
["rhahn","rhp","m","m64","3200r","1995-04-28",909.6,1,1]
["ithompson","tmt","f","f44","400m","1995-04-28",65,6,1]
["ncoffey","sdd","m","m39","400m","1995-04-28",63.2,4,1]
["avogel","sdd","m","m39","400m","1995-04-28",66.599999999999994,3,1]
["tcollins","hbn","m","m54","400m","1995-04-28",64.900000000000006,5,1]
["pzinszer","sdd","m","m54","400m","1995-04-28",77.2,3,1]
["nwhite","hbn","m","m79","400m","1995-04-28",112.5,1,1]
["sohara-c","rkp","f","f39","5k","1995-04-28",1432,2,0]
["slove","hbn","m","m44","5k","1995-04-28",1087,5,0]
["mgratzer","rhp","m","m64","5k","1995-04-28",1508,3,2]
["cazar","hbn","f","f29","800m","1995-04-28",217.8,1,1]
["dmittler","sdd","m","m54","800m","1995-04-28",240,1,1]
["bchambers","rhp","m","m64","800m","1995-04-28",276,1,2]
["jthompson","sdd","m","m44","10k","1995-05-05",2568,3,1]
["adrew","hbn","m","m54","10k","1995-05-05",2987,2,1]
["dmittler","sdd","m","m54","1500m","1995-05-05",477,1,1]
["mbennett","tmt","f","f39","15k","1995-05-05",5939,1,0]
["rhouck","sdd","m","m34","15k","1995-05-05",3570,3,0]
["kmann","sdd","m","m34","15k","1995-05-05",3612,3,0]
["pzinszer","sdd","m","m54","15k","1995-05-05",4888,1,0]
["wmcrae","sdd","m","m64","15k","1995-05-05",3801,6,0]
["twalnut","rkp","m","m74","15k","1995-05-05",4643,5,0]
["mroux","hbn","m","m29","1600r","1995-05-05",238.1,5,1]
["uenglich","rhp","m","m34","1600r","1995-05-05",304.3,3,1]
["rnelson","hbn","m","m39","1600r","1995-05-05",238.1,5,1]
["rwheeless","hbn","m","m39","1600r","1995-05-05",238.1,5,1]
["dchristensen","hbn","m","m39","1600r","1995-05-05",290.7,4,1]
["pmcclure","rhp","m","m49","1600r","1995-05-05",304.3,3,1]
["dfrost","rhp","m","m54","1600r","1995-05-05",304.3,3,1]
["tfondy","hbn","m","m59","1600r","1995-05-05",238.1,5,1]
["tfondy","hbn","m","m59","1600r","1995-05-05",290.7,4,1]
["jmautz","hbn","m","m59","1600r","1995-05-05",290.7,4,1]
["abranch","hbn","m","m64","1600r","1995-05-05",290.7,4,1]
["gbodine","rhp","m","m64","1600r","1995-05-05",304.3,3,1]
["mroux","hbn","m","m29","200m","1995-05-05",22.5,7,1]
["fstdennis","sdd","m","m39","200m","1995-05-05",24.1,7,0]
["bjackson","rhp","m","m39","200m","1995-05-05",25.8,5,1]
["dchristensen","hbn","m","m39","200m","1995-05-05",28,4,1]
["rnelson","hbn","m","m39","200m","1995-05-05",28.3,4,1]
["avogel","sdd","m","m39","200m","1995-05-05",29,4,1]
["relder","rhp","m","m39","200m","1995-05-05",30.5,3,1]
["pzinszer","sdd","m","m54","200m","1995-05-05",34.299999999999997,3,1]
["abranch","hbn","m","m64","200m","1995-05-05",27.4,8,1]
["msage","rhp","m","m64","200m","1995-05-05",36.5,3,1]
["kmaresca","rhp","m","m29","3200r","1995-05-05",669.2,4,1]
["fwebster","rhp","m","m39","3200r","1995-05-05",656.2,4,1]
["kreynolds","rhp","m","m44","3200r","1995-05-05",656.2,4,1]
["pmcclure","rhp","m","m49","3200r","1995-05-05",656.2,4,1]
["jcondon","rhp","m","m49","3200r","1995-05-05",669.2,4,1]
["sclemence","rhp","m","m59","3200r","1995-05-05",656.2,4,1]
["mgratzer","rhp","m","m64","3200r","1995-05-05",669.2,4,1]
["rhahn","rhp","m","m64","3200r","1995-05-05",669.2,4,1]
["fwebster","rhp","m","m39","400m","1995-05-05",99.6,1,1]
["sstehman","hbn","m","m39","5k","1995-05-05",1221.8,3,1]
["lnafie","rkp","m","m49","5k","1995-05-05",1193.9000000000001,4,1]
["wborgstede","tmt","m","m49","5k","1995-05-05",1754.8,1,1]
["jsmith","sdd","m","m54","5k","1995-05-05",1035,7,0]
["rhouck","sdd","m","m34","800m","1995-05-05",136,5,1]
["jallen","tmt","m","m59","800m","1995-05-05",145,7,1]
["relder","rhp","m","m39","800r","1995-05-05",115.7,4,1]
["bjackson","rhp","m","m39","800r","1995-05-05",115.7,4,1]
["kreynolds","rhp","m","m44","800r","1995-05-05",115.7,4,1]
["jcondon","rhp","m","m49","800r","1995-05-05",115.7,4,1]
["dmittler","sdd","m","m54","800r","1995-05-05",152.80000000000001,2,1]
["pzinszer","sdd","m","m54","800r","1995-05-05",152.80000000000001,2,1]
["jucci","sdd","m","m59","800r","1995-05-05",152.80000000000001,2,1]
["establer","sdd","m","m69","800r","1995-05-05",152.80000000000001,2,1]
["mbennett","tmt","f","f39","10k","1995-05-13",3424,1,1]
["kcarrino","hbn","f","f44","10k","1995-05-13",2867,3,1]
["mroux","hbn","m","m29","10k","1995-05-13",2559,2,1]
["ncoffey","sdd","m","m39","10k","1995-05-13",2299,4,1]
["avogel","sdd","m","m39","10k","1995-05-13",2724,2,1]
["kreynolds","rhp","m","m44","10k","1995-05-13",2448,4,1]
["jview","sdd","m","m44","10k","1995-05-13",2607,3,1]
["lwalker","rhp","m","m44","10k","1995-05-13",2941,1,1]
["jcondon","rhp","m","m49","10k","1995-05-13",2381.8000000000002,5,2]
["jsmith","sdd","m","m54","10k","1995-05-13",2248,6,0]
["tcollins","hbn","m","m54","10k","1995-05-13",2765,3,2]
["pzinszer","sdd","m","m54","10k","1995-05-13",2863.5,3,1]
["jucci","sdd","m","m59","10k","1995-05-13",2536,5,1]
["jmautz","hbn","m","m59","10k","1995-05-13",2556,5,1]
["bjackson","rhp","m","m39","1500m","1995-05-13",283.7,5,2]
["pzinszer","sdd","m","m54","1500m","1995-05-13",384,2,2]
["mfried","sdd","m","m64","1500m","1995-05-13",422,2,2]
["ryanai","hbn","f","f39","15k","1995-05-13",4067,3,1]
["klaquidari","sdd","f","f44","15k","1995-05-13",3870,5,2]
["eberntsen","sdd","m","m29","15k","1995-05-13",3130,5,1]
["dhagrman","rhp","m","m29","15k","1995-05-13",5196,1,0]
["kmaresca","rhp","m","m29","15k","1995-05-13",7140,1,0]
["kmann","sdd","m","m34","15k","1995-05-13",3284,5,1]
["jmelczer","sdd","m","m34","15k","1995-05-13",5580,1,0]
["fstdennis","sdd","m","m39","15k","1995-05-13",3514.5,4,1]
["fstdennis","sdd","m","m39","15k","1995-05-13",3560,4,0]
["relder","rhp","m","m39","15k","1995-05-13",3635,3,0]
["sstehman","hbn","m","m39","15k","1995-05-13",4028,2,1]
["tmcconnell","tmt","m","m44","15k","1995-05-13",3562.3,4,1]
["slove","hbn","m","m44","15k","1995-05-13",3895.6,3,1]
["gdiamond","sdd","m","m44","15k","1995-05-13",3919,3,0]
["jview","sdd","m","m44","15k","1995-05-13",3958,3,0]
["jthompson","sdd","m","m44","15k","1995-05-13",3963,3,1]
["pmcclure","rhp","m","m49","15k","1995-05-13",3871,4,0]
["jstraussman","sdd","m","m54","15k","1995-05-13",3841,4,0]
["bfredrikson","sdd","m","m59","15k","1995-05-13",3976,4,1]
["tfondy","hbn","m","m59","15k","1995-05-13",4962,2,2]
["twalnut","rkp","m","m74","15k","1995-05-13",4732,4,1]
["eberntsen","sdd","m","m29","200m","1995-05-13",26.2,5,2]
["wdawson","sdd","m","m49","200m","1995-05-13",30.6,4,2]
["dmittler","sdd","m","m54","200m","1995-05-13",36.6,2,2]
["pzinszer","sdd","m","m54","3k","1995-05-13",803.3,3,2]
["eberntsen","sdd","m","m29","400m","1995-05-13",55.4,5,2]
["uenglich","rhp","m","m34","400m","1995-05-13",76.599999999999994,1,2]
["fstdennis","sdd","m","m39","400m","1995-05-13",56.3,6,0]
["bjackson","rhp","m","m39","400m","1995-05-13",57.3,5,2]
["jview","sdd","m","m44","400m","1995-05-13",72.7,3,2]
["lwalker","rhp","m","m44","400m","1995-05-13",74.5,2,2]
["wdawson","sdd","m","m49","400m","1995-05-13",72.2,3,2]
["jsmith","sdd","m","m54","400m","1995-05-13",70,4,2]
["dmittler","sdd","m","m54","400m","1995-05-13",81.8,2,2]
["sclemence","rhp","m","m59","400m","1995-05-13",80.400000000000006,3,2]
["msage","rhp","m","m64","400m","1995-05-13",84.2,3,2]
["cazar","hbn","f","f29","5k","1995-05-13",3357,1,1]
["dsherrer","sdd","f","f44","5k","1995-05-13",1515,2,0]
["jmelczer","sdd","m","m34","5k","1995-05-13",1195,3,1]
["bjackson","rhp","m","m39","5k","1995-05-13",1171,3,0]
["kjabbour","tmt","m","m39","5k","1995-05-13",1202,3,1]
["tguiden","hbn","m","m39","5k","1995-05-13",1245,2,1]
["fwebster","rhp","m","m39","5k","1995-05-13",1396,1,1]
["jview","sdd","m","m44","5k","1995-05-13",1192,3,0]
["wdawson","sdd","m","m49","5k","1995-05-13",1335.8,2,1]
["adrew","hbn","m","m54","5k","1995-05-13",1381,3,1]
["tfondy","hbn","m","m59","5k","1995-05-13",1406,3,1]
["kmaresca","rhp","m","m29","800m","1995-05-13",150.5,3,2]
["dhagrman","rhp","m","m29","800m","1995-05-13",172.2,1,2]
["jcondon","rhp","m","m49","800m","1995-05-13",142.4,6,2]
["jsmith","sdd","m","m54","800m","1995-05-13",144.6,6,2]
["rwerner","sdd","m","m59","800m","1995-05-13",195,2,2]
["rhahn","rhp","m","m64","800m","1995-05-13",172.2,5,2]
["bkneale","sdd","f","f34","10k","1995-05-15",2326,5,0]
["dsherrer","sdd","f","f44","10k","1995-05-15",5940,1,0]
["sstehman","hbn","m","m39","10k","1995-05-15",2927,1,0]
["tmcconnell","tmt","m","m44","10k","1995-05-15",2303,4,2]
["slove","hbn","m","m44","10k","1995-05-15",2352.8000000000002,4,2]
["rkalinoski","hbn","m","m49","10k","1995-05-15",3315,1,2]
["dsherrer","sdd","f","f44","1500m","1995-05-15",413.8,2,2]
["abranch","hbn","m","m64","1500m","1995-05-15",473.2,1,2]
["ldamron","rhp","f","f34","15k","1995-05-15",4024,3,0]
["dsherrer","sdd","f","f44","15k","1995-05-15",5940,1,0]
["avogel","sdd","m","m39","15k","1995-05-15",4670,1,2]
["rkalinoski","hbn","m","m49","15k","1995-05-15",5371.4,1,2]
["adrew","hbn","m","m54","15k","1995-05-15",4667,2,2]
["price","rkp","m","m59","15k","1995-05-15",4669,2,0]
["tguiden","hbn","m","m39","200m","1995-05-15",22.7,8,2]
["jmelczer","sdd","m","m34","3k","1995-05-15",714.4,2,2]
["fwebster","rhp","m","m39","3k","1995-05-15",803,1,2]
["msage","rhp","m","m64","3k","1995-05-15",915,2,2]
["tguiden","hbn","m","m39","400m","1995-05-15",50.7,8,2]
["abranch","hbn","m","m64","800m","1995-05-15",200.4,3,2]
["sgraceffo","jff","m","m59","10k","1995-06-17",2299,6,0]
["sgraceffo","jff","m","m59","15k","1995-07-09",3544,6,0]
["sgraceffo","jff","m","m59","5k","1995-10-01",1089,7,0]
["mkreyenfeld","utc","f","f29","1500m","1995-11-30",323.8,4,1]
["sreynolds","rat","f","f29","1500m","1995-11-30",378,2,1]
["kbedard","hbr","f","f34","1500m","1995-11-30",382.4,2,1]
["ryanai","rat","f","f39","1500m","1995-11-30",331.9,4,1]
["kconnelly","rat","f","f39","1500m","1995-11-30",436.4,1,1]
["pford","rat","f","f44","1500m","1995-11-30",301.89999999999998,6,1]
["ithompson","jff","f","f44","1500m","1995-11-30",369.5,3,1]
["kcarrino","rat","f","f44","1500m","1995-11-30",381.5,3,1]
["bblaszak","jff","f","f49","1500m","1995-11-30",312.5,7,1]
["mzeppetello","hbr","f","f69","1500m","1995-11-30",626.1,1,1]
["dmcmillan","rrn","m","m29","1500m","1995-11-30",253.5,6,1]
["pgoodrum","hbr","m","m29","1500m","1995-11-30",307.89999999999998,3,1]
["pturley","rat","m","m34","1500m","1995-11-30",287.60000000000002,4,1]
["fstdennis","rrn","m","m39","1500m","1995-11-30",279.60000000000002,5,1]
["rnelson","rat","m","m39","1500m","1995-11-30",279.7,5,1]
["ncoffey","hbr","m","m39","1500m","1995-11-30",287.5,5,1]
["kjabbour","hbr","m","m39","1500m","1995-11-30",307,4,1]
["pdriscoll","hbr","m","m39","1500m","1995-11-30",316,3,1]
["avogel","jff","m","m39","1500m","1995-11-30",335.2,2,1]
["tmcconnell","rat","m","m44","1500m","1995-11-30",282,6,1]
["jcapoccia","rat","m","m44","1500m","1995-11-30",296.10000000000002,5,1]
["kreynolds","jff","m","m44","1500m","1995-11-30",309.2,4,1]
["pgriffin","utc","m","m44","1500m","1995-11-30",313,4,1]
["nprice","hbr","m","m44","1500m","1995-11-30",327,3,1]
["rcleary","rat","m","m49","1500m","1995-11-30",303.60000000000002,5,1]
["pmcclure","hbr","m","m49","1500m","1995-11-30",308.2,5,1]
["jview","rat","m","m49","1500m","1995-11-30",334,4,1]
["pwillsey","utc","m","m49","1500m","1995-11-30",352.1,3,1]
["labrahamson","hbr","m","m54","1500m","1995-11-30",301.7,6,1]
["jallen","hbr","m","m59","1500m","1995-11-30",304.3,6,1]
["sgraceffo","jff","m","m59","1500m","1995-11-30",309.89999999999998,6,1]
["jucci","utc","m","m59","1500m","1995-11-30",320.2,5,1]
["tfondy","hbr","m","m59","1500m","1995-11-30",347.2,4,1]
["jmautz","rrn","m","m59","1500m","1995-11-30",369,3,1]
["rbrock","jff","m","m64","1500m","1995-11-30",327.3,6,1]
["fschlereth","rrn","m","m64","1500m","1995-11-30",345.1,5,1]
["rwilett","hbr","m","m64","1500m","1995-11-30",347.3,5,1]
["hmacmillan","utc","m","m69","1500m","1995-11-30",393,4,1]
["twalnut","jff","m","m74","1500m","1995-11-30",389,5,1]
["rmore","jff","m","m74","1500m","1995-11-30",466.6,2,1]
["hmcmillan","hbr","f","f29","800m","1995-12-08",156.69999999999999,4,1]
["mkreyenfeld","utc","f","f29","800m","1995-12-08",157.69999999999999,4,1]
["cpike","hbr","f","f29","800m","1995-12-08",159,4,1]
["sreynolds","rat","f","f29","800m","1995-12-08",178.3,2,1]
["ldamron","rat","f","f34","800m","1995-12-08",155,4,1]
["ryanai","rat","f","f39","800m","1995-12-08",160,5,1]
["kconnelly","rat","f","f39","800m","1995-12-08",207.6,1,1]
["mbennett","hbr","f","f39","800m","1995-12-08",233.4,1,1]
["pford","rat","f","f44","800m","1995-12-08",150.5,6,1]
["ithompson","jff","f","f44","800m","1995-12-08",160.69999999999999,5,1]
["klaquidari","rrn","f","f44","800m","1995-12-08",170.8,4,1]
["bblaszak","jff","f","f49","800m","1995-12-08",156.80000000000001,6,1]
["ehahn","jff","f","f59","800m","1995-12-08",257.89999999999998,1,1]
["dmcmillan","rrn","m","m29","800m","1995-12-08",122.8,6,1]
["kwall","hbr","m","m29","800m","1995-12-08",127.5,5,1]
["enordman","hbr","m","m29","800m","1995-12-08",128,5,1]
["pgoodrum","hbr","m","m29","800m","1995-12-08",139.19999999999999,4,1]
["rwink","hbr","m","m29","800m","1995-12-08",147.9,3,1]
["kmaresca","jff","m","m29","800m","1995-12-08",153.19999999999999,3,1]
["kmann","rat","m","m34","800m","1995-12-08",137.5,5,1]
["pturley","rat","m","m34","800m","1995-12-08",143,4,1]
["kohara","una","m","m34","800m","1995-12-08",159.9,3,1]
["tguiden","hbr","m","m39","800m","1995-12-08",132.30000000000001,6,1]
["rnelson","rat","m","m39","800m","1995-12-08",134,6,1]
["gwoods","rrn","m","m39","800m","1995-12-08",143.5,4,1]
["kjabbour","hbr","m","m39","800m","1995-12-08",146.69999999999999,4,1]
["pdriscoll","hbr","m","m39","800m","1995-12-08",149.69999999999999,4,1]
["relder","hbr","m","m39","800m","1995-12-08",151.1,4,1]
["avogel","jff","m","m39","800m","1995-12-08",153,4,1]
["mdriscoll","rat","m","m39","800m","1995-12-08",178.5,2,1]
["tmcconnell","rat","m","m44","800m","1995-12-08",137.19999999999999,6,1]
["kreynolds","jff","m","m44","800m","1995-12-08",145.9,5,1]
["pgriffin","utc","m","m44","800m","1995-12-08",147,5,1]
["doja","utc","m","m44","800m","1995-12-08",147.9,5,1]
["gdiamond","rrn","m","m44","800m","1995-12-08",155.30000000000001,4,1]
["nprice","hbr","m","m44","800m","1995-12-08",166.3,3,1]
["lwalker","hbr","m","m44","800m","1995-12-08",169.4,3,1]
["rhopkins","jff","m","m44","800m","1995-12-08",190,1,1]
["rcleary","rat","m","m49","800m","1995-12-08",144.9,5,1]
["pmcclure","hbr","m","m49","800m","1995-12-08",145,5,1]
["jcondon","rrn","m","m49","800m","1995-12-08",147.4,5,1]
["rmicho","utc","m","m49","800m","1995-12-08",147.6,5,1]
["jview","rat","m","m49","800m","1995-12-08",159.19999999999999,4,1]
["dlake","rrn","m","m49","800m","1995-12-08",178.6,2,1]
["labrahamson","hbr","m","m54","800m","1995-12-08",144.80000000000001,6,1]
["rcoleman","hbr","m","m54","800m","1995-12-08",156.5,5,1]
["jreynolds","utc","m","m54","800m","1995-12-08",159,5,1]
["jallen","hbr","m","m59","800m","1995-12-08",144.5,7,1]
["edonohue","hbr","m","m59","800m","1995-12-08",149.30000000000001,6,1]
["sgraceffo","jff","m","m59","800m","1995-12-08",154.9,6,1]
["jucci","utc","m","m59","800m","1995-12-08",155.19999999999999,6,1]
["tfondy","hbr","m","m59","800m","1995-12-08",156.19999999999999,6,1]
["dmittler","utc","m","m59","800m","1995-12-08",177.9,4,1]
["sclemence","rrn","m","m59","800m","1995-12-08",178.1,4,1]
["kbarth","utc","m","m59","800m","1995-12-08",180.5,3,1]
["jmautz","rrn","m","m59","800m","1995-12-08",182.1,3,1]
["fschlereth","rrn","m","m64","800m","1995-12-08",150.4,7,1]
["rbrock","jff","m","m64","800m","1995-12-08",159.6,6,1]
["wmcrae","rrn","m","m64","800m","1995-12-08",171.2,5,1]
["mfried","jff","m","m64","800m","1995-12-08",199.1,3,1]
["rhahn","jff","m","m64","800m","1995-12-08",241.9,1,1]
["establer","jff","m","m69","800m","1995-12-08",170.1,6,1]
["hmacmillan","utc","m","m69","800m","1995-12-08",185.8,5,1]
["twalnut","jff","m","m74","800m","1995-12-08",184.9,6,1]
["rmore","jff","m","m74","800m","1995-12-08",219.6,3,1]
["nwhite","jff","m","m79","800m","1995-12-08",218.5,4,1]
["rmilner","hbr","m","m64","200m","1995-12-15",33,5,1]
["hmcmillan","hbr","f","f29","3200r","1995-12-15",604.6,4,1]
["mkreyenfeld","utc","f","f29","3200r","1995-12-15",627.9,4,1]
["fmejia","rat","f","f29","3200r","1995-12-15",687,3,1]
["sreynolds","rat","f","f29","3200r","1995-12-15",687,3,1]
["kbedard","hbr","f","f34","3200r","1995-12-15",878.1,1,1]
["sfalso","utc","f","f39","3200r","1995-12-15",627.9,4,1]
["sfalso","utc","f","f39","3200r","1995-12-15",652.79999999999995,4,1]
["ryanai","rat","f","f39","3200r","1995-12-15",687,3,1]
["mbennett","hbr","f","f39","3200r","1995-12-15",878.1,1,1]
["pford","rat","f","f44","3200r","1995-12-15",557.9,6,1]
["bblaszak","jff","f","f49","3200r","1995-12-15",650.20000000000005,5,1]
["ehahn","jff","f","f59","3200r","1995-12-15",887.9,1,1]
["mzeppetello","hbr","f","f69","3200r","1995-12-15",878.1,1,1]
["dmcmillan","rrn","m","m29","3200r","1995-12-15",532.79999999999995,6,1]
["canklin","rat","m","m29","3200r","1995-12-15",565.9,5,1]
["jecondon","rrn","m","m29","3200r","1995-12-15",587.6,5,1]
["mroux","utc","m","m29","3200r","1995-12-15",600,5,1]
["pgoodrum","hbr","m","m29","3200r","1995-12-15",604.6,4,1]
["kmaresca","jff","m","m29","3200r","1995-12-15",643.70000000000005,4,1]
["eberntsen","utc","m","m29","3200r","1995-12-15",646.4,4,1]
["mroux","utc","m","m29","3200r","1995-12-15",652.79999999999995,4,1]
["dhagrman","jff","m","m29","3200r","1995-12-15",887.9,1,1]
["jnicholson","rrn","m","m34","3200r","1995-12-15",532.79999999999995,6,1]
["pturley","rat","m","m34","3200r","1995-12-15",565.9,5,1]
["jnicholson","rrn","m","m34","3200r","1995-12-15",587.6,5,1]
["fstdennis","rrn","m","m39","3200r","1995-12-15",532.79999999999995,6,1]
["rnelson","rat","m","m39","3200r","1995-12-15",557.9,6,1]
["sstehman","rrn","m","m39","3200r","1995-12-15",587.6,5,1]
["rwheeless","utc","m","m39","3200r","1995-12-15",587.79999999999995,5,1]
["rwheeless","utc","m","m39","3200r","1995-12-15",600,5,1]
["ncoffey","hbr","m","m39","3200r","1995-12-15",604.6,4,1]
["avogel","jff","m","m39","3200r","1995-12-15",643.70000000000005,4,1]
["gwoods","rrn","m","m39","3200r","1995-12-15",650,4,1]
["avogel","jff","m","m39","3200r","1995-12-15",650.20000000000005,5,1]
["kjabbour","hbr","m","m39","3200r","1995-12-15",664.5,3,1]
["mdriscoll","rat","m","m39","3200r","1995-12-15",687,3,1]
["kjabbour","hbr","m","m39","3200r","1995-12-15",878.1,1,1]
["tmcconnell","rat","m","m44","3200r","1995-12-15",557.9,6,1]
["doja","utc","m","m44","3200r","1995-12-15",587.79999999999995,5,1]
["doja","utc","m","m44","3200r","1995-12-15",627.9,4,1]
["kreynolds","jff","m","m44","3200r","1995-12-15",643.70000000000005,4,1]
["gdiamond","rrn","m","m44","3200r","1995-12-15",650,4,1]
["nprice","hbr","m","m44","3200r","1995-12-15",664.5,3,1]
["lwalker","hbr","m","m44","3200r","1995-12-15",664.5,3,1]
["kreynolds","jff","m","m44","3200r","1995-12-15",887.9,1,1]
["rcleary","rat","m","m49","3200r","1995-12-15",565.9,5,1]
["rmicho","utc","m","m49","3200r","1995-12-15",587.79999999999995,5,1]
["pmcclure","hbr","m","m49","3200r","1995-12-15",630.79999999999995,5,1]
["jsmith","rat","m","m54","3200r","1995-12-15",557.9,6,1]
["lnafie","rat","m","m54","3200r","1995-12-15",565.9,5,1]
["labrahamson","hbr","m","m54","3200r","1995-12-15",586.9,7,1]
["jreynolds","utc","m","m54","3200r","1995-12-15",587.79999999999995,5,1]
["jstraussman","utc","m","m54","3200r","1995-12-15",627.9,4,1]
["labrahamson","hbr","m","m54","3200r","1995-12-15",630.79999999999995,5,1]
["jreynolds","utc","m","m54","3200r","1995-12-15",646.4,4,1]
["jallen","hbr","m","m59","3200r","1995-12-15",586.9,7,1]
["edonohue","hbr","m","m59","3200r","1995-12-15",586.9,7,1]
["jucci","utc","m","m59","3200r","1995-12-15",600,5,1]
["bfredrikson","hbr","m","m59","3200r","1995-12-15",604.6,4,1]
["tfondy","hbr","m","m59","3200r","1995-12-15",630.79999999999995,5,1]
["kbarth","utc","m","m59","3200r","1995-12-15",646.4,4,1]
["jlagraff","utc","m","m59","3200r","1995-12-15",646.4,4,1]
["sclemence","rrn","m","m59","3200r","1995-12-15",650,4,1]
["jmautz","rrn","m","m59","3200r","1995-12-15",650,4,1]
["sgraceffo","jff","m","m59","3200r","1995-12-15",650.20000000000005,5,1]
["dmittler","utc","m","m59","3200r","1995-12-15",652.79999999999995,4,1]
["jucci","utc","m","m59","3200r","1995-12-15",652.79999999999995,4,1]
["bfredrikson","hbr","m","m59","3200r","1995-12-15",664.5,3,1]
["fschlereth","rrn","m","m64","3200r","1995-12-15",532.79999999999995,6,1]
["rmilner","hbr","m","m64","3200r","1995-12-15",586.9,7,1]
["wmcrae","rrn","m","m64","3200r","1995-12-15",587.6,5,1]
["rwilett","hbr","m","m64","3200r","1995-12-15",630.79999999999995,5,1]
["rbrock","jff","m","m64","3200r","1995-12-15",807.8,4,1]
["rhahn","jff","m","m64","3200r","1995-12-15",887.9,1,1]
["hmacmillan","utc","m","m69","3200r","1995-12-15",600,5,1]
["establer","jff","m","m69","3200r","1995-12-15",643.70000000000005,4,1]
["establer","jff","m","m69","3200r","1995-12-15",650.20000000000005,5,1]
["rmore","jff","m","m74","3200r","1995-12-15",807.8,4,1]
["twalnut","jff","m","m74","3200r","1995-12-15",807.8,4,1]
["nwhite","jff","m","m79","3200r","1995-12-15",807.8,4,1]
["kjabbour","hbr","m","m39","15k","1995-12-22",3939,2,0]
["jallen","hbr","m","m59","200m","1995-12-22",28.4,6,0]
["bfredrikson","hbr","m","m59","200m","1995-12-22",33.6,4,1]
["mkreyenfeld","utc","f","f29","400m","1995-12-22",75.8,2,1]
["ldamron","rat","f","f34","400m","1995-12-22",71.099999999999994,3,1]
["kbedard","hbr","f","f34","400m","1995-12-22",79.400000000000006,2,1]
["sfalso","utc","f","f39","400m","1995-12-22",68.099999999999994,5,1]
["ryanai","rat","f","f39","400m","1995-12-22",72.900000000000006,4,1]
["bbinkowski","hbr","f","f39","400m","1995-12-22",76.2,3,1]
["kconnelly","rat","f","f39","400m","1995-12-22",84,2,1]
["mbennett","hbr","f","f39","400m","1995-12-22",104,1,1]
["pford","rat","f","f44","400m","1995-12-22",69.599999999999994,5,1]
["kcarrino","rat","f","f44","400m","1995-12-22",73.599999999999994,4,1]
["klaquidari","rrn","f","f44","400m","1995-12-22",76.099999999999994,3,1]
["mhartmann","rrn","f","f44","400m","1995-12-22",78.7,3,1]
["bblaszak","jff","f","f49","400m","1995-12-22",72,5,1]
["ehahn","jff","f","f59","400m","1995-12-22",116.2,1,1]
["jecondon","rrn","m","m29","400m","1995-12-22",56.5,5,1]
["canklin","rat","m","m29","400m","1995-12-22",57.3,5,1]
["sandrzejewski","rrn","m","m29","400m","1995-12-22",57.5,5,1]
["pgoodrum","hbr","m","m29","400m","1995-12-22",59.4,4,1]
["rwink","hbr","m","m29","400m","1995-12-22",62.3,3,1]
["blindsey","una","m","m29","400m","1995-12-22",63.8,3,1]
["pturley","rat","m","m34","400m","1995-12-22",68.5,2,1]
["tguiden","hbr","m","m39","400m","1995-12-22",51.9,7,1]
["prougeux","jff","m","m39","400m","1995-12-22",56.1,6,1]
["rwheeless","utc","m","m39","400m","1995-12-22",57.1,6,1]
["gwoods","rrn","m","m39","400m","1995-12-22",58.9,5,1]
["ncoffey","hbr","m","m39","400m","1995-12-22",61.4,4,1]
["avogel","jff","m","m39","400m","1995-12-22",64.099999999999994,4,1]
["pdriscoll","hbr","m","m39","400m","1995-12-22",65.3,4,1]
["dhughes","rrn","m","m39","400m","1995-12-22",65.5,3,1]
["kjabbour","hbr","m","m39","400m","1995-12-22",65.900000000000006,3,1]
["relder","hbr","m","m39","400m","1995-12-22",66.5,3,1]
["mdriscoll","rat","m","m39","400m","1995-12-22",75.3,2,1]
["jwagner","hbr","m","m39","400m","1995-12-22",78.7,1,1]
["tmcconnell","rat","m","m44","400m","1995-12-22",60.5,5,1]
["doja","utc","m","m44","400m","1995-12-22",64.599999999999994,4,1]
["gdiamond","rrn","m","m44","400m","1995-12-22",67.8,3,1]
["nprice","hbr","m","m44","400m","1995-12-22",68.3,3,1]
["lwalker","hbr","m","m44","400m","1995-12-22",73.900000000000006,2,1]
["rmicho","utc","m","m49","400m","1995-12-22",58.9,6,1]
["pmcclure","hbr","m","m49","400m","1995-12-22",62.7,5,1]
["jcondon","rrn","m","m49","400m","1995-12-22",65.900000000000006,4,1]
["jview","rat","m","m49","400m","1995-12-22",71.3,3,1]
["pwillsey","utc","m","m49","400m","1995-12-22",74.099999999999994,3,1]
["labrahamson","hbr","m","m54","400m","1995-12-22",65.7,5,1]
["jreynolds","utc","m","m54","400m","1995-12-22",69.2,4,1]
["rcoleman","hbr","m","m54","400m","1995-12-22",69.5,4,1]
["jstraussman","utc","m","m54","400m","1995-12-22",70.8,4,1]
["jallen","hbr","m","m59","400m","1995-12-22",63.2,6,1]
["edonohue","hbr","m","m59","400m","1995-12-22",63.2,6,1]
["tfondy","hbr","m","m59","400m","1995-12-22",64.599999999999994,6,1]
["jucci","utc","m","m59","400m","1995-12-22",69.8,5,1]
["sgraceffo","jff","m","m59","400m","1995-12-22",72.5,4,1]
["bfredrikson","hbr","m","m59","400m","1995-12-22",72.900000000000006,4,1]
["jmautz","rrn","m","m59","400m","1995-12-22",75.099999999999994,4,1]
["sclemence","rrn","m","m59","400m","1995-12-22",75.900000000000006,4,1]
["kbarth","utc","m","m59","400m","1995-12-22",80.400000000000006,3,1]
["dmittler","utc","m","m59","400m","1995-12-22",80.900000000000006,3,1]
["fschlereth","rrn","m","m64","400m","1995-12-22",61.8,8,1]
["wmcrae","rrn","m","m64","400m","1995-12-22",73.5,5,1]
["mrothenberg","rrn","m","m64","400m","1995-12-22",80.099999999999994,3,1]
["rhahn","jff","m","m64","400m","1995-12-22",82.6,3,1]
["mfried","jff","m","m64","400m","1995-12-22",83,3,1]
["establer","jff","m","m69","400m","1995-12-22",72.8,6,1]
["hmacmillan","utc","m","m69","400m","1995-12-22",76.900000000000006,5,1]
["twalnut","jff","m","m74","400m","1995-12-22",82.9,5,1]
["rmore","jff","m","m74","400m","1995-12-22",90.9,3,1]
["nwhite","jff","m","m79","400m","1995-12-22",98.7,3,1]
["tfondy","hbr","m","m59","100m","1995-12-29",13.2,7,0]
["hmcmillan","hbr","f","f29","200m","1995-12-29",30.6,4,1]
["sreynolds","rat","f","f29","200m","1995-12-29",33.200000000000003,3,1]
["mkreyenfeld","utc","f","f29","200m","1995-12-29",34.299999999999997,2,1]
["pjabbour","una","f","f29","200m","1995-12-29",49.3,1,1]
["brihuntone","una","f","f29","200m","1995-12-29",51.8,1,1]
["sfalso","utc","f","f39","200m","1995-12-29",31.3,4,1]
["cmckie","utc","f","f39","200m","1995-12-29",32.799999999999997,3,1]
["ryanai","rat","f","f39","200m","1995-12-29",33.299999999999997,3,1]
["sohara-c","hbr","f","f39","200m","1995-12-29",35.700000000000003,2,1]
["kconnelly","rat","f","f39","200m","1995-12-29",36.799999999999997,2,1]
["ithompson","jff","f","f44","200m","1995-12-29",28.1,6,1]
["pford","rat","f","f44","200m","1995-12-29",32.9,4,1]
["bblaszak","jff","f","f49","200m","1995-12-29",35.4,4,1]
["rripley","jff","f","f49","200m","1995-12-29",38.200000000000003,2,1]
["ehahn","jff","f","f59","200m","1995-12-29",53.1,1,1]
["dmcmillan","rrn","m","m29","200m","1995-12-29",24.9,5,1]
["pgoodrum","hbr","m","m29","200m","1995-12-29",27.3,4,1]
["mjabbour","una","m","m29","200m","1995-12-29",36.5,1,1]
["brahuntone","una","m","m29","200m","1995-12-29",43.7,1,1]
["cbennett","una","m","m29","200m","1995-12-29",74.5,1,1]
["pturley","rat","m","m34","200m","1995-12-29",32.4,2,1]
["fstdennis","rrn","m","m39","200m","1995-12-29",24.1,7,0]
["prougeux","jff","m","m39","200m","1995-12-29",25.6,6,1]
["fstdennis","rrn","m","m39","200m","1995-12-29",26,5,1]
["rwheeless","utc","m","m39","200m","1995-12-29",26.9,5,1]
["gwoods","rrn","m","m39","200m","1995-12-29",27,5,1]
["avogel","jff","m","m39","200m","1995-12-29",28.8,4,1]
["bsleight","rat","m","m39","200m","1995-12-29",29.1,4,1]
["pdriscoll","hbr","m","m39","200m","1995-12-29",29.5,3,1]
["mdriscoll","rat","m","m39","200m","1995-12-29",33,2,1]
["jwagner","hbr","m","m39","200m","1995-12-29",33.700000000000003,2,1]
["tmcconnell","rat","m","m44","200m","1995-12-29",28.3,5,1]
["doja","utc","m","m44","200m","1995-12-29",29.6,4,1]
["nprice","hbr","m","m44","200m","1995-12-29",29.7,4,1]
["kreynolds","jff","m","m44","200m","1995-12-29",29.8,4,1]
["gdiamond","rrn","m","m44","200m","1995-12-29",31.2,3,1]
["rhopkins","jff","m","m44","200m","1995-12-29",31.8,3,1]
["lwalker","hbr","m","m44","200m","1995-12-29",35.1,2,1]
["rmicho","utc","m","m49","200m","1995-12-29",26.5,6,1]
["jcondon","rrn","m","m49","200m","1995-12-29",29.8,4,1]
["jview","rat","m","m49","200m","1995-12-29",32.5,3,1]
["pwillsey","utc","m","m49","200m","1995-12-29",33.9,3,1]
["dlake","rrn","m","m49","200m","1995-12-29",44,1,1]
["lnafie","rat","m","m54","200m","1995-12-29",28.9,5,1]
["labrahamson","hbr","m","m54","200m","1995-12-29",30.4,5,1]
["rcoleman","hbr","m","m54","200m","1995-12-29",31.4,4,1]
["jstraussman","utc","m","m54","200m","1995-12-29",32.1,4,1]
["pstelmaszyk","utc","m","m54","200m","1995-12-29",43.5,1,1]
["tfondy","hbr","m","m59","200m","1995-12-29",27.3,7,1]
["tfondy","hbr","m","m59","200m","1995-12-29",27.3,7,0]
["edonohue","hbr","m","m59","200m","1995-12-29",29.1,6,1]
["jucci","utc","m","m59","200m","1995-12-29",32.1,4,1]
["jmautz","rrn","m","m59","200m","1995-12-29",35,3,1]
["kbarth","utc","m","m59","200m","1995-12-29",37.4,2,1]
["dmittler","utc","m","m59","200m","1995-12-29",39.5,2,1]
["fschlereth","rrn","m","m64","200m","1995-12-29",27.3,8,1]
["rmilner","hbr","m","m64","200m","1995-12-29",31.5,5,1]
["wmcrae","rrn","m","m64","200m","1995-12-29",32.9,5,1]
["mfried","jff","m","m64","200m","1995-12-29",38.6,2,1]
["rhahn","jff","m","m64","200m","1995-12-29",41.5,1,1]
["hmacmillan","utc","m","m69","200m","1995-12-29",32.299999999999997,6,1]
["twalnut","jff","m","m74","200m","1995-12-29",37.9,4,1]
["elukens","una","m","m79","200m","1995-12-29",33.6,7,1]
["nwhite","jff","m","m79","200m","1995-12-29",44.5,3,1]
["hmcmillan","hbr","f","f29","400m","1995-12-29",68.599999999999994,3,1]
["dmcmillan","rrn","m","m29","400m","1995-12-29",67,2,1]
["kreynolds","jff","m","m44","400m","1995-12-29",67,4,1]
["ehahn","jff","f","f59","5k","1995-12-29",1757,2,0]
["tfondy","hbr","m","m59","5k","1995-12-29",1314,4,0]
["rmicho","utc","m","m49","10k","1996-01-05",2649,3,0]
["tfondy","hbr","m","m59","1500m","1996-01-05",346.7,4,1]
["wborgstede","hbr","m","m54","15k","1996-01-05",8760,1,0]
["mzeppetello","hbr","f","f69","200m","1996-01-05",45,3,1]
["jreynolds","utc","m","m54","200m","1996-01-05",33.799999999999997,3,1]
["wborgstede","hbr","m","m54","200m","1996-01-05",41.6,1,1]
["kconnelly","rat","f","f39","3k","1996-01-05",887,1,1]
["sandrzejewski","rrn","m","m29","3k","1996-01-05",662,3,1]
["pgoodrum","hbr","m","m29","3k","1996-01-05",684,3,1]
["sstehman","rrn","m","m39","3k","1996-01-05",720.2,2,1]
["wnicholson","hbr","m","m39","3k","1996-01-05",887.5,1,1]
["slove","utc","m","m44","3k","1996-01-05",691.6,3,1]
["gdiamond","rrn","m","m44","3k","1996-01-05",694,3,1]
["pmcclure","hbr","m","m49","3k","1996-01-05",685,4,1]
["jview","rat","m","m49","3k","1996-01-05",743.2,3,1]
["labrahamson","hbr","m","m54","3k","1996-01-05",654,5,1]
["rcoleman","hbr","m","m54","3k","1996-01-05",680,5,1]
["dfrost","rrn","m","m54","3k","1996-01-05",915.3,1,1]
["sgraceffo","jff","m","m59","3k","1996-01-05",657.8,6,1]
["kbarth","utc","m","m59","3k","1996-01-05",776.6,4,1]
["dmittler","utc","m","m59","3k","1996-01-05",780.5,3,1]
["wmcrae","rrn","m","m64","3k","1996-01-05",734,5,1]
["establer","jff","m","m69","3k","1996-01-05",752.5,6,1]
["mkreyenfeld","utc","f","f29","5k","1996-01-05",1193.4000000000001,4,1]
["sreynolds","rat","f","f29","5k","1996-01-05",1509.7,1,1]
["ldamron","rat","f","f34","5k","1996-01-05",1157,4,1]
["ceich","utc","f","f39","5k","1996-01-05",1135.2,5,1]
["cmckie","utc","f","f39","5k","1996-01-05",1250,4,1]
["klarson","una","f","f39","5k","1996-01-05",1311.9,3,1]
["mbennett","hbr","f","f39","5k","1996-01-05",1588.9,1,1]
["pford","rat","f","f44","5k","1996-01-05",1137.5999999999999,6,1]
["ithompson","jff","f","f44","5k","1996-01-05",1460.7,2,0]
["dsherrer","una","f","f44","5k","1996-01-05",1515.6,2,1]
["bblaszak","jff","f","f49","5k","1996-01-05",1160.4000000000001,6,1]
["srusby","una","f","f59","5k","1996-01-05",1510,4,1]
["dmcmillan","rrn","m","m29","5k","1996-01-05",911.2,7,1]
["canklin","rat","m","m29","5k","1996-01-05",1001.1,5,1]
["kwall","hbr","m","m29","5k","1996-01-05",1017.2,5,1]
["wzucconi","una","m","m29","5k","1996-01-05",1033.8,5,1]
["rraymonda","una","m","m29","5k","1996-01-05",1053,4,1]
["enordman","hbr","m","m29","5k","1996-01-05",1070.3,4,1]
["jecondon","rrn","m","m29","5k","1996-01-05",1148.2,3,1]
["mroux","utc","m","m29","5k","1996-01-05",1248.7,2,1]
["jnicholson","rrn","m","m34","5k","1996-01-05",946.9,6,1]
["rwheeless","utc","m","m39","5k","1996-01-05",1022.2,5,1]
["bsleight","rat","m","m39","5k","1996-01-05",1113.3,4,1]
["rnelson","rat","m","m39","5k","1996-01-05",1118.9000000000001,4,1]
["gwoods","rrn","m","m39","5k","1996-01-05",1134.5999999999999,4,1]
["kjabbour","hbr","m","m39","5k","1996-01-05",1173.4000000000001,3,1]
["avogel","jff","m","m39","5k","1996-01-05",1287,2,1]
["mdriscoll","rat","m","m39","5k","1996-01-05",1349,1,1]
["jwagner","hbr","m","m39","5k","1996-01-05",1406.5,1,1]
["tguiden","hbr","m","m39","5k","1996-01-05",1408.6,1,1]
["tmcconnell","rat","m","m44","5k","1996-01-05",1083.9000000000001,5,1]
["kreynolds","jff","m","m44","5k","1996-01-05",1176.7,4,1]
["nprice","hbr","m","m44","5k","1996-01-05",1233.4000000000001,3,1]
["rcleary","rat","m","m49","5k","1996-01-05",1107.8,5,1]
["jview","rat","m","m49","5k","1996-01-05",1240,3,0]
["mtousant","una","m","m49","5k","1996-01-05",1248.5999999999999,3,1]
["pjewell","utc","m","m49","5k","1996-01-05",1263,3,1]
["rmicho","utc","m","m49","5k","1996-01-05",1264,3,0]
["pwillsey","utc","m","m49","5k","1996-01-05",1312,3,1]
["lnafie","rat","m","m54","5k","1996-01-05",1190.5,5,1]
["jreynolds","utc","m","m54","5k","1996-01-05",1226.5999999999999,4,1]
["jstraussman","utc","m","m54","5k","1996-01-05",1226.9000000000001,4,1]
["adrew","rrn","m","m54","5k","1996-01-05",1432.7,2,1]
["dfrost","rrn","m","m54","5k","1996-01-05",1477,2,0]
["jmautz","rrn","m","m59","5k","1996-01-05",1310.5,4,1]
["kbarth","utc","m","m59","5k","1996-01-05",1327,4,0]
["rbrock","jff","m","m64","5k","1996-01-05",1226.4000000000001,6,1]
["twalnut","jff","m","m74","5k","1996-01-05",1418.7,5,1]
["rmore","jff","m","m74","5k","1996-01-05",1662.7,3,1]
["nwhite","jff","m","m79","5k","1996-01-05",1477,6,1]
["labrahamson","hbr","m","m54","10k","1996-01-12",2373,5,0]
["sstehman","rrn","m","m39","1500m","1996-01-12",316.89999999999998,3,1]
["wmcrae","rrn","m","m64","1500m","1996-01-12",356.8,5,1]
["establer","jff","m","m69","1500m","1996-01-12",351.9,6,1]
["kcarrino","rat","f","f44","200m","1996-01-12",32.799999999999997,4,0]
["sstehman","rrn","m","m39","200m","1996-01-12",30.2,3,1]
["mkreyenfeld","utc","f","f29","3k","1996-01-12",730.6,3,1]
["sreynolds","rat","f","f29","3k","1996-01-12",771.3,2,1]
["ldamron","rat","f","f34","3k","1996-01-12",647,5,1]
["kbedard","hbr","f","f34","3k","1996-01-12",840.7,1,1]
["ceich","utc","f","f39","3k","1996-01-12",644.70000000000005,6,1]
["sfalso","utc","f","f39","3k","1996-01-12",671.2,5,1]
["cmckie","utc","f","f39","3k","1996-01-12",712.1,4,1]
["ryanai","rat","f","f39","3k","1996-01-12",712.2,4,1]
["bbinkowski","hbr","f","f39","3k","1996-01-12",780.2,3,1]
["kconnelly","rat","f","f39","3k","1996-01-12",867,2,1]
["pford","rat","f","f44","3k","1996-01-12",645.29999999999995,6,1]
["mhartmann","rrn","f","f44","3k","1996-01-12",713.4,5,1]
["kcarrino","rat","f","f44","3k","1996-01-12",784,3,1]
["ehahn","jff","f","f59","3k","1996-01-12",1019.5,2,1]
["kwall","hbr","m","m29","3k","1996-01-12",588.1,5,1]
["rraymonda","una","m","m29","3k","1996-01-12",592.20000000000005,5,1]
["blindsey","una","m","m29","3k","1996-01-12",627.4,4,1]
["jecondon","rrn","m","m29","3k","1996-01-12",665.7,3,1]
["mroux","utc","m","m29","3k","1996-01-12",719.5,2,1]
["rnessel","una","m","m34","3k","1996-01-12",601.9,4,1]
["pturley","rat","m","m34","3k","1996-01-12",622.9,4,1]
["kmann","rat","m","m34","3k","1996-01-12",631,4,1]
["mdriscoll","rat","m","m39","3k","1996-01-12",768.5,2,1]
["kreynolds","jff","m","m44","3k","1996-01-12",678.5,4,1]
["jmautz","rrn","m","m59","3k","1996-01-12",760.3,4,1]
["jallen","hbr","m","m59","10k","1996-01-19",2580,5,1]
["nprice","hbr","m","m44","3k","1996-01-19",673.5,4,1]
["dmcmillan","rrn","m","m29","3k","1996-01-20",518.1,7,0]
["kconnelly","rat","f","f39","1600r","1996-01-26",272.3,4,1]
["enordman","hbr","m","m29","1600r","1996-01-26",249.8,6,1]
["bjackson","jff","m","m39","1600r","1996-01-26",280.8,4,1]
["labrahamson","hbr","m","m54","1600r","1996-01-26",249.8,6,1]
["wmcrae","rrn","m","m64","1600r","1996-01-26",267.2,5,1]
["nwhite","jff","m","m79","1600r","1996-01-26",351.6,4,1]
["doja","utc","m","m44","1600r","1996-02-02",267.2,4,1]
["mhartmann","rrn","f","f44","800r","1996-02-02",130.4,3,1]
["pgoodrum","hbr","m","m29","800r","1996-02-02",127.8,3,1]
["fstdennis","rrn","m","m39","800r","1996-02-02",122,4,1]
["pgriffin","utc","m","m44","800r","1996-02-02",133.69999999999999,3,1]
["pjewell","utc","m","m49","800r","1996-02-02",133.69999999999999,3,1]
["wborgstede","hbr","m","m54","800r","1996-02-02",145.30000000000001,1,1]
["mfried","jff","m","m64","800r","1996-02-02",142.9,3,1]
["kbedard","hbr","f","f34","dmr","1996-02-09",948.3,2,1]
["pgoodrum","hbr","m","m29","dmr","1996-02-09",771.5,4,1]
["bjackson","jff","m","m39","dmr","1996-02-09",821.2,4,1]
["jcapoccia","rat","m","m44","dmr","1996-02-09",746.7,5,1]
["jmautz","rrn","m","m59","dmr","1996-02-09",871.7,4,1]
["twalnut","jff","m","m74","dmr","1996-02-09",990,4,1]
["eberntsen","utc","m","m29","1500m","1996-02-16",248.8,6,1]
["wnicholson","hbr","m","m39","1500m","1996-02-16",400.8,1,1]
["dfrost","rrn","m","m54","1500m","1996-02-16",405.6,2,1]
["fschlereth","rrn","m","m64","1500m","1996-02-16",337.4,5,1]
["pmcclure","hbr","m","m49","10k","1996-02-23",2440,4,0]
["rmilner","hbr","m","m64","400m","1996-02-23",68.599999999999994,6,1]
["jcondon","rrn","m","m49","1500m","1996-02-29",306.7,5,1]
["pford","rat","f","f44","800m","1996-02-29",146.9,7,1]
["lnafie","rat","m","m54","800m","1996-02-29",145.6,6,1]
["yrothenberg","rat","f","f59","400m","1996-03-06",87.1,3,1]
["jwagner","hbr","m","m39","400m","1996-03-06",78.900000000000006,1,1]
["rmore","jff","m","m74","400m","1996-03-06",96.1,2,1]
["ithompson","jff","f","f44","200m","1996-03-14",27.5,7,1]
["pgriffin","utc","m","m44","200m","1996-03-14",29.7,4,1]
["dfrost","rrn","m","m54","200m","1996-03-14",32.700000000000003,4,1]
["ithompson","jff","f","f44","100m","1996-03-21",13.2,7,1]
["gwoods","rrn","m","m39","100m","1996-03-21",13.1,5,1]
["wmcrae","rrn","m","m64","100m","1996-03-21",16.2,5,1]
["nwhite","jff","m","m79","100m","1996-03-21",24.2,1,1]
["ncoffey","hbr","m","m39","1600r","1996-03-27",276.89999999999998,3,1]
["kwall","hbr","m","m29","3200r","1996-03-27",582.9,5,1]
["fmejia","rat","f","f29","800m","1996-03-27",173.8,2,1]
["hmacmillan","utc","m","m69","100m","1996-04-04",14.9,7,0]
["sgraceffo","jff","m","m59","3k","1996-04-04",670.3,6,1]
["rhahn","jff","m","m64","3k","1996-04-04",811.7,4,1]
["jallen","hbr","m","m59","1500m","1996-04-11",298.60000000000002,7,2]
["dhughes","rrn","m","m39","5k","1996-04-11",1084,4,1]
["bjackson","jff","m","m39","100m","1996-04-18",12.1,7,1]
["msage","jff","m","m64","200m","1996-04-18",37.200000000000003,3,1]
["kconnelly","rat","f","f39","1500m","1996-04-25",385.5,2,1]
["dhughes","rrn","m","m39","1600r","1996-04-25",312.89999999999998,3,1]
["jmautz","rrn","m","m59","3200r","1996-04-25",608.5,5,1]
["pmcclure","hbr","m","m49","800r","1996-04-25",125.9,5,1]
["rripley","jff","f","f49","400m","1996-05-01",89.2,2,2]
["bjackson","jff","m","m39","10k","1996-05-16",2194,5,0]
["dmcmillan","rrn","m","m29","10k","1996-05-17",2007,6,2]
["smore","bam","m","m44","10k","1996-06-15",2784,2,0]
["wmcrae","lgt","m","m64","15k","1996-07-04",4535,3,0]
["tmcconnell","blz","m","m44","3k","1996-07-15",638.9,5,0]
["gdiamond","wlb","m","m44","15k","1996-08-24",4005,3,0]
["dmcmillan","wbz","m","m34","5k","1996-10-06",912,7,0]
["kmann","bam","m","m39","5k","1996-10-06",1050,5,0]
["sgraceffo","wlb","m","m64","15k","1996-11-10",3646,7,0]
["pturley","lgt","m","m34","mile","1996-11-22",304,4,1]
["kjabbour","bam","m","m39","mile","1996-11-22",354,3,1]
["rfrey","bam","m","m54","mile","1996-11-22",433.7,2,1]
["wmcrae","lgt","m","m64","mile","1996-11-22",442,3,1]
["jweber","wbz","f","f34","800m","1996-11-27",207.6,1,1]
["klaquidari","lgt","f","f44","800m","1996-11-27",169.8,4,1]
["jcarnes","lgt","m","m39","800m","1996-11-27",165.5,3,1]
["smore","bam","m","m49","800m","1996-11-27",163.5,4,1]
["pjewell","wbz","m","m49","800m","1996-11-27",167.1,3,1]
["mbennett","bam","f","f39","400m","1996-12-05",102,1,1]
["yrothenberg","lgt","f","f54","400m","1996-12-05",82.4,4,1]
["pturley","lgt","m","m34","400m","1996-12-05",68,3,1]
["pmcclure","wlb","m","m49","400m","1996-12-05",63.4,5,1]
["sclemence","lgt","m","m59","400m","1996-12-05",75.099999999999994,4,1]
["mbennett","bam","f","f39","3200r","1996-12-13",816.6,2,1]
["ehahn","bam","f","f59","3200r","1996-12-13",816.6,2,1]
["rwheeless","wbz","m","m39","3200r","1996-12-13",515.9,6,1]
["bsleight","lgt","m","m39","3200r","1996-12-13",672.5,4,1]
["rfrey","bam","m","m54","3200r","1996-12-13",658.7,4,1]
["rhahn","lgt","m","m64","3200r","1996-12-13",678.8,5,1]
["tguiden","bam","m","m39","800m","1996-12-15",128.1,6,0]
["bbinkowski","bam","f","f39","3k","1996-12-19",731,4,1]
["dhagrman","lgt","m","m29","3k","1996-12-19",828.3,1,1]
["gdiamond","wlb","m","m44","3k","1996-12-19",677.3,4,1]
["jrisley","una","m","m54","3k","1996-12-19",1061,1,1]
["ceich","wlb","f","f39","3k","1997-01-02",665.5,5,1]
["ebeatty","una","f","f29","5k","1997-01-02",1176.8,4,1]
["mpowell","lgt","m","m34","5k","1997-01-02",1196.0999999999999,3,1]
["jallen","lgt","m","m59","5k","1997-01-02",1201.0999999999999,5,1]
["ldamron","wbz","f","f34","200m","1997-01-10",34.1,2,1]
["mzeppetello","blz","f","f69","200m","1997-01-10",49.9,1,1]
["prougeux","wbz","m","m39","200m","1997-01-10",25.2,6,1]
["wnicholson","wbz","m","m39","200m","1997-01-10",31.5,3,1]
["dfrost","lgt","m","m54","200m","1997-01-10",33.5,3,1]
["mfried","bam","m","m64","200m","1997-01-10",38.299999999999997,2,1]
["ehahn","bam","f","f59","1600r","1997-01-17",383.3,1,1]
["pgoodrum","wlb","m","m29","1600r","1997-01-17",284.8,4,1]
["khanlon","lgt","m","m44","1600r","1997-01-17",236.7,6,1]
["kgilyard","bam","m","m44","1600r","1997-01-17",283.89999999999998,4,1]
["wborgstede","blz","m","m54","1600r","1997-01-17",328.6,2,1]
["hmacmillan","bam","m","m74","1600r","1997-01-17",283.89999999999998,4,1]
["tfondy","wbz","m","m59","400m","1997-01-18",65.2,6,0]
["myale","wlb","f","f29","800r","1997-01-24",125.8,3,1]
["dbergen-cico","bam","f","f29","800r","1997-01-24",144.19999999999999,1,1]
["sandrzejewski","wlb","m","m29","800r","1997-01-24",111.8,5,1]
["gwoods","wlb","m","m39","800r","1997-01-24",110.9,4,1]
["pmcclure","wlb","m","m49","800r","1997-01-24",111.8,5,1]
["jview","blz","m","m49","800r","1997-01-24",162.30000000000001,2,1]
["rfrey","bam","m","m54","800r","1997-01-24",135.80000000000001,3,1]
["price","wlb","m","m64","800r","1997-01-24",127.7,3,1]
["kcarrino","bam","f","f44","100m","1997-01-31",15.3,5,1]
["pgoodrum","wlb","m","m29","100m","1997-01-31",13.1,5,1]
["pgriffin","bam","m","m44","100m","1997-01-31",16.100000000000001,3,1]
["rcleary","lgt","m","m49","100m","1997-01-31",15.3,4,1]
["jucci","blz","m","m59","100m","1997-01-31",16.7,4,1]
["jmartinez","lgt","m","m29","mile","1997-01-31",296.5,5,1]
["relder","blz","m","m39","10k","1997-02-07",2372.4,3,1]
["rhahn","lgt","m","m64","10k","1997-02-07",2972.9,3,1]
["jvollweiler","blz","f","f29","3k","1997-02-14",638.9,5,1]
["gwoods","wlb","m","m39","3k","1997-02-14",712.6,3,1]
["pgriffin","bam","m","m44","3k","1997-02-14",681,4,1]
["doja","lgt","m","m44","5k","1997-02-14",1185,4,1]
["jnicholson","wbz","m","m34","15k","1997-02-21",3444.3,4,1]
["mpowell","lgt","m","m34","800m","1997-02-21",130.30000000000001,5,1]
["wobrian","blz","m","m69","200m","1997-02-28",42.9,2,1]
["mroux","wbz","m","m29","400m","1997-02-28",53,6,1]
["jview","blz","m","m49","400m","1997-02-28",74.8,3,1]
["price","wlb","m","m64","400m","1997-02-28",78.8,4,1]
["ncoffey","wlb","m","m39","200m","1997-03-06",29.6,3,1]
["kbarth","wlb","m","m59","200m","1997-03-06",37.4,2,1]
["wobrian","blz","m","m69","800m","1997-03-06",252,1,1]
["tfondy","wbz","m","m59","mile","1997-03-13",382.5,4,1]
["tcromp","wbz","f","f34","800m","1997-03-20",235.3,1,1]
["rcleary","lgt","m","m49","800m","1997-03-20",149.80000000000001,5,1]
["jsmith","bam","m","m54","15k","1997-03-23",3666,5,0]
["dlake","lgt","m","m49","5k","1997-04-02",1512.6,1,1]
["gwoods","wlb","m","m39","mile","1997-04-02",347.7,3,1]
["jcondon","bam","m","m49","200m","1997-04-10",31.3,4,1]
["sgraceffo","wlb","m","m64","400m","1997-04-10",75.900000000000006,4,1]
["mfried","bam","m","m64","800r","1997-04-10",142.69999999999999,2,1]
["jcarnes","lgt","m","m39","100m","1997-04-17",14.7,4,1]
["tfondy","wbz","m","m59","100m","1997-04-17",13.6,7,1]
["johead","una","m","m29","15k","1997-04-20",3720.3,3,1]
["establer","lgt","m","m69","5k","1997-04-20",1412.9,4,1]
["dmcmillan","wbz","m","m34","200m","1997-04-24",25.3,5,1]
["jmartinez","lgt","m","m29","400m","1997-04-24",61.5,4,1]
["rmore","wlb","m","m79","400m","1997-04-24",92.9,4,1]
["rwilett","lgt","m","m64","800r","1997-04-24",129,4,1]
["mzeppetello","jav","f","f69","5k","1997-04-26",2409,1,0]
["pford","tty","f","f44","10k","1997-05-24",2427,5.5,0]
["pwillsey","jav","m","m49","10k","1997-06-14",2603,3.5,0]
["tmcconnell","tty","m","m44","800m","1997-06-24",143.69999999999999,5.5,0]
["jcondon","ssq","m","m49","15k","1997-07-11",4043,3.5,0]
["mromagnoli","ssq","f","f29","3k","1997-07-25",637.70000000000005,5.5,0]
["jvollweiler","ssq","f","f29","5k","1997-10-05",1097,5.5,0]
["dfrost","tty","m","m54","5k","1997-10-05",1426,2.5,0]
["jbarnish","ssq","f","f34","5k","1997-11-20",1588,1,1]
["gwoods","mcg","m","m39","5k","1997-11-20",1141.9000000000001,4,1]
["pgriffin","tty","m","m44","5k","1997-11-20",1196.3,3.5,1]
["mrothenberg","mcg","m","m64","5k","1997-11-20",1483.3,3,1]
["jmartinez","tty","m","m29","3k","1997-11-26",588.1,5,1]
["gradford","tty","m","m44","3k","1997-11-26",603.4,5.5,1]
["pmcclure","mcg","m","m49","3k","1997-11-26",718.5,3.5,1]
["mgratzer","mcg","m","m64","5k","1997-11-27",1436,3.5,0]
["kconnelly","ssq","f","f39","mile","1997-12-04",391.1,3,1]
["mfitzpatrick","ssq","m","m39","mile","1997-12-04",325.60000000000002,4,1]
["pmcclure","mcg","m","m49","mile","1997-12-04",349.2,4,1]
["establer","rdd","m","m69","mile","1997-12-04",371.8,6,1]
["bmyer","ssq","f","f39","800m","1997-12-11",220.4,1,1]
["pgoodrum","mcg","m","m34","800m","1997-12-11",143.69999999999999,4,1]
["mdriscoll","mcg","m","m39","800m","1997-12-11",183.4,1.5,1]
["pzinszer","rdd","m","m54","800m","1997-12-11",218.5,1,1]
["rmore","ssq","m","m79","800m","1997-12-11",231.8,3.5,1]
["sfalso","ssq","f","f39","400m","1997-12-18",69.8,4.5,1]
["ssleight","tty","m","m39","400m","1997-12-18",64,4,1]
["kreynolds","tty","m","m44","400m","1997-12-18",78.900000000000006,2,1]
["mdefio","jav","m","m54","400m","1997-12-18",72.900000000000006,3.5,1]
["twalnut","jav","m","m74","400m","1997-12-18",88.1,4,1]
["jbarnish","ssq","f","f34","3200r","1998-01-09",784.5,2,1]
["enordman","jav","m","m29","3200r","1998-01-09",666,5,1]
["pdriscoll","tty","m","m39","3200r","1998-01-09",695.9,3.5,1]
["mfitzpatrick","ssq","m","m39","3200r","1998-01-09",800.6,1.5,1]
["pjewell","tty","m","m54","3200r","1998-01-09",686,3,1]
["mfried","rdd","m","m64","3200r","1998-01-09",669.1,3.5,1]
["pford","tty","f","f44","3k","1998-01-16",628.79999999999995,7,1]
["ltucker","ssq","f","f59","3k","1998-01-16",834.1,5,1]
["enordman","jav","m","m29","5k","1998-01-16",957.1,6,1]
["fteitje","una","m","m44","5k","1998-01-16",1176,4,1]
["sfalso","ssq","f","f39","200m","1998-01-23",31.8,4,1]
["jmartinez","tty","m","m29","200m","1998-01-23",27.3,4,1]
["pgriffin","tty","m","m44","200m","1998-01-23",27.7,5,1]
["dfrost","tty","m","m59","200m","1998-01-23",34,4,1]
["ryanai","tty","f","f39","mile","1998-01-24",361.1,4.5,0]
["mbennett","ssq","f","f39","1600r","1998-01-30",319,3,1]
["jlauko","ssq","m","m34","1600r","1998-01-30",315.8,2.5,1]
["pdriscoll","tty","m","m39","1600r","1998-01-30",287.7,3,1]
["jcarnes","ssq","m","m44","1600r","1998-01-30",311.60000000000002,3.5,1]
["dfrost","tty","m","m59","1600r","1998-01-30",287.7,3,1]
["hmacmillan","jav","m","m74","1600r","1998-01-30",266.10000000000002,5.5,1]
["rcleary","mcg","m","m49","1600r","1998-02-06",274.5,4,1]
["tcromp","ssq","f","f34","800r","1998-02-06",127.9,4.5,1]
["gwoods","mcg","m","m39","800r","1998-02-06",119.3,5,1]
["fstdennis","ssq","m","m44","800r","1998-02-06",109.2,7,1]
["dwohlers","mcg","m","m49","800r","1998-02-06",119.3,5,1]
["sclemence","jav","m","m59","800r","1998-02-06",158.5,3,1]
["tfondy","ssq","m","m64","800r","1998-02-06",147.5,3.5,1]
["sfalso","ssq","f","f39","100m","1998-02-13",15.5,4.5,1]
["pgoodrum","mcg","m","m34","100m","1998-02-13",13.2,5,1]
["ncoffey","jav","m","m39","100m","1998-02-13",13.8,4.5,1]
["gdiamond","mcg","m","m49","100m","1998-02-13",15.1,4.5,1]
["abranch","ssq","m","m64","100m","1998-02-13",13.2,8,1]
["khanlon","ssq","m","m44","200m","1998-02-15",27.1,5.5,0]
["pgriffin","tty","m","m44","10k","1998-02-20",2724.4,2.5,1]
["jucci","jav","m","m64","200m","1998-02-20",32.9,5,1]
["gdiamond","mcg","m","m49","5k","1998-02-20",1211.5,4,1]
["rwheeless","jav","m","m39","3k","1998-02-27",580.9,6,1]
["fstdennis","ssq","m","m44","3k","1998-02-27",615,5.5,1]
["price","rdd","m","m64","3k","1998-02-27",859,3,1]
["wmcrae","mcg","m","m69","400m","1998-03-06",81,4,1]
["sfalso","ssq","f","f39","800m","1998-03-06",152.9,5.5,1]
["tmcconnell","tty","m","m44","800m","1998-03-06",142.6,5.5,1]
["gdiamond","mcg","m","m49","800m","1998-03-06",156.30000000000001,4.5,1]
["dbergen-cico","tty","f","f34","400m","1998-03-13",73.8,3,1]
["ncoffey","jav","m","m39","400m","1998-03-13",60.9,5,1]
["edonoghue","mcg","m","m59","400m","1998-03-13",64.599999999999994,6,1]
["jucci","jav","m","m64","400m","1998-03-13",71.400000000000006,5.5,1]
["pford","tty","f","f44","mile","1998-03-20",316,7,1]
["gwoods","mcg","m","m39","mile","1998-03-20",310.2,5,1]
["dhanlon","ssq","m","m79","mile","1998-03-20",502.5,4,1]
["tcromp","ssq","f","f34","200m","1998-03-26",33,3,1]
["mfitzpatrick","ssq","m","m39","200m","1998-03-26",31.6,3,1]
["msage","mcg","m","m64","200m","1998-03-26",39.799999999999997,2,1]
["jvollweiler","ssq","f","f29","15k","1998-04-05",3726,4.5,0]
["pford","tty","f","f44","15k","1998-04-09",3773,5.5,2]
["jbarnish","ssq","f","f34","5k","1998-04-16",1559,1,1]
["smore","ssq","m","m49","5k","1998-04-16",1217.9000000000001,4,1]
["tcromp","ssq","f","f34","100m","1998-04-23",15.7,3.5,1]
["jconnelly","tty","m","m39","100m","1998-04-23",16.100000000000001,2.5,1]
["dhanlon","ssq","m","m79","100m","1998-04-23",17.7,6,1]
["dbergen-cico","tty","f","f34","mile","1998-04-23",376.2,3,1]
["tcromp","ssq","f","f34","400m","1998-04-27",75.599999999999994,3,2]
["jvollweiler","ssq","f","f29","1600r","1998-04-30",276.7,4,1]
["mromagnoli","ssq","f","f29","3200r","1998-04-30",597.4,6,1]
["mzeppetello","jav","f","f69","3k","1998-04-30",1602,1,1]
["jeliasson","tty","m","m29","800r","1998-04-30",130.9,3,1]
["lnafie","tty","m","m54","800r","1998-04-30",115.6,5,1]
["pjewell","tty","m","m54","800r","1998-04-30",129,3.5,1]
["jconnelly","tty","m","m39","5k","1998-05-02",1478,1,0]
["smore","ssq","m","m49","mile","1998-05-06",347.8,4.5,2]
["jcarnes","ssq","m","m44","10k","1998-05-08",2739.6,2.5,1]
["dhughes","rdd","m","m44","5k","1998-05-08",1212.3,3.5,1]
["bbush","tty","m","m49","10k","1998-05-14",2369.1,5,2]
["rhahn","tty","m","m69","100m","1998-05-15",17.100000000000001,4.5,2]
["yrothenberg","dod","f","f59","200m","1998-06-04",39.9,3.5,0]
["mzeppetello","dod","f","f69","400m","1998-06-05",131.4,1,0]
["pmcclure","dod","m","m49","10k","1998-06-13",2522,4,0]
["eclark","sos","f","f54","10M","1998-07-04",5551,2.5,0]
["smore","tnt","m","m49","400m","1998-07-06",66.8,4.5,0]
["dhughes","dod","m","m44","15k","1998-07-12",3535,4.5,0]
["pstelmaszyk","tnt","m","m59","200m","1998-07-13",27.5,7,0]
["jview","sos","m","m49","5k","1998-08-01",1313,3,0]
["kmcpherson","tnt","m","m29","5k","1998-08-30",937,6.5,0]
["bclark","ata","m","m29","5k","1998-10-04",900,7,0]
["mrothenberg","dod","m","m64","5k","1998-10-04",1619,2,0]
["rbrock","dod","m","m69","5k","1998-10-04",1304,6,0]
["sfamulari","sos","f","f29","3k","1998-11-19",1059.5,1,1]
["jlauko","dod","m","m34","3k","1998-11-19",755.9,1.5,1]
["dcole","vo2","m","m39","3k","1998-11-19",598.79999999999995,5.5,1]
["pjewell","vo2","m","m54","3k","1998-11-19",722,4,1]
["sclemence","ata","m","m59","3k","1998-11-19",858.4,2.5,1]
["rmore","vo2","m","m79","3k","1998-11-19",1068.0999999999999,3,1]
["pford","sos","f","f44","mile","1998-11-25",328.9,6.5,1]
["rwheeless","dod","m","m39","mile","1998-11-25",298.3,5.5,1]
["dfranke","tnt","m","m39","mile","1998-11-25",387.1,2,1]
["pmcclure","dod","m","m49","mile","1998-11-25",339,4.5,1]
["rbrock","dod","m","m69","mile","1998-11-25",379.7,6,1]
["czogby","vo2","f","f34","800m","1998-12-10",162.69999999999999,4,1]
["ssampere","ata","m","m34","800m","1998-12-10",142.69999999999999,4.5,1]
["avogel","vo2","m","m39","800m","1998-12-10",156.1,3.5,1]
["smore","tnt","m","m49","800m","1998-12-10",161.1,4,1]
["twalnut","dod","m","m74","800m","1998-12-10",199.2,4.5,1]
["kwiley","ata","f","f29","400m","1998-12-17",84.9,1,1]
["ddunmire","dod","m","m29","400m","1998-12-17",64.900000000000006,3,1]
["ssleight","dod","m","m39","400m","1998-12-17",64.7,4,1]
["smore","tnt","m","m49","400m","1998-12-17",68.400000000000006,4,1]
["jallen","dod","m","m59","400m","1998-12-17",64.2,6.5,1]
["twalnut","dod","m","m74","400m","1998-12-17",87,4,1]
["kcarrino","tnt","f","f49","200m","1998-12-29",35.5,3.5,1]
["jeliasson","vo2","m","m29","200m","1998-12-29",35.299999999999997,1,1]
["fstdennis","sos","m","m44","200m","1998-12-29",27,5.5,1]
["rcleary","sos","m","m49","200m","1998-12-29",33.4,3,1]
["tcromp","tnt","f","f34","100m","1999-01-08",16.7,3,1]
["pford","sos","f","f44","100m","1999-01-08",17.2,3.5,1]
["bjackson","tnt","m","m39","100m","1999-01-08",12.4,6.5,1]
["mrybinski","vo2","m","m44","100m","1999-01-08",13.2,6,1]
["jallen","dod","m","m59","100m","1999-01-08",14.1,6.5,1]
["wmcrae","dod","m","m69","100m","1999-01-08",17,4.5,1]
["twalnut","dod","m","m74","100m","1999-01-08",19.600000000000001,3.5,1]
["kmukunda","vo2","m","m29","3200r","1999-01-15",737.8,1.5,1]
["dcole","vo2","m","m39","3200r","1999-01-15",563.5,5.5,1]
["smore","tnt","m","m49","3200r","1999-01-15",698.9,3.5,1]
["rhahn","dod","m","m69","3200r","1999-01-15",735.1,4,1]
["kwiley","ata","f","f29","1600r","1999-01-22",325.5,2.5,1]
["sfalso","tnt","f","f39","1600r","1999-01-22",267.2,4,1]
["ffemia","dod","m","m29","1600r","1999-01-22",276.10000000000002,2.5,1]
["ssampere","ata","m","m34","1600r","1999-01-22",325.5,2.5,1]
["pmcclure","dod","m","m49","1600r","1999-01-22",280.39999999999998,4,1]
["smore","tnt","m","m49","1600r","1999-01-22",334.2,2.5,1]
["fschlereth","tnt","m","m69","1600r","1999-01-22",261.8,6.5,1]
["gdiamond","sos","m","m49","400m","1999-01-22",76.900000000000006,2.5,1]
["kmcpherson","tnt","m","m29","400m","1999-01-29",57.8,4.5,1]
["bbinkowski","tnt","f","f39","800r","1999-01-29",133.80000000000001,3,1]
["rstdenis","sos","m","m29","800r","1999-01-29",124.1,4,1]
["ssampere","ata","m","m34","800r","1999-01-29",128.6,4.5,1]
["khanlon","vo2","m","m44","800r","1999-01-29",106.7,5.5,1]
["hteres","ata","m","m49","800r","1999-01-29",130,3.5,1]
["jallen","dod","m","m59","800r","1999-01-29",147.5,3.5,1]
["rhahn","dod","m","m69","800r","1999-01-29",147.5,3.5,1]
["dcole","vo2","m","m39","200m","1999-02-05",25.6,6,1]
["mberetvas","dod","f","f29","5k","1999-02-05",1398.5,2,1]
["ncoffey","ata","m","m39","5k","1999-02-05",1062.9000000000001,5,1]
["drobbins","ata","m","m54","5k","1999-02-05",1367.2,3,1]
["jcarnes","ata","m","m44","3k","1999-02-06",685.6,4,2]
["rsmits","vo2","m","m29","800m","1999-02-12",189.9,1,1]
["gwoods","vo2","m","m39","800m","1999-02-12",138.9,5,1]
["establer","ata","m","m69","800m","1999-02-12",175.9,5.5,1]
["ldamron","dod","f","f39","10k","1999-02-19",2373.1999999999998,5.5,1]
["relder","ata","m","m44","200m","1999-02-19",32.4,3,1]
["nwhite","tnt","m","m79","5k","1999-02-19",1603,4.5,1]
["bfredrikson","dod","m","m64","100m","1999-02-26",17,4,1]
["mfitzpatrick","tnt","m","m39","200m","1999-02-26",30,3.5,1]
["jlauko","dod","m","m34","400m","1999-02-26",65.400000000000006,3.5,1]
["pmcclure","dod","m","m49","400m","1999-02-26",64.2,5,1]
["nwhite","tnt","m","m79","400m","1999-02-26",117.1,1,1]
["kconnelly","ata","f","f39","10k","1999-03-12",3075.5,2,1]
["dhanlon","vo2","m","m79","15k","1999-03-12",5440,3.5,1]
["jbarnish","tnt","f","f34","800r","1999-03-13",134.69999999999999,3.5,0]
["mromagnoli","ata","f","f29","3k","1999-03-19",634.5,5.5,1]
["gwoods","vo2","m","m39","3k","1999-03-19",674.5,3.5,1]
["rcleary","sos","m","m49","3k","1999-03-19",669.7,4.5,1]
["tcromp","tnt","f","f34","200m","1999-03-26",33.9,2.5,1]
["sfalso","tnt","f","f39","200m","1999-03-26",30.8,4.5,1]
["ssampere","ata","m","m34","200m","1999-03-26",28.4,4,1]
["establer","ata","m","m69","200m","1999-03-26",34.1,5,1]
["doja","vo2","m","m49","15k","1999-03-28",3970,3.5,0]
["kwiley","ata","f","f29","mile","1999-04-01",417.8,1.5,1]
["pgoodrum","sos","m","m34","mile","1999-04-01",355.8,2.5,1]
["labrahamson","dod","m","m59","mile","1999-04-01",351.1,5.5,1]
["jucci","sos","m","m64","100m","1999-04-08",16.600000000000001,4.5,1]
["mfitzpatrick","tnt","m","m39","1600r","1999-04-08",299.3,3.5,1]
["dmcmillan","dod","m","m39","400m","1999-04-08",58.1,5.5,1]
["drobbins","ata","m","m54","800m","1999-04-08",171.6,4,1]
["tcromp","tnt","f","f34","10k","1999-04-11",3141,1,0]
["mdriscoll","ata","m","m44","3k","1999-04-15",795.2,2,1]
["tmcconnell","ata","m","m44","5k","1999-04-15",1130.5,4.5,1]
["skelly","tnt","m","m34","100m","1999-04-22",13.4,4.5,1]
["rwestbrook","sos","m","m44","100m","1999-04-22",15.8,3,1]
["prougeux","dod","m","m39","100m","1999-04-29",12.9,5.5,1]
["ryanai","dod","f","f44","1600r","1999-04-29",481.4,1,1]
["tfondy","tnt","m","m64","1600r","1999-04-29",261.7,5,1]
["mrybinski","vo2","m","m44","3200r","1999-04-29",636.20000000000005,4,1]
["jmartinez","sos","m","m29","800r","1999-04-29",130.30000000000001,3.5,1]
["jucci","sos","m","m64","800r","1999-04-29",130.30000000000001,3.5,1]
["kconnelly","ata","f","f44","400m","1999-05-04",73.3,4.5,2]
["ldamron","dod","f","f39","1600r","1999-05-07",424.6,1,1]
["ryanai","dod","f","f44","3200r","1999-05-07",736.1,4,1]
["jucci","sos","m","m64","3200r","1999-05-07",668.8,4,1]
["ldamron","dod","f","f39","800r","1999-05-07",179.5,1,1]
["mfitzpatrick","tnt","m","m39","800r","1999-05-07",118.2,4.5,1]
["sclemence","ata","m","m59","5k","1999-05-08",1479,2.5,0]
["gdiamond","sos","m","m49","5k","1999-05-11",1261,3.5,2]
["kconnelly","ata","f","f44","15k","1999-05-14",4567.5,2.5,1]
["mdockwiller","sos","f","f44","5k","1999-05-14",1498,2.5,1]
["bbush","mtg","m","m49","10k","1999-05-23",2251,5.5,0]
["prougeux","mtg","m","m39","5k","1999-06-12",1203,3,0]
["relder","prs","m","m44","10k","1999-06-13",2719,2.5,0]
["rwheeless","rro","m","m39","5k","1999-07-04",962.9,6.5,0]
["dcole","mtg","m","m44","15k","1999-07-11",3233,6,0]
["jbarnish","sak","f","f34","800m","1999-07-12",217,1,0]
["jmartinez","mtg","m","m29","800m","1999-07-12",124.6,6,0]
["jcarnes","prs","m","m44","15k","1999-08-28",4190,2.5,0]
["gradford","mtg","m","m44","5k","1999-09-25",1048,5.5,0]
["kmann","ctl","m","m39","5k","1999-10-03",1063,5,0]
["dspringer","sak","f","f29","3k","1999-11-19",632,5.5,1]
["ithompson","sak","f","f49","3k","1999-11-19",810.3,4,1]
["pdriscoll","prs","m","m39","3k","1999-11-19",674.5,3.5,1]
["jallen","prs","m","m59","3k","1999-11-19",1596,1,1]
["tcromp","sak","f","f34","800m","1999-11-24",200.3,1.5,1]
["dcole","mtg","m","m44","800m","1999-11-24",125,7.5,1]
["smore","prs","m","m49","800m","1999-11-24",163.30000000000001,4,1]
["jucci","mtg","m","m64","800m","1999-11-24",173.9,5,1]
["rhahn","mtg","m","m69","200m","1999-12-01",116,1,1]
["ffemia","mtg","m","m29","5k","1999-12-01",1223,2.5,1]
["dcole","mtg","m","m44","5k","1999-12-01",1033,6,1]
["hteres","prs","m","m49","5k","1999-12-01",1354.6,2.5,1]
["crider","sak","f","f59","400m","1999-12-10",96.3,2.5,1]
["rherman","rro","m","m29","400m","1999-12-10",62.4,3.5,1]
["pturley","rro","m","m39","400m","1999-12-10",72.599999999999994,2.5,1]
["gdiamond","prs","m","m49","400m","1999-12-10",70.3,3.5,1]
["price","ctl","m","m64","400m","1999-12-10",82.5,3.5,1]
["ltucker","sak","f","f64","10k","1999-12-17",2995.9,5.5,1]
["rmore","prs","m","m79","10k","1999-12-17",3791.6,3,1]
["pradford","sak","f","f44","200m","1999-12-17",43.4,1,1]
["pdriscoll","prs","m","m39","5k","1999-12-17",1208.8,3,1]
["jmartinez","mtg","m","m29","mile","1999-12-19",277.7,6,0]
["dwhite","ctl","m","m29","200m","1999-12-21",25.7,5,1]
["dhughes","rro","m","m44","200m","1999-12-21",33.5,2.5,1]
["edonoghue","prs","m","m64","200m","1999-12-21",29.2,6.5,1]
["mfried","prs","m","m69","200m","1999-12-21",42.3,2,1]
["mwills","sak","f","f49","mile","1999-12-30",457.4,2.5,1]
["canklin","mtg","m","m44","mile","1999-12-30",283.10000000000002,7,1]
["jallen","prs","m","m59","mile","1999-12-30",384,4,1]
["ryanai","sak","f","f44","100m","2000-01-07",16.5,4,1]
["ahaley","prs","f","f49","100m","2000-01-07",17.899999999999999,3.5,1]
["fstdennis","prs","m","m44","100m","2000-01-07",13.3,5.5,1]
["tmcconnell","mtg","m","m49","100m","2000-01-07",14.4,5,1]
["mrothenberg","prs","m","m69","100m","2000-01-07",18.899999999999999,3,1]
["pwatson","sak","f","f49","100m","2000-01-14",16.100000000000001,5,1]
["ehahn","sak","f","f59","3200r","2000-01-14",744.5,3.5,1]
["rstdenis","mtg","m","m29","3200r","2000-01-14",586.20000000000005,5.5,1]
["dcole","mtg","m","m44","3200r","2000-01-14",586.20000000000005,5.5,1]
["tmcconnell","mtg","m","m49","3200r","2000-01-14",545,5.5,1]
["phalbert","ctl","m","m64","3200r","2000-01-14",736.5,4.5,1]
["hmacmillan","rro","m","m74","3200r","2000-01-14",612.79999999999995,5.5,1]
["ryanai","sak","f","f44","1600r","2000-01-21",270.39999999999998,5,1]
["jgough","mtg","m","m29","1600r","2000-01-21",255.3,4.5,1]
["relder","prs","m","m44","1600r","2000-01-21",262.3,4,1]
["pmcclure","prs","m","m49","1600r","2000-01-21",259.60000000000002,4,1]
["twalnut","ctl","m","m79","1600r","2000-01-21",331,3.5,1]
["ryanai","sak","f","f44","mile","2000-01-22",347.5,5.5,0]
["ceich","sak","f","f44","800r","2000-01-28",136,3.5,1]
["jmartinez","mtg","m","m29","800r","2000-01-28",115.3,4.5,1]
["pturley","rro","m","m39","800r","2000-01-28",122.3,4.5,1]
["gwoods","rro","m","m44","800r","2000-01-28",122.3,4.5,1]
["smore","prs","m","m49","800r","2000-01-28",126.9,4.5,1]
["jstraussman","ctl","m","m59","800r","2000-01-28",147.19999999999999,4,1]
["ryanai","sak","f","f44","3k","2000-02-03",703.8,5,1]
["tmcconnell","mtg","m","m49","3k","2000-02-03",643.1,5.5,1]
["kbarth","ctl","m","m64","3k","2000-02-03",960.1,1.5,1]
["dwhite","ctl","m","m29","200m","2000-02-10",30.1,3,1]
["pdriscoll","prs","m","m39","200m","2000-02-10",29.3,4,1]
["bnicholson","rro","m","m54","200m","2000-02-10",32.4,4,1]
["ehahn","sak","f","f64","mile","2000-02-11",512.79999999999995,3,0]
["pdriscoll","prs","m","m39","5k","2000-02-17",1219,3,1]
["ffemia","mtg","m","m29","mile","2000-02-17",353,2.5,1]
["ehahn","sak","f","f64","800m","2000-02-24",236.2,3,1]
["mfitzpatrick","rro","m","m39","800m","2000-02-24",143.5,4.5,1]
["nwhite","prs","m","m84","800m","2000-02-24",256.7,3.5,1]
["pjewell","ctl","m","m54","200m","2000-03-02",39.4,1.5,1]
["szauscher","mtg","m","m39","400m","2000-03-02",72.5,2.5,1]
["hmacmillan","rro","m","m74","400m","2000-03-02",77.900000000000006,5.5,1]
["mfitzpatrick","rro","m","m39","1600r","2000-03-09",280.3,3.5,1]
["nwhite","prs","m","m84","1600r","2000-03-09",354.3,2.5,1]
["ssampere","sak","m","m39","400m","2000-03-09",65.5,3.5,1]
["bnicholson","rro","m","m54","3k","2000-03-11",715.9,4.5,0]
["pgriffin","ctl","m","m49","3k","2000-03-16",734.1,3.5,1]
["gscott","mtg","m","m39","15k","2000-03-26",3952,2.5,0]
["dhagrman","mtg","m","m34","1600r","2000-03-30",259.2,3.5,1]
["pdriscoll","prs","m","m39","3200r","2000-03-30",791.4,3.5,1]
["jmadden","una","m","m59","3k","2000-03-30",859,2.5,1]
["tcromp","sak","f","f34","800r","2000-03-30",135.6,3.5,1]
["dhughes","rro","m","m44","10k","2000-04-02",2155,5.5,0]
["price","ctl","m","m64","800m","2000-04-14",201.9,3,1]
["ithompson","sak","f","f49","mile","2000-04-14",450.3,2.5,1]
["twalnut","ctl","m","m79","mile","2000-04-14",496.7,4,1]
["agiamis","mtg","m","m34","100m","2000-04-21",14,4,1]
["dhanlon","mtg","m","m79","5k","2000-04-21",1713,4,1]
["nwhite","prs","m","m84","mile","2000-04-21",517,4.5,1]
["csimser","mtg","m","m44","1600r","2000-04-28",297.5,3.5,1]
["jgough","mtg","m","m29","3200r","2000-04-28",708,3.5,1]
["pmcclure","prs","m","m54","3200r","2000-04-28",676.2,3.5,1]
["ryanai","sak","f","f44","800r","2000-04-28",131.19999999999999,4,1]
["pdriscoll","prs","m","m39","800r","2000-04-28",131.19999999999999,3.5,1]
["drobbins","rro","m","m54","800r","2000-04-28",130.9,3,1]
["wpooler","mtg","m","m69","10M","2000-04-29",6546,1,0]
["dhagrman","mtg","m","m34","200m","2000-05-05",33.6,1.5,2]
["jcondon","rro","m","m54","10k","2000-05-06",2743,3.5,1]
["wpooler","mtg","m","m69","100m","2000-05-12",24.2,1,2]
["pdepaulis","wam","f","f49","10k","2000-05-21",2505,6,0]
["labrahamson","hch","m","m59","10k","2000-06-11",2841,3.5,0]
["smore","sst","m","m49","10M","2000-07-04",4911,2,0]
["nwhite","pwm","m","m84","3k","2000-07-10",1084.3,4,0]
["khanlon","pwm","m","m44","mile","2000-07-24",303.8,6,0]
["mromagnoli","sst","f","f34","5k","2000-10-01",1082,5.5,0]
["dchristensen","pwm","m","m44","5k","2000-10-01",1188,4,0]
["mromagnoli","sst","f","f34","3k","2000-11-17",635.20000000000005,5.5,1]
["dhughes","sst","m","m44","3k","2000-11-17",617.20000000000005,5.5,1]
["dhanlon","wam","m","m79","3k","2000-11-17",1062.8,3,1]
["yrothenberg","pwm","f","f59","800m","2000-11-22",195.8,4.5,1]
["pgriffin","hch","m","m49","800m","2000-11-22",179.6,2.5,1]
["jallen","wam","m","m64","800m","2000-11-22",154.80000000000001,7,1]
["pdriscoll","sst","m","m44","3k","2000-12-08",683.2,4,1]
["rwestbrook","psy","m","m49","5k","2000-12-08",1353,2.5,1]
["rmore","wam","m","m79","5k","2000-12-08",1928.9,2,1]
["kcarrino","psy","f","f49","400m","2000-12-15",81.400000000000006,3.5,1]
["gwoods","wam","m","m44","400m","2000-12-15",61.4,5,1]
["smore","sst","m","m49","400m","2000-12-15",70,4,1]
["cberger","psy","m","m54","400m","2000-12-15",73.3,3.5,1]
["pgoodrum","sst","m","m34","800m","2000-12-15",148.4,4,1]
["dchristensen","pwm","m","m44","10k","2000-12-22",2530,3.5,1]
["dhanlon","wam","m","m79","10k","2000-12-22",3249,5,1]
["hmacmillan","psy","m","m74","200m","2000-12-22",33.700000000000003,6,1]
["astone","pwm","f","f17","mile","2000-12-22",391.1,2.5,1]
["jbarnish","pwm","f","f39","mile","2001-01-05",1195.5,1,1]
["smore","sst","m","m49","mile","2001-01-05",367.1,3.5,1]
["jstraussman","psy","m","m59","mile","2001-01-05",377,4.5,1]
["rmathner","sst","m","m39","100m","2001-01-12",13,5.5,1]
["sfreeman","sst","m","m39","100m","2001-01-12",14.4,4,1]
["tmcconnell","pwm","m","m49","100m","2001-01-12",14.5,5,1]
["labrahamson","hch","m","m59","100m","2001-01-12",15.7,4.5,1]
["bnicholson","pwm","m","m54","3k","2001-01-13",808.7,2.5,0]
["ahaley","psy","f","f49","3200r","2001-01-19",702.9,3.5,1]
["ddunmire","sst","m","m29","3200r","2001-01-19",767.6,2,1]
["pturley","hch","m","m39","3200r","2001-01-19",660.9,4,1]
["rwestbrook","psy","m","m49","3200r","2001-01-19",702.9,3.5,1]
["drobbins","psy","m","m59","3200r","2001-01-19",771.7,3,1]
["establer","wam","m","m74","3200r","2001-01-19",837.4,3.5,1]
["mbennett","sst","f","f44","1600r","2001-01-26",309,2,1]
["ddunmire","sst","m","m29","1600r","2001-01-26",275.5,3.5,1]
["mfitzpatrick","hch","m","m39","1600r","2001-01-26",263.39999999999998,5,1]
["relder","hch","m","m44","1600r","2001-01-26",280.7,3.5,1]
["hteres","sst","m","m54","1600r","2001-01-26",253,5,1]
["rhahn","wam","m","m69","1600r","2001-01-26",324.10000000000002,4.5,1]
["hteres","sst","m","m54","800r","2001-01-26",113.2,5,1]
["mlapointe","wam","f","f29","800r","2001-02-01",119.7,6,1]
["rrarig","wam","m","m29","800r","2001-02-01",141.4,3.5,1]
["pturley","hch","m","m39","800r","2001-02-01",134.4,2.5,1]
["rwheeless","wam","m","m44","800r","2001-02-01",125.6,5,1]
["rwheeless","wam","m","m44","800r","2001-02-01",138.4,4,1]
["price","psy","m","m64","800r","2001-02-01",138.30000000000001,3.5,1]
["wmcrae","pwm","m","m69","800r","2001-02-01",197.5,1,1]
["labrahamson","hch","m","m59","200m","2001-02-08",32.1,4.5,1]
["gwoods","wam","m","m44","3k","2001-02-08",689.7,3.5,1]
["price","psy","m","m64","3k","2001-02-08",908.2,2.5,1]
["mlapointe","wam","f","f29","200m","2001-02-15",25.8,6.5,1]
["knardella","pwm","f","f39","200m","2001-02-15",29.4,5.5,1]
["dchristensen","pwm","m","m44","200m","2001-02-15",29.7,4,1]
["dhughes","sst","m","m44","200m","2001-02-15",33.9,2.5,1]
["jucci","hch","m","m64","200m","2001-02-15",33.700000000000003,4.5,1]
["sfalso","wam","f","f39","3k","2001-02-22",707.5,4.5,1]
["epaul","sst","f","f39","3k","2001-02-22",837.1,2,1]
["rwheeless","wam","m","m44","5k","2001-02-22",999.5,6.5,1]
["fstdennis","psy","m","m44","200m","2001-03-01",27.4,5.5,2]
["ehahn","wam","f","f64","800m","2001-03-01",235.6,3,1]
["kfoote","pwm","m","m64","800m","2001-03-01",230.2,1,1]
["rwheeless","wam","m","m44","200m","2001-03-08",27.9,5,1]
["ddunmire","sst","m","m29","400m","2001-03-08",63.8,3.5,1]
["jucci","hch","m","m64","400m","2001-03-08",73.3,5,1]
["ssampere","sst","m","m39","1600r","2001-03-15",328.7,2,1]
["jmartinez","sst","m","m34","3200r","2001-03-15",619.9,4,1]
["kreynolds","psy","m","m49","3200r","2001-03-15",656,5,1]
["rwestbrook","psy","m","m49","800r","2001-03-15",134.9,3.5,1]
["sfalso","wam","f","f39","mile","2001-03-15",348.1,5,1]
["mwills","sst","f","f54","200m","2001-03-22",43.1,1.5,1]
["mromagnoli","sst","f","f34","200m","2001-03-29",29.2,5,1]
["rwarden","una","m","m49","mile","2001-03-29",368.9,3.5,1]
["twalnut","psy","m","m79","mile","2001-03-29",534.70000000000005,3,1]
["pmcclure","sst","m","m54","100m","2001-04-06",15.3,4.5,1]
["twalnut","psy","m","m79","800r","2001-04-06",148.1,3,1]
["ltucker","wam","f","f64","800m","2001-04-13",199.5,5,1]
["epaul","sst","f","f39","mile","2001-04-18",402,3,2]
["tcalderwood","hch","m","m39","100m","2001-04-19",13.8,4.5,1]
["dmayer","psy","m","m54","100m","2001-04-19",14.5,5.5,1]
["kreynolds","psy","m","m49","5k","2001-04-25",1192.7,4.5,2]
["dmiller","sst","m","m44","100m","2001-04-27",15.3,3.5,1]
["twalnut","psy","m","m79","200m","2001-04-27",42.9,3.5,1]
["bnicholson","pwm","m","m54","800m","2001-04-27",187.5,2.5,1]
["csteinbach","wam","f","f54","10M","2001-04-28",4225,6.5,0]
["rwestbrook","psy","m","m49","10M","2001-04-28",4655,2.5,0]
["pford","wam","f","f49","15k","2001-05-05",3960,5.5,1]
["ssampere","sst","m","m39","10k","2001-05-14",2952,1,2]
["labrahamson","lsl","m","m59","5k","2001-05-28",1287,4.5,0]
["dmiller","swo","m","m44","200m","2001-06-25",29.9,4,0]
["jallen","wmc","m","m64","200m","2001-06-25",29.7,6.5,0]
["yrothenberg","swo","f","f59","mile","2001-07-09",401.9,5.5,0]
["yrothenberg","swo","f","f59","10k","2001-08-26",2929,5,0]
["pmcclure","wmc","m","m54","5k","2001-09-30",1249,4,0]
["dwhite","lsl","m","m29","5k","2001-10-13",942,6.5,0]
["dbergen-cico","rhp","f","f39","3k","2001-11-16",710.7,4.5,1]
["mfitzpatrick","cnr","m","m39","3k","2001-11-16",696.5,3,1]
["smore","swo","m","m54","3k","2001-11-16",769.1,3.5,1]
["mrothenberg","rhp","m","m69","3k","2001-11-16",880.8,3.5,1]
["twhitman","una","m","m29","800m","2001-11-21",153.5,3,1]
["dcole","rhp","m","m44","800m","2001-11-21",132.80000000000001,6.5,1]
["rgardner","cnr","m","m49","800m","2001-11-21",170.4,3.5,1]
["mrothenberg","rhp","m","m69","800m","2001-11-21",195.1,4,1]
["labrahamson","lsl","m","m64","400m","2001-11-30",69.400000000000006,6,1]
["dcole","rhp","m","m44","5k","2001-11-30",1060.2,5.5,1]
["ldouglas","lsl","f","f29","400m","2001-12-07",73.5,3,1]
["kwall","rhp","m","m29","400m","2001-12-07",74.7,1.5,1]
["mfitzpatrick","cnr","m","m39","400m","2001-12-07",68.2,3,1]
["tmcconnell","cnr","m","m49","400m","2001-12-07",62.4,5.5,1]
["bmacknight","lsl","m","m54","400m","2001-12-07",73.400000000000006,3.5,1]
["ithompson","cnr","f","f49","800m","2001-12-09",171.2,5,0]
["dmiller","swo","m","m44","10k","2001-12-14",2531.6999999999998,3.5,1]
["pdriscoll","wmc","m","m44","5k","2001-12-14",1224.8,3.5,1]
["ehahn","wmc","f","f64","mile","2001-12-14",1244.9000000000001,1,1]
["kcarrino","wmc","f","f49","200m","2001-12-21",36.4,3.5,1]
["mfitzpatrick","cnr","m","m39","200m","2001-12-21",31.4,3,1]
["rgardner","cnr","m","m49","200m","2001-12-21",31.3,4,1]
["rhahn","rhp","m","m69","200m","2001-12-21",72.599999999999994,1,1]
["fstdennis","wmc","m","m44","800m","2001-12-28",154,4,1]
["jmartinez","wmc","m","m34","mile","2001-12-28",295.3,5,1]
["rcleary","wmc","m","m54","mile","2001-12-28",398.5,3,1]
["pford","cnr","f","f49","3k","2002-01-05",734.2,5,0]
["kfoote","rhp","m","m64","400m","2002-01-18",94.2,1.5,1]
["ejones","cnr","m","m29","800r","2002-01-18",118.2,4,1]
["ssampere","swo","m","m39","800r","2002-01-18",114.2,5,1]
["gscott","lsl","m","m39","800r","2002-01-18",129.1,3,1]
["tmcconnell","cnr","m","m49","800r","2002-01-18",138.6,3,1]
["jallen","wmc","m","m64","800r","2002-01-18",117.3,5,1]
["dcole","rhp","m","m44","mile","2002-01-19",283.2,7,0]
["mfitzpatrick","cnr","m","m39","800m","2002-01-24",151.4,4,1]
["dmiller","swo","m","m44","800m","2002-01-24",154.9,4,1]
["ldouglas","lsl","f","f29","1600r","2002-02-01",282.7,4.5,1]
["ssampere","swo","m","m39","1600r","2002-02-01",278.3,3.5,1]
["rwestbrook","lsl","m","m49","1600r","2002-02-01",271.7,4,1]
["mrybinski","swo","m","m49","1600r","2002-02-01",288.2,4,1]
["jallen","wmc","m","m64","1600r","2002-02-01",253.4,5.5,1]
["kfoote","rhp","m","m64","400m","2002-02-01",92.6,2,1]
["dchristensen","cnr","m","m44","3k","2002-02-07",663.7,4.5,1]
["kfoote","rhp","m","m64","3k","2002-02-07",985.1,1.5,1]
["dhanlon","lsl","m","m79","5k","2002-02-07",1633,4.5,1]
["jgough","rhp","m","m29","1600r","2002-02-15",255.5,4,1]
["ltucker","wmc","f","f64","3200r","2002-02-15",618.70000000000005,5.5,1]
["canklin","rhp","m","m44","3200r","2002-02-15",551.5,6,1]
["pmcclure","wmc","m","m54","3200r","2002-02-15",592.20000000000005,4.5,1]
["drobbins","lsl","m","m59","3200r","2002-02-15",795.6,3.5,1]
["wborgstede","rhp","m","m59","800m","2002-02-15",293,1,1]
["ryanai","cnr","f","f44","400m","2002-02-21",70.099999999999994,5,1]
["cdranchek","cnr","m","m49","400m","2002-02-21",64.099999999999994,5,1]
["tcromp","cnr","f","f39","100m","2002-03-08",16.7,3.5,1]
["rrarig","rhp","m","m29","100m","2002-03-08",12.6,5.5,1]
["cdranchek","cnr","m","m49","100m","2002-03-08",14.1,5.5,1]
["rgardner","cnr","m","m54","100m","2002-03-08",15.5,4.5,1]
["jucci","rhp","m","m64","100m","2002-03-08",17.8,3.5,1]
["ahaley","swo","f","f49","1600r","2002-03-14",296.89999999999998,4,1]
["bnicholson","lsl","m","m59","1600r","2002-03-14",278.89999999999998,4,1]
["ssampere","swo","m","m39","3200r","2002-03-14",677.3,4,1]
["ryanai","cnr","f","f44","800r","2002-03-14",118.4,4.5,1]
["prougeux","rhp","m","m44","800r","2002-03-14",108.9,5.5,1]
["tfondy","una","m","m64","3k","2002-03-22",852.1,3,1]
["csteinbach","rhp","f","f54","mile","2002-03-23",344.81,7,0]
["skelly","swo","m","m39","mile","2002-03-28",357,3,1]
["twalnut","rhp","m","m79","mile","2002-03-28",539.1,3,1]
["dbergen-cico","rhp","f","f39","100m","2002-04-11",16.7,3.5,1]
["rmathner","swo","m","m39","100m","2002-04-11",12.7,6,1]
["pmcclure","wmc","m","m54","100m","2002-04-11",14.5,5.5,1]
["dmayer","wmc","m","m54","200m","2002-04-11",27.9,6,1]
["bmacknight","lsl","m","m54","100m","2002-04-19",16.399999999999999,3.5,1]
["jallen","wmc","m","m64","200m","2002-04-19",31.1,5.5,1]
["arinaldi","wmc","m","m69","400m","2002-04-19",90.9,2.5,1]
["rmore","lsl","m","m84","mile","2002-04-19",680.7,1,1]
["jucci","rhp","m","m64","1600r","2002-04-25",298.89999999999998,4,1]
["adrew","lsl","m","m59","400m","2002-04-25",66.5,6,1]
["pmcclure","wmc","m","m54","mile","2002-04-25",353.4,4.5,1]
["dhughes","lsl","m","m44","10k","2002-05-01",2303,4.5,2]
["pturley","wmc","m","m39","10M","2002-05-04",3678,4.5,0]
["cread","lsl","m","m54","10M","2002-05-04",4738,3,0]
["rhahn","rhp","m","m74","5k","2002-05-04",1733,2.5,1]
["dchristensen","bsq","m","m44","5k","2002-05-27",1187,4,0]
["rhahn","rrd","m","m74","800m","2002-06-01",196.4,5,0]
["twalnut","bsq","m","m79","800m","2002-06-08",243.9,3,0]
["pdepaulis","rrd","f","f49","10M","2002-07-04",4703,4,0]
["rcleary","bee","m","m54","15k","2002-07-14",4031,4,0]
["jallen","bsq","m","m64","1500m","2002-08-03",323.2,6.5,0]
["swright","rrd","m","m49","5k","2002-10-06",1215,4,0]
["smore","bsq","m","m54","5k","2002-10-06",1379,3,0]
["pford","bee","f","f49","3k","2002-11-22",802.3,4,1]
["tmcconnell","bnb","m","m49","3k","2002-11-22",624,6,1]
["sgraceffo","bee","m","m69","3k","2002-11-22",732.4,6.5,1]
["jmartinez","bsq","m","m34","800m","2002-11-27",130.5,5.5,1]
["tmcconnell","bnb","m","m49","800m","2002-11-27",139,6.5,1]
["rcleary","bee","m","m54","800m","2002-11-27",173.1,3.5,1]
["dchristensen","bsq","m","m44","3k","2002-12-06",753.2,2.5,1]
["pdriscoll","bnb","m","m44","5k","2002-12-06",1233.2,3.5,1]
["twalnut","bsq","m","m79","5k","2002-12-06",2304.3000000000002,1,1]
["jwoodruff","wnb","m","m39","400m","2002-12-12",58,5.5,1]
["ssampere","bnb","m","m39","400m","2002-12-12",60.2,5,1]
["mrothenberg","wnb","m","m69","400m","2002-12-12",86.9,3,1]
["ncoffey","bee","m","m44","10k","2002-12-20",2263.6999999999998,5,1]
["pdriscoll","bnb","m","m44","200m","2002-12-20",29.5,4.5,1]
["jbrown","una","f","f15","200m","2002-12-27",31.8,4,1]
["jmartinez","bsq","m","m34","200m","2002-12-27",27.3,4.5,1]
["ssampere","bnb","m","m39","200m","2002-12-27",31.5,3,1]
["jview","wnb","m","m54","200m","2002-12-27",35.200000000000003,3,1]
["sgraceffo","bee","m","m69","200m","2002-12-27",37.799999999999997,3.5,1]
["dspringer","rrd","f","f29","mile","2003-01-10",321.3,5,1]
["jwoodruff","wnb","m","m39","mile","2003-01-10",305.2,5,1]
["mrybinski","rrd","m","m49","mile","2003-01-10",315,6,1]
["pmcclure","bee","m","m54","mile","2003-01-10",378.4,3.5,1]
["labrahamson","bee","m","m64","mile","2003-01-10",362.9,5.5,1]
["mromagnoli","wnb","f","f34","100m","2003-01-16",14.2,5,1]
["mbush","bsq","m","m29","100m","2003-01-16",13.8,4,1]
["cdranchek","bnb","m","m49","100m","2003-01-16",13.9,5.5,1]
["rlaquidari","wnb","m","m64","100m","2003-01-16",17.2,4,1]
["msage","rrd","m","m69","100m","2003-01-16",20.8,2,1]
["kmcfarlane","bsq","f","f29","200m","2003-01-24",35.1,2,1]
["pturley","rrd","m","m39","400m","2003-01-24",73.2,2.5,1]
["dchristensen","bsq","m","m44","400m","2003-01-24",71,3,1]
["jbisson","bnb","m","m74","400m","2003-01-24",90.7,3.5,1]
["mromagnoli","wnb","f","f34","800m","2003-01-24",151.9,5,1]
["thomeyer","bee","m","m54","mile","2003-01-25",318.52,6.5,0]
["pturley","rrd","m","m39","3k","2003-01-30",634.20000000000005,4.5,1]
["jbisson","bnb","m","m74","3k","2003-01-30",897.3,4,1]
["csteinbach","rrd","f","f54","1600r","2003-02-07",254.1,5.5,1]
["jwickham","wnb","m","m29","800r","2003-02-07",111.5,5.5,1]
["kwall","bsq","m","m34","800r","2003-02-07",140.19999999999999,3,1]
["ncoffey","bee","m","m44","800r","2003-02-07",122.8,4.5,1]
["jcarnes","bnb","m","m49","800r","2003-02-07",128,3.5,1]
["cread","bnb","m","m54","800r","2003-02-07",128,3.5,1]
["labrahamson","bee","m","m64","800r","2003-02-07",122.8,4.5,1]
["tcromp","bnb","f","f39","1600r","2003-02-14",312.7,3,1]
["rdirubbo","bee","m","m34","1600r","2003-02-14",281.39999999999998,4,1]
["rwheeless","wnb","m","m44","1600r","2003-02-14",295.10000000000002,2.5,1]
["bnicholson","wnb","m","m59","1600r","2003-02-14",303.10000000000002,5,1]
["dhanlon","wnb","m","m84","1600r","2003-02-14",303.10000000000002,5,1]
["mrybinski","rrd","m","m49","800r","2003-02-14",110.1,6,1]
["jucci","bee","m","m69","200m","2003-02-20",37.200000000000003,3.5,1]
["pturley","rrd","m","m39","800m","2003-02-20",165.4,3,1]
["bnicholson","wnb","m","m59","800m","2003-02-20",160.6,5.5,1]
["bnicholson","wnb","m","m59","1500m","2003-02-27",331.8,5,1]
["mfitzpatrick","bnb","m","m44","3k","2003-02-27",634.70000000000005,5,1]
["pstelmaszyk","bee","m","m64","5k","2003-02-27",1457.1,3.5,1]
["dspringer","rrd","f","f29","3200r","2003-03-07",685.5,4.5,1]
["bjackson","rrd","m","m44","3200r","2003-03-07",567.20000000000005,6.5,1]
["mrybinski","rrd","m","m49","3200r","2003-03-07",567.20000000000005,6.5,1]
["bnicholson","wnb","m","m59","3200r","2003-03-07",635.29999999999995,5,1]
["twalnut","bsq","m","m79","3200r","2003-03-07",956,1.5,1]
["bjackson","rrd","m","m44","800r","2003-03-07",122.2,5.5,1]
["mrybinski","rrd","m","m49","200m","2003-03-13",28.7,5,1]
["wmcrae","wnb","m","m74","200m","2003-03-13",36,5,1]
["ncoffey","bee","m","m44","15k","2003-03-21",3463.3,5,1]
["bjackson","rrd","m","m44","3k","2003-03-21",631.29999999999995,5,1]
["pford","bee","f","f49","100m","2003-03-28",19.899999999999999,2,1]
["dmayer","bsq","m","m54","100m","2003-03-28",15,5,1]
["khanlon","rrd","m","m49","1600r","2003-03-28",268.5,4.5,1]
["rwilett","bsq","m","m69","1600r","2003-03-28",280.3,4.5,1]
["drobbins","bnb","m","m59","400m","2003-03-28",81.900000000000006,2.5,1]
["dspringer","rrd","f","f29","800r","2003-03-28",147.69999999999999,2.5,1]
["bnicholson","wnb","m","m59","800r","2003-03-28",134.9,4.5,1]
["csteinbach","rrd","f","f54","800m","2003-03-30",154.9,7.5,0]
["dhughes","bee","m","m49","100m","2003-04-11",15.8,3.5,1]
["rhahn","rrd","m","m74","100m","2003-04-11",17.8,5,1]
["jcarnes","bnb","m","m49","400m","2003-04-11",67.900000000000006,4,1]
["dhughes","bee","m","m49","800m","2003-04-11",172.5,3,1]
["bjackson","rrd","m","m44","800m","2003-04-17",131.19999999999999,6.5,1]
["kwall","bsq","m","m34","mile","2003-04-17",345.2,3,1]
["fschlereth","wnb","m","m69","mile","2003-04-17",460.9,3,1]
["tmcconnell","bnb","m","m49","1600r","2003-04-25",260.8,5.5,1]
["price","bsq","m","m69","1600r","2003-04-25",355.1,2.5,1]
["dwhite","wnb","m","m34","3200r","2003-04-25",748.9,4,1]
["wmcrae","wnb","m","m74","3200r","2003-04-25",679.2,4,1]
["enordman","bsq","m","m34","800r","2003-04-25",138.5,4,1]
["wborgstede","wnb","m","m59","3k","2003-04-28",1236.2,1,2]
["tmcconnell","bnb","m","m49","1600r","2003-05-02",336.8,3,1]
["tfondy","bnb","m","m69","200m","2003-05-02",28.1,8.5,1]
["khanlon","rrd","m","m49","800m","2003-05-02",145.5,5.5,1]
["mrybinski","rrd","m","m49","800r","2003-05-02",132,3,1]
["bnicholson","wnb","m","m59","10M","2003-05-03",5010,2.5,0]
["mrybinski","rrd","m","m49","10k","2003-05-10",2203,6,1]
["kwall","bsq","m","m34","5k","2003-05-10",1250,2,1]
["kfoote","rrd","m","m69","5k","2003-05-10",1887,1,1]
["lnafie","rrd","m","m59","800m","2003-05-14",176.2,4,2]
["jgough","rrd","m","m29","400m","2003-05-15",57.9,4.5,2]
["cread","dwi","m","m54","10k","2003-05-24",2846,3,0]
["adrew","dwi","m","m64","100m","2003-06-13",13.8,7.5,0]
["sleuthauser","spt","m","m39","10k","2003-06-14",2580,2.5,0]
["jgough","dwi","m","m29","10k","2003-07-13",4647,1,0]
["cread","dwi","m","m54","15k","2003-07-13",4645,2,0]
["dwhite","dwi","m","m34","5k","2003-10-05",1197,3,0]
["fschlereth","wnb","m","m74","5k","2003-10-06",1577,4,0]
["dcole","icp","m","m44","3k","2003-11-21",589.1,6,1]
["pdriscoll","spt","m","m44","3k","2003-11-21",722.5,3,1]
["kfoote","spt","m","m69","3k","2003-11-21",1041.9000000000001,1.5,1]
["rdirubbo","wdk","m","m34","800m","2003-12-04",148.80000000000001,3.5,1]
["thomeyer","spt","m","m59","800m","2003-12-04",153,6,1]
["fschlereth","wdk","m","m74","800m","2003-12-04",172.2,7,1]
["pford","wdk","f","f49","5k","2003-12-12",1217.9000000000001,6,1]
["dhughes","spt","m","m49","5k","2003-12-12",1127.9000000000001,5,1]
["lfrancis","hfa","f","f49","400m","2003-12-18",86.8,2.5,1]
["ssampere","spt","m","m39","400m","2003-12-18",59.8,5,1]
["jucci","icp","m","m69","400m","2003-12-18",80.2,4.5,1]
["rhahn","dwi","m","m74","400m","2003-12-18",86.9,4,1]
["kholloway","una","f","f13","200m","2003-12-26",41.5,1,1]
["ssampere","spt","m","m39","200m","2003-12-26",27.8,4.5,1]
["dmayer","dwi","m","m54","200m","2003-12-26",31.9,4,1]
["mpolacek","dwi","m","m34","10k","2004-01-09",2648.2,2,1]
["dmayer","dwi","m","m54","10k","2004-01-09",2891.6,2.5,1]
["cread","dwi","m","m54","800m","2004-01-09",556,1,1]
["knardella","icp","f","f39","mile","2004-01-16",349.3,5,1]
["mpolacek","dwi","m","m34","mile","2004-01-16",354,2.5,1]
["mrybinski","hfa","m","m49","mile","2004-01-16",357.8,4,1]
["fschlereth","wdk","m","m74","mile","2004-01-16",459.3,4,1]
["ryanai","dwi","f","f49","3200r","2004-01-23",724,4,1]
["enordman","wdk","m","m34","3200r","2004-01-23",699.9,2,1]
["mfitzpatrick","hfa","m","m44","3200r","2004-01-23",650,4.5,1]
["jview","spt","m","m54","3200r","2004-01-23",660.1,3.5,1]
["syanai","dwi","m","m79","3200r","2004-01-23",804.1,2,1]
["pford","wdk","f","f49","100m","2004-01-29",20.7,1.5,1]
["rdirubbo","wdk","m","m34","100m","2004-01-29",14.4,3.5,1]
["thomeyer","spt","m","m59","100m","2004-01-29",16.5,4,1]
["kfoote","spt","m","m69","100m","2004-01-29",19.8,2.5,1]
["jcalogero","spt","f","f29","3k","2004-02-05",883,1,1]
["jwoodruff","icp","m","m39","3k","2004-02-05",588.6,5.5,1]
["bnicholson","dwi","m","m59","3k","2004-02-05",816.8,3,1]
["jcalogero","spt","f","f29","1600r","2004-02-13",340.9,1,1]
["lorlicz","dwi","f","f49","1600r","2004-02-13",295.8,4,1]
["ssampere","spt","m","m39","1600r","2004-02-13",252.6,5.5,1]
["pdriscoll","spt","m","m44","1600r","2004-02-13",258.60000000000002,4,1]
["rcleary","spt","m","m54","1600r","2004-02-13",252.6,5.5,1]
["smore","spt","m","m54","1600r","2004-02-13",285.3,4,1]
["syanai","dwi","m","m79","1600r","2004-02-13",372.8,2,1]
["ryanai","dwi","f","f49","800r","2004-02-13",128.5,4.5,1]
["ncoffey","icp","m","m44","1600r","2004-02-20",258.3,4.5,1]
["jcalogero","spt","f","f29","800r","2004-02-20",135,2.5,1]
["mmagonis","una","m","m29","800r","2004-02-20",111.9,4,1]
["skelly","spt","m","m39","800r","2004-02-20",129.4,3.5,1]
["thomeyer","spt","m","m59","800r","2004-02-20",123.1,4,1]
["jbisson","wdk","m","m74","800r","2004-02-20",135,5.5,1]
["dchristensen","hfa","m","m49","15k","2004-02-26",4011,3.5,1]
["lfrancis","hfa","f","f49","5k","2004-02-26",1444.4,3.5,1]
["mromagnoli","dwi","f","f34","200m","2004-03-04",29.7,4.5,1]
["swright","spt","m","m49","200m","2004-03-04",31.5,4,1]
["kreynolds","hfa","m","m49","400m","2004-03-04",70.2,3.5,1]
["jmartinez","icp","m","m34","400m","2004-03-12",61.2,4.5,1]
["bnicholson","dwi","m","m59","400m","2004-03-12",70.5,5,1]
["fschlereth","wdk","m","m74","800m","2004-03-18",190.5,5.5,1]
["skelly","spt","m","m39","mile","2004-03-18",345.2,3.5,1]
["ithompson","wdk","f","f49","1600r","2004-03-21",274.5,6,0]
["lorlicz","dwi","f","f54","100m","2004-03-26",16.100000000000001,5.5,1]
["cread","dwi","m","m54","100m","2004-03-26",16.600000000000001,3.5,1]
["skelly","spt","m","m39","55m","2004-03-26",7.94,5.5,1]
["lorlicz","dwi","f","f54","200m","2004-04-07",33.799999999999997,5,1]
["khanlon","wdk","m","m49","200m","2004-04-07",36.5,2,1]
["kcarey","spt","f","f44","800r","2004-04-07",132,3,1]
["tfondy","wdk","m","m69","800r","2004-04-07",144,5.5,1]
["mfitzpatrick","hfa","m","m44","5k","2004-04-15",1096.5,5,1]
["cread","dwi","m","m54","3k","2004-04-22",805.4,2.5,1]
["dhughes","spt","m","m49","100m","2004-04-30",15.6,4,1]
["lorlicz","dwi","f","f54","1600r","2004-04-30",323.10000000000002,3.5,1]
["sstehman","dwi","m","m49","200m","2004-04-30",34.1,3,1]
["dmayer","dwi","m","m54","800m","2004-04-30",177.1,3.5,1]
["gscott","dwi","m","m39","800r","2004-04-30",149.9,3,1]
["establer","dwi","m","m74","800r","2004-04-30",149.9,3,1]
["establer","dwi","m","m74","mile","2004-04-30",672.7,1,1]
["amagri","spt","m","m29","5k","2004-05-08",1270,2,1]
["arinaldi","spt","m","m69","5k","2004-05-08",1481,4,0]
["mfitzpatrick","bst","m","m44","10k","2004-05-30",2293,5,0]
["khanlon","sas","m","m49","5k","2004-06-05",1103,5.5,0]
["smore","lsc","m","m54","5k","2004-06-10",1364,3,0]
["dchristensen","ata","m","m49","5k","2004-06-12",1146,5,0]
["kwhite","sas","f","f34","15k","2004-07-11",3637,5,0]
["jbushey","the","m","m34","15k","2004-07-11",4095,2,0]
["amagri","lsc","m","m29","5k","2004-07-18",1134,3.5,0]
["rbroddus","ata","m","m39","10k","2004-08-01",2897,1,0]
["jbushey","the","m","m34","5k","2004-10-03",1156,3,0]
["rmay","the","f","f49","5k","2004-10-04",1666,1.5,0]
["skelly","the","m","m39","3k","2004-12-01",819.8,1,1]
["tmcconnell","bst","m","m54","3k","2004-12-01",658.8,5.5,1]
["jmartinez","ata","m","m34","800m","2004-12-09",131.30000000000001,5.5,1]
["rbroddus","ata","m","m39","800m","2004-12-09",168.9,2.5,1]
["cdranchek","the","m","m54","800m","2004-12-09",156.5,5,1]
["tfondy","sas","m","m69","55m","2004-12-12",8.1999999999999993,8.5,0]
["rdirubbo","sas","m","m34","3k","2004-12-17",653.6,3.5,1]
["skelly","the","m","m39","5k","2004-12-17",1397.8,1,1]
["dchristensen","ata","m","m49","5k","2004-12-17",1171,4.5,1]
["rhahn","bst","m","m74","800m","2004-12-17",243.6,2,1]
["tsproull","lsc","m","m44","400m","2004-12-22",65.5,4,1]
["rcleary","the","m","m54","400m","2004-12-22",73.3,3.5,1]
["wmcrae","sas","m","m74","400m","2004-12-22",89.9,3.5,1]
["ltucker","ata","f","f69","200m","2004-12-28",39.700000000000003,5,1]
["vsinghvi","the","m","m29","200m","2004-12-28",36.6,1,1]
["jdatta","the","m","m39","200m","2004-12-28",32.6,2.5,1]
["koneil","ata","m","m54","200m","2004-12-28",32.700000000000003,4,1]
["rhahn","bst","m","m74","200m","2004-12-28",67,1,1]
["csteinbach","bst","f","f54","mile","2005-01-12",423.2,4,1]
["jbushey","the","m","m34","mile","2005-01-12",324.89999999999998,3.5,1]
["mpolacek","the","m","m39","mile","2005-01-12",372.3,2.5,1]
["sgraceffo","ata","m","m69","mile","2005-01-12",467.8,3,1]
["pdepaulis","the","f","f54","10k","2005-01-14",2618,6,1]
["jallen","ata","m","m64","10k","2005-01-14",2657.9,5,1]
["dnosky","the","f","f49","5k","2005-01-14",1968.2,1,1]
["ryanai","ata","f","f49","mile","2005-01-23",355.33,6,0]
["nyanai","una","f","f34","100m","2005-01-27",24.3,1,1]
["kconnelly","the","f","f49","100m","2005-01-27",18.399999999999999,3,1]
["ssampere","lsc","m","m44","100m","2005-01-27",13.5,5.5,1]
["cbradshaw","lsc","m","m54","100m","2005-01-27",14.5,5.5,1]
["tcollins","ata","m","m64","100m","2005-01-27",15.1,6,1]
["tfondy","sas","m","m69","100m","2005-01-27",14.3,7.5,1]
["knardella","sas","f","f39","3200r","2005-02-04",748.7,4.5,1]
["rmay","the","f","f49","3200r","2005-02-04",758.5,2.5,1]
["jbushey","the","m","m34","3200r","2005-02-04",610.1,4.5,1]
["dsimmonds","sas","m","m34","3200r","2005-02-04",683.4,3.5,1]
["dchristensen","ata","m","m49","3200r","2005-02-04",679.1,6,1]
["koneil","ata","m","m54","3200r","2005-02-04",583.9,5,1]
["tfondy","sas","m","m69","3200r","2005-02-04",683.4,3.5,1]
["mrothenberg","sas","m","m74","1500m","2005-02-05",465.82,3,0]
["ryanai","ata","f","f49","400m","2005-02-10",74.7,4.5,1]
["bgenton","the","f","f59","400m","2005-02-10",105.7,1.5,1]
["pturley","sas","m","m44","400m","2005-02-10",75.599999999999994,2.5,1]
["gengbretson","bst","m","m64","400m","2005-02-10",83.9,3,1]
["pmaxwell","the","f","f39","1600r","2005-02-18",303.2,2.5,1]
["kwall","bst","m","m34","1600r","2005-02-18",274.7,4.5,1]
["mpolacek","the","m","m39","1600r","2005-02-18",274,4,1]
["pturley","sas","m","m44","1600r","2005-02-18",278.3,3.5,1]
["koneil","ata","m","m54","1600r","2005-02-18",292.3,4.5,1]
["labrahamson","ata","m","m64","1600r","2005-02-18",277.60000000000002,6,1]
["rmay","the","f","f49","800r","2005-02-18",146,3,1]
["smore","lsc","m","m54","200m","2005-02-24",32.5,4,1]
["rdirubbo","sas","m","m34","3k","2005-02-24",656.8,3.5,1]
["bjackson","sas","m","m49","3k","2005-02-24",631.5,5.5,1]
["tfondy","sas","m","m69","3k","2005-02-24",967.8,2.5,1]
["mfitzpatrick","bst","m","m44","1600r","2005-03-04",280.8,4.5,1]
["ibernstein","lsc","f","f29","800r","2005-03-04",121.7,4.5,1]
["sleone","the","f","f54","800r","2005-03-04",130.19999999999999,4,1]
["jgaulrappx","una","m","m29","800r","2005-03-04",110.1,4,1]
["ewheeler","bst","m","m39","800r","2005-03-04",121.4,5,1]
["ssampere","lsc","m","m44","800r","2005-03-04",126.9,4.5,1]
["kreynolds","ata","m","m54","800r","2005-03-04",122.3,4,1]
["dmayer","ata","m","m59","800r","2005-03-04",130.30000000000001,4,1]
["jbisson","sas","m","m74","800r","2005-03-04",132.1,5.5,1]
["hteres","lsc","m","m59","10k","2005-03-10",2871,3.5,1]
["pford","bst","f","f49","3k","2005-03-10",737.2,5,1]
["knardella","sas","f","f39","100m","2005-03-18",14.4,5.5,1]
["ssampere","lsc","m","m44","100m","2005-03-18",13.7,5,1]
["mpolacek","the","m","m39","200m","2005-03-18",32,2.5,1]
["rrarig","bst","m","m29","400m","2005-03-18",69.8,2,1]
["jucci","bst","m","m69","3200r","2005-03-20",666.3,4,0]
["ltucker","ata","f","f69","100m","2005-03-22",18.5,5.5,1]
["lorlicz","lsc","f","f54","mile","2005-03-22",391.1,5,1]
["rbond","sas","m","m49","mile","2005-03-22",321.3,5.5,1]
["ldietz","ata","f","f44","10k","2005-04-03",3037,2.5,0]
["ltucker","ata","f","f69","10k","2005-04-03",3074,6,0]
["hteres","lsc","m","m59","400m","2005-04-07",69.5,5,1]
["jallen","ata","m","m69","5k","2005-04-07",1256.4000000000001,6.5,1]
["dchristensen","ata","m","m49","400m","2005-04-15",70.3,3.5,1]
["amagri","lsc","m","m29","800m","2005-04-15",134.80000000000001,5,1]
["rfoster","bst","f","f39","100m","2005-04-21",15.8,4,1]
["emcconnell","una","f","f09","100m","2005-04-21",17.5,5,1]
["skelly","the","m","m39","1600r","2005-04-21",316.5,2,1]
["pleone","bst","m","m29","3200r","2005-04-21",651.1,5,1]
["ewheeler","bst","m","m44","800m","2005-04-21",150.6,4.5,1]
["tfondy","sas","m","m69","800r","2005-04-21",154.1,3,1]
["jkallmerten","bst","m","m54","100m","2005-04-29",19.100000000000001,1.5,1]
["ssampere","lsc","m","m44","1600r","2005-04-29",297.2,4,1]
["mrothenberg","sas","m","m74","1600r","2005-04-29",363.1,3,1]
["dcole","sas","m","m49","800m","2005-04-29",133.19999999999999,7,1]
["jview","ata","m","m54","mile","2005-04-29",420.1,2.5,1]
["emcconnell","una","f","f09","5k","2005-05-01",1810,1.5,0]
["jbushey","the","m","m34","5k","2005-05-07",1149,3.5,0]
["dcole","sas","m","m49","10k","2005-05-14",2169,6,1]
["kecollins","wlv","m","m34","10k","2005-05-16",1830,7.5,0]
["sclemence","oas","m","m69","10M","2005-06-04",6061,1.5,0]
["rdirubbo","sap","m","m34","15k","2005-07-01",3722,3,0]
["mrybinski","sap","m","m54","15k","2005-07-10",3332,7,0]
["rmicho","oas","m","m59","400m","2005-07-27",63.2,6.5,0]
["enordman","wlv","m","m34","10k","2005-11-06",2213,4.5,0]
["pdepaulis","dlb","f","f54","3k","2005-12-01",753.5,5.5,1]
["mfitzpatrick","fns","m","m44","3k","2005-12-01",627.79999999999995,5,1]
["pdriscoll","oas","m","m49","3k","2005-12-01",754.7,3,1]
["jucci","dlb","m","m69","3k","2005-12-01",853.1,4,1]
["lfrancis","sap","f","f49","800m","2005-12-09",218.8,2,1]
["jwickham","fns","m","m29","800m","2005-12-09",133.4,5,1]
["gradford","oas","m","m49","800m","2005-12-09",170.9,3.5,1]
["tcollins","sap","m","m64","800m","2005-12-09",167.4,5.5,1]
["tfondy","sap","m","m69","800m","2005-12-11",201.2,3.5,0]
["bsettel","fns","f","f59","3k","2005-12-15",969,2.5,1]
["pturley","sap","m","m44","5k","2005-12-15",1359,2,1]
["rwestbrook","wlv","m","m54","5k","2005-12-15",1327.6,3.5,1]
["jbisson","dlb","m","m74","200m","2005-12-21",42.8,2.5,1]
["pdepaulis","dlb","f","f54","400m","2005-12-21",91.1,2.5,1]
["pford","una","f","f54","400m","2005-12-21",91.5,2.5,1]
["aamezcua","fns","m","m29","400m","2005-12-21",70.099999999999994,2,1]
["dhughes","dlb","m","m49","400m","2005-12-21",70.099999999999994,4,1]
["drobbins","dlb","m","m59","400m","2005-12-21",82.8,2.5,1]
["pdepaulis","dlb","f","f54","200m","2005-12-29",38.200000000000003,3.5,1]
["tsproull2","una","m","m29","200m","2005-12-29",26.7,4.5,1]
["gscott","oas","m","m44","200m","2005-12-29",29.2,4.5,1]
["smore","sap","m","m54","200m","2005-12-29",33.1,3.5,1]
["jbisson","dlb","m","m74","200m","2006-01-06",43.5,2.5,1]
["amagri","fns","m","m29","3200r","2006-01-06",562.79999999999995,5.5,1]
["amagri","fns","m","m29","3200r","2006-01-06",609.1,3.5,1]
["ncoffey","wlv","m","m44","3200r","2006-01-06",713,4.5,1]
["prougeux","oas","m","m49","3200r","2006-01-06",623.29999999999995,5,1]
["rwestbrook","wlv","m","m54","3200r","2006-01-06",708.5,4,1]
["jallen","sap","m","m69","3200r","2006-01-06",671.8,5,1]
["pford","una","f","f54","10k","2006-01-12",2711.8,5.5,1]
["gradford","oas","m","m49","10k","2006-01-12",2303.8000000000002,5.5,1]
["jbushey","fns","m","m34","200m","2006-01-12",39.9,1,1]
["rmicho","oas","m","m59","5k","2006-01-12",1465.2,2.5,1]
["rmay","fns","f","f49","100m","2006-01-20",19.3,2.5,1]
["rdirubbo","sap","m","m34","100m","2006-01-20",14.7,3,1]
["jcarnes","sap","m","m49","100m","2006-01-20",15.2,4,1]
["pmcclure","oas","m","m59","100m","2006-01-20",15.2,5,1]
["ryanai","wlv","f","f49","mile","2006-01-21",355.77,6,0]
["rgregg","una","f","f29","mile","2006-01-26",382.8,3,1]
["kmaum","sap","m","m39","mile","2006-01-26",341.2,3.5,1]
["jview","wlv","m","m59","mile","2006-01-26",419.3,3,1]
["pbrenner","fns","m","m49","100m","2006-02-02",15.2,4,1]
["skelly","sap","m","m39","1600r","2006-02-02",281.5,3.5,1]
["kscalzo","wlv","f","f49","3200r","2006-02-02",791.3,3,1]
["dbowen","dlb","m","m54","800m","2006-02-02",143.19999999999999,6.5,1]
["khanlon","dlb","m","m49","800r","2006-02-02",127.7,5,1]
["wmcrae","dlb","m","m74","800r","2006-02-02",148,4,1]
["kkelly","fns","f","f49","mile","2006-02-02",725.2,1,1]
["mpolacek","fns","m","m39","200m","2006-02-10",32.5,2.5,1]
["dchristensen","fns","m","m49","200m","2006-02-10",35.799999999999997,2,1]
["jallen","sap","m","m69","800m","2006-02-10",158.6,7.5,1]
["tcromp","wlv","f","f39","1600r","2006-02-16",333.4,1.5,1]
["sprasch","oas","f","f49","1600r","2006-02-16",468.6,1,1]
["jwickham","fns","m","m29","1600r","2006-02-16",274.10000000000002,3.5,1]
["skelly","sap","m","m39","1600r","2006-02-16",374.8,2.5,1]
["pdriscoll","oas","m","m49","1600r","2006-02-16",290.2,3,1]
["tcollins","sap","m","m64","1600r","2006-02-16",274.7,5.5,1]
["price","dlb","m","m69","1600r","2006-02-16",345.3,3,1]
["wouellette","oas","m","m39","800r","2006-02-16",146.1,2.5,1]
["sleuthauser","fns","m","m44","3k","2006-02-24",696.4,3.5,1]
["jfanning","una","f","f13","400m","2006-02-24",86.9,2,1]
["rcleary","wlv","m","m59","15k","2006-02-25",4428,3,0]
["lfrancis","sap","f","f49","800r","2006-03-02",133.80000000000001,4,1]
["jwickham","fns","m","m29","800r","2006-03-02",111.2,5,1]
["rdoyle","oas","m","m29","800r","2006-03-02",135.19999999999999,3.5,1]
["prougeux","oas","m","m49","800r","2006-03-02",121,5.5,1]
["rmicho","oas","m","m59","800r","2006-03-02",123.4,5,1]
["lfrancis","sap","f","f49","10k","2006-03-10",3029.9,3,1]
["smore","sap","m","m54","3k","2006-03-10",876.3,1.5,1]
["lorlicz","oas","f","f54","400m","2006-03-16",74.400000000000006,5.5,1]
["rdoyle","oas","m","m29","400m","2006-03-16",67.8,2.5,1]
["labrahamson","oas","m","m64","400m","2006-03-16",71,5.5,1]
["ccapano","wlv","m","m29","400m","2006-03-24",57,5,1]
["ssampere","wlv","m","m44","mile","2006-03-24",329.2,4.5,1]
["drobbins","dlb","m","m64","15k","2006-03-26",4739,3,0]
["bnicholson","dlb","m","m59","200m","2006-04-06",31.3,5,1]
["tjuva","oas","f","f29","800m","2006-04-06",158,4,1]
["lfrancis","sap","f","f49","15k","2006-04-14",5157,1.5,1]
["cdranchek","sap","m","m54","5k","2006-04-14",1419.4,2.5,1]
["lorlicz","oas","f","f54","100m","2006-04-20",15.9,5.5,1]
["koneil","dlb","m","m54","100m","2006-04-20",16,4,1]
["lorlicz","oas","f","f54","200m","2006-04-20",33.4,5,1]
["ncoffey","wlv","m","m44","10k","2006-04-21",2506.4,3.5,2]
["rmay","fns","f","f49","3k","2006-04-28",935.2,2,1]
["ssampere","wlv","m","m44","800r","2006-04-28",135.5,3.5,1]
["cdranchek","sap","m","m54","10M","2006-04-30",4973,2,0]
["sleone","wlv","f","f54","5k","2006-05-06",1397.2,4.5,1]
["jwickham","fns","m","m29","mile","2006-05-12",317.3,4,2]
["jallen","rcg","m","m69","1500m","2006-06-09",370.3,5,0]
["labrahamson","car","m","m64","5k","2006-07-04",1324,4.5,0]
["aamezcua","ric","m","m29","mar","2006-07-22",12930,1.5,0]
["csteinbach","ric","f","f59","1500m","2006-08-06",333.55,7.5,0]
["jswan","rcg","f","f29","mar","2006-09-24",15588,1,0]
["chmartinez","gmc","f","f39","mar","2006-10-22",18211,1,0]
["ldietz","gmc","f","f44","3k","2006-12-01",842.6,2.5,1]
["csteinbach","ric","f","f59","3k","2006-12-01",731.6,7,1]
["emoore","fnc","m","m44","3k","2006-12-01",659,4.5,1]
["rmicho","ric","m","m59","3k","2006-12-01",821.8,3,1]
["sfairchild","gmc","f","f29","800m","2006-12-07",182.2,2,1]
["crider","ric","f","f64","800m","2006-12-07",228.1,3,1]
["cdranchek","gmc","m","m54","800m","2006-12-07",159,5,1]
["jallen","rcg","m","m69","800m","2006-12-07",166.7,6.5,1]
["rmore","ric","m","m89","800m","2006-12-07",401.2,2,1]
["mromagnoli","ric","f","f39","5k","2006-12-15",1127.5,5.5,1]
["pdriscoll","fnc","m","m49","5k","2006-12-15",1272.7,3.5,1]
["jbisson","fnc","m","m79","800m","2006-12-15",245,3,1]
["lfrancis","ric","f","f49","400m","2006-12-20",93.7,1.5,1]
["tsproull","car","m","m49","400m","2006-12-20",63.8,5,1]
["khanlon","fnc","m","m49","400m","2006-12-20",86.6,1,1]
["tcollins","gmc","m","m64","400m","2006-12-20",72.400000000000006,5,1]
["sukelly","una","f","f13","200m","2006-12-29",45.2,1,1]
["kcollins","rcg","f","f59","200m","2006-12-29",37.4,4,1]
["jmartinez","gmc","m","m39","200m","2006-12-29",41.7,1,1]
["dmiller","fnc","m","m49","200m","2006-12-29",30.5,4.5,1]
["dhughes","rcg","m","m49","200m","2006-12-29",33.799999999999997,3,1]
["dhanlon","fnc","m","m84","200m","2006-12-29",43.3,4.5,1]
["ldietz","gmc","f","f44","100m","2007-01-05",19.7,1.5,1]
["ehahn","rcg","f","f69","100m","2007-01-05",21.6,3,1]
["ddaley","car","m","m49","100m","2007-01-05",16,3.5,1]
["jview","car","m","m59","100m","2007-01-05",17.100000000000001,3.5,1]
["labrahamson","car","m","m69","100m","2007-01-05",16.2,5.5,1]
["mfitzpatrick","fnc","m","m44","10k","2007-01-11",2342.6999999999998,4.5,1]
["vverdoes","ric","f","f59","5k","2007-01-11",1440.7,5,1]
["jperry","car","f","f39","mile","2007-01-19",347,5,1]
["mfitzpatrick","fnc","m","m44","mile","2007-01-19",318.5,5,1]
["tsproull","car","m","m49","mile","2007-01-19",346.1,4.5,1]
["jjohnson","gmc","f","f29","1600r","2007-01-24",289.60000000000002,4.5,1]
["mromagnoli","ric","f","f39","1600r","2007-01-24",257.60000000000002,5,1]
["aamezcua","ric","m","m29","1600r","2007-01-24",297.8,3,1]
["tdirubbo","car","m","m39","1600r","2007-01-24",262.7,5.5,1]
["mprattico","gmc","m","m39","1600r","2007-01-24",309.7,2,1]
["tettinger","rcg","m","m49","1600r","2007-01-24",320.8,4.5,1]
["rcleary","gmc","m","m59","1600r","2007-01-24",273.60000000000002,4,1]
["bnicholson","gmc","m","m59","1600r","2007-01-24",355.9,2,1]
["hteres","rcg","m","m59","800r","2007-01-24",128.69999999999999,4.5,1]
["arinaldi","ric","m","m74","200m","2007-02-01",48.7,1,1]
["pford","car","f","f54","400m","2007-02-01",107.3,1,1]
["jmartinez","gmc","m","m39","400m","2007-02-01",105.5,1,1]
["labrahamson","car","m","m69","400m","2007-02-01",71.900000000000006,6,1]
["jucci","gmc","m","m69","800m","2007-02-01",193.1,4,1]
["jfalchi","gmc","m","m29","3200r","2007-02-09",740.1,3,1]
["jpattit","ric","m","m34","3200r","2007-02-09",779.5,2,1]
["tsproull","car","m","m49","3200r","2007-02-09",693.3,4,1]
["drobbins","fnc","m","m64","3200r","2007-02-09",655,4.5,1]
["mfox","gmc","f","f29","5k","2007-02-10",1425,2,0]
["jview","car","m","m59","200m","2007-02-15",36.9,2.5,1]
["rcleary","gmc","m","m59","400m","2007-02-15",85.3,2,1]
["ltucker","rcg","f","f69","800r","2007-02-15",132.30000000000001,4.5,1]
["emcconnell","ric","f","f13","3k","2007-02-22",901.4,1.5,1]
["kmaum","rcg","m","m39","3k","2007-02-22",720.1,2.5,1]
["kreynolds","car","m","m54","3k","2007-02-22",712.9,4.5,1]
["mfox","gmc","f","f29","mile","2007-02-22",367.3,3.5,1]
["jperry","car","f","f39","mile","2007-03-01",346.4,5,1]
["khanlon","fnc","m","m54","mile","2007-03-01",349.5,5,1]
["ltucker","rcg","f","f69","400m","2007-03-04",94.2,4.5,0]
["thomeyer","car","m","m59","15k","2007-03-09",3826.7,5.5,1]
["jsnyder","gmc","f","f29","5k","2007-03-09",1204.8,4,1]
["amccaffery","gmc","m","m29","200m","2007-03-15",28.9,3.5,1]
["jpattit","ric","m","m34","200m","2007-03-15",29,3.5,1]
["dbowen","car","m","m54","200m","2007-03-15",38.799999999999997,1.5,1]
["tfondy","ric","m","m69","200m","2007-03-15",33.299999999999997,5.5,1]
["kmaum","rcg","m","m39","1600r","2007-03-23",305.60000000000002,4.5,1]
["rmay","ric","f","f49","800r","2007-03-23",141.4,2,1]
["kwall","rcg","m","m34","800r","2007-03-23",129.80000000000001,4,1]
["ssampere","gmc","m","m44","800r","2007-03-23",134.19999999999999,3.5,1]
["jbright","fnc","m","m49","800r","2007-03-23",125,4,1]
["smore","gmc","m","m59","800r","2007-03-23",141.1,4,1]
["labrahamson","car","m","m69","800r","2007-03-23",117.9,5,1]
["kreynolds","vss","m","m54","5k","2007-03-28",1238,4.5,0]
["rcleary","gmc","m","m59","3k","2007-04-05",863.6,2.5,1]
["sleone","gmc","f","f54","5k","2007-04-05",1334.7,5,1]
["jbright","fnc","m","m49","5k","2007-04-05",1465.2,1.5,1]
["kwall","rcg","m","m34","800m","2007-04-13",148.5,4,1]
["skelly","ric","m","m44","800m","2007-04-13",157.80000000000001,4,1]
["jmartinez","gmc","m","m39","100m","2007-04-19",13.3,5,1]
["cnomura","rcg","m","m39","100m","2007-04-19",17.3,1.5,1]
["smore","gmc","m","m59","100m","2007-04-19",15.7,4.5,1]
["jmartinez","gmc","m","m39","1500m","2007-04-19",497.7,1,1]
["sleone","gmc","f","f54","1600r","2007-04-27",306.39999999999998,4.5,1]
["bnicholson","gmc","m","m64","1600r","2007-04-27",306.39999999999998,4.5,1]
["wcamperlino","una","m","m59","800m","2007-04-27",170.7,4.5,1]
["smore","gmc","m","m59","800r","2007-04-27",125.7,4.5,1]
["bnicholson","gmc","m","m64","100m","2007-05-04",14.5,6.5,1]
["amagri","rcg","m","m29","3200r","2007-05-04",651.4,3,1]
["bnicholson","gmc","m","m64","3200r","2007-05-04",743.6,3,1]
["ddaley","car","m","m49","400m","2007-05-04",87.8,1,1]
["yrothenberg","gmc","f","f69","10M","2007-05-06",5432,5,0]
["jwickham","ric","m","m34","200m","2007-05-07",25.6,5.5,2]
["dhughes","rcg","m","m49","10k","2007-05-11",2597.4,3.5,1]
["amagri","rcg","m","m29","5k","2007-05-11",1161.5999999999999,3,1]
["gallen","rcg","m","m29","400m","2007-05-13",69.2,2.5,2]
["jcarnes","rcg","m","m49","3k","2007-05-14",782.3,2.5,2]
["spralle","rcg","f","f39","100m","2007-05-15",16.7,3.5,2]
["pkimani","gmc","m","m34","800m","2007-05-15",153.4,3.5,2]
["rmore","rws","m","m89","100m","2007-06-08",25,3,0]
["amccaffery","rws","m","m29","15k","2007-07-08",3484,4,0]
["dmayer","vss","m","m59","15k","2007-07-08",4777,2,0]
["dbowen","bnb","m","m59","5k","2007-09-30",1129,6.5,0]
["ksnyder","vss","m","m29","10k","2007-11-04",2698,1.5,0]
["ryanai","vis","f","f49","3k","2007-11-30",751,5,1]
["kwall","bnb","m","m39","3k","2007-11-30",756.1,2,1]
["dmayer","vss","m","m59","3k","2007-11-30",853.7,2.5,1]
["dbowen","bnb","m","m59","mile","2007-12-01",329,6.5,0]
["jsnyder","bnb","f","f34","800m","2007-12-06",170.3,3.5,1]
["rmozo","vss","m","m44","800m","2007-12-06",141.5,5.5,1]
["pdriscoll","lsd","m","m49","800m","2007-12-06",160.9,4,1]
["dhanlon","bnb","m","m89","800m","2007-12-06",323,2,1]
["lfrancis","vis","f","f54","5k","2007-12-12",1480.3,3.5,1]
["jstauffer","bnb","m","m49","5k","2007-12-12",1183,4.5,1]
["jview","bnb","m","m59","5k","2007-12-12",1527.2,2,1]
["ldamron","vss","f","f44","400m","2007-12-19",75.2,4,1]
["mwerder","bnb","m","m29","400m","2007-12-19",55.6,5.5,1]
["rbond","rws","m","m54","400m","2007-12-19",63.2,6,1]
["khanlon","bnb","m","m54","400m","2007-12-19",75.099999999999994,3.5,1]
["dhanlon","bnb","m","m89","400m","2007-12-19",128.6,2.5,1]
["kstewart","una","f","f49","200m","2007-12-28",42.8,1.5,1]
["mholmstrup","vss","m","m29","200m","2007-12-28",33.4,1.5,1]
["bjackson","bnb","m","m49","200m","2007-12-28",26.3,6.5,1]
["kmossman","una","m","m07","200m","2007-12-28",46.2,1,1]
["dhanlon","bnb","m","m89","200m","2007-12-28",49.1,3.5,1]
["csteinbach","vss","f","f59","mile","2008-01-03",360.1,7.5,1]
["skelly","vis","m","m44","mile","2008-01-03",381,2.5,1]
["smore","rws","m","m59","mile","2008-01-03",441.1,2.5,1]
["ldamron","vss","f","f44","100m","2008-01-11",18.399999999999999,2.5,1]
["lfrancis","vis","f","f54","100m","2008-01-11",20.6,2,1]
["kvanboden","vss","m","m39","100m","2008-01-11",13.2,5.5,1]
["mfitzpatrick","vss","m","m49","100m","2008-01-11",15.1,4.5,1]
["pjewell","vis","m","m64","100m","2008-01-11",23.2,1,1]
["dhanlon","bnb","m","m89","100m","2008-01-11",22.3,4.5,1]
["dhughes","lsd","m","m54","10k","2008-01-17",2470,5,1]
["lfrancis","vis","f","f54","3k","2008-01-17",880,3.5,1]
["khanlon","bnb","m","m54","mile","2008-01-19",330.57,5.5,0]
["mromagnoli","bnb","f","f39","1600r","2008-01-25",305.60000000000002,3.5,1]
["mwerder","bnb","m","m29","1600r","2008-01-25",232.3,5.5,1]
["hschmitz","bnb","m","m44","1600r","2008-01-25",276.2,3.5,1]
["jstauffer","bnb","m","m49","1600r","2008-01-25",276.2,3.5,1]
["khanlon","bnb","m","m54","1600r","2008-01-25",249.4,6,1]
["ryoung","vis","m","m64","1600r","2008-01-25",275,5.5,1]
["wmcrae","rws","m","m79","1600r","2008-01-25",308.60000000000002,4,1]
["ryanai","vis","f","f49","400m","2008-01-31",73.7,5,1]
["emorrissey","rws","m","m44","400m","2008-01-31",63.6,4.5,1]
["jcarnes","lsd","m","m54","400m","2008-01-31",70.099999999999994,4.5,1]
["jperry","bnb","f","f39","3200r","2008-02-08",773.8,4,1]
["rmay","vis","f","f54","3200r","2008-02-08",716.9,3.5,1]
["emorrissey","rws","m","m44","3200r","2008-02-08",594.29999999999995,4.5,1]
["mfitzpatrick","vss","m","m49","3200r","2008-02-08",690.4,4,1]
["tcollins","vis","m","m69","3200r","2008-02-08",710.7,5.5,1]
["fschlereth","vis","m","m74","3200r","2008-02-08",710.7,5.5,1]
["ldamron","vss","f","f44","1600r","2008-02-14",286.2,4.5,1]
["kvanboden","vss","m","m39","1600r","2008-02-14",286.2,4.5,1]
["mmigonis","bnb","m","m29","3200r","2008-02-14",696.2,3,1]
["sleone","vss","f","f59","400m","2008-02-14",78.3,5.5,1]
["skelly","vis","m","m44","800r","2008-02-14",124.3,5.5,1]
["rbond","rws","m","m54","10k","2008-02-22",2777.9,3,1]
["jmartinez","lsd","m","m39","5k","2008-02-22",1069.5999999999999,5,1]
["csteinbach","vss","f","f59","800m","2008-02-23",159.69999999999999,8,0]
["bnicholson","rws","m","m64","200m","2008-02-28",31.1,5.5,1]
["cread","rws","m","m59","800m","2008-02-28",281.2,1,1]
["jmartinez","lsd","m","m39","15k","2008-03-07",3727.1,3.5,1]
["jallen","vis","m","m69","1600r","2008-03-14",302.8,5.5,1]
["mromagnoli","bnb","f","f39","800r","2008-03-14",134.19999999999999,3.5,1]
["mprattico","rws","m","m39","800r","2008-03-14",125.9,3.5,1]
["tsproull","rws","m","m49","800r","2008-03-14",113.1,6,1]
["dbowen","bnb","m","m59","800r","2008-03-14",134.19999999999999,3.5,1]
["bnicholson","rws","m","m64","800r","2008-03-14",113.1,6,1]
["dhanlon","bnb","m","m89","800r","2008-03-14",149.19999999999999,3.5,1]
["pford","vss","f","f54","mile","2008-03-21",402.7,4.5,1]
["smore","rws","m","m59","mile","2008-03-21",413.5,3,1]
["sleone","vss","f","f59","3k","2008-04-03",767.7,6,1]
["hteres","vis","m","m59","3k","2008-04-03",779.1,4,1]
["drobbins","lsd","m","m64","10k","2008-04-06",2832,4,0]
["dchristensen","lsd","m","m49","800m","2008-04-11",158.5,4.5,1]
["skelly","vis","m","m44","100m","2008-04-18",13.9,5,1]
["rwestbrook","vss","m","m54","200m","2008-04-18",37.1,2,1]
["kvanboden","vss","m","m44","5k","2008-04-19",1080,5,0]
["ryanai","vis","f","f49","3200r","2008-04-25",655.4,6,1]
["thomeyer","vss","m","m59","3200r","2008-04-25",705.6,4.5,1]
["bnicholson","rws","m","m64","800r","2008-04-25",143.80000000000001,3.5,1]
["ssampere","rws","m","m44","10M","2008-05-04",4159,3.5,0]
["csteinbach","vss","f","f59","10k","2008-05-10",2611.1999999999998,7,1]
["rmay","vis","f","f54","5k","2008-05-10",1711.2,2,1]
["arinaldi","vss","m","m74","5k","2008-05-10",1498.9,4.5,1]
["drobbins","stc","m","m64","10k","2008-06-21",3015,3.5,0]
["tcromp","stc","f","f44","5k","2008-10-05",1543,2,0]
["sleone","rrs","f","f59","10k","2008-11-27",2888,5,0]
["triccardi","rnd","m","m54","5k","2008-11-27",1105,6,0]
["khanlon","lrl","m","m54","3k","2008-12-04",799.7,3,1]
["dmayer","rrs","m","m59","3k","2008-12-04",844.3,2.5,1]
["rniezabytowski","stc","f","f39","800m","2008-12-12",191,2.5,1]
["sleone","rrs","f","f59","800m","2008-12-12",178,6,1]
["triccardi","rnd","m","m54","800m","2008-12-12",146.80000000000001,6,1]
["sgraceffo","vio","m","m74","800m","2008-12-12",200.2,4.5,1]
["lfrancis","rrs","f","f54","3k","2008-12-18",879.9,3.5,1]
["jhubisz","stc","m","m29","5k","2008-12-18",1102,4,1]
["rmicho","vio","m","m64","5k","2008-12-18",1464.7,3,1]
["kchristensen","una","f","f17","400m","2008-12-23",79,2,1]
["ryanai","rrs","f","f54","400m","2008-12-23",77.8,4.5,1]
["ssampere","stc","m","m44","400m","2008-12-23",62.3,5,1]
["smore","rnd","m","m59","400m","2008-12-23",74.900000000000006,4,1]
["mrothenberg","rrs","m","m79","400m","2008-12-23",95.7,3.5,1]
["tmossman","lrl","f","f49","mile","2009-01-08",396.1,4,1]
["tskwarnicki","stc","m","m54","mile","2009-01-08",449.4,1.5,1]
["jview","rrs","m","m59","mile","2009-01-08",461.8,1.5,1]
["lfrancis","rrs","f","f54","1600r","2009-01-15",348.9,1.5,1]
["apinto","vio","m","m34","1600r","2009-01-15",263.10000000000002,4,1]
["tsproull","rrs","m","m49","1600r","2009-01-15",286.60000000000002,4,1]
["smore","rnd","m","m59","1600r","2009-01-15",272.39999999999998,5,1]
["jbisson","vio","m","m79","1600r","2009-01-15",311.2,3.5,1]
["ltucker","rrs","f","f74","800m","2009-01-15",238.6,4.5,1]
["jhubisz","stc","m","m29","200m","2009-01-23",26.8,4.5,1]
["jpiontkowski","stc","m","m44","200m","2009-01-23",34.1,2.5,1]
["jkallmerten","rrs","m","m59","200m","2009-01-23",35.700000000000003,3,1]
["pford","rrs","f","f54","mile","2009-01-24",369.78,6,0]
["tcromp","stc","f","f44","100m","2009-01-29",64.2,1,1]
["crider","stc","f","f69","100m","2009-01-29",24.7,1.5,1]
["rmozo","stc","m","m49","100m","2009-01-29",13.4,6,1]
["triccardi","rnd","m","m54","100m","2009-01-29",18.2,2,1]
["dhanlon","lrl","m","m89","100m","2009-01-29",23.8,3.5,1]
["skelly","vio","m","m44","10k","2009-02-05",2875.3,1.5,1]
["crider","stc","f","f69","3k","2009-02-05",949.2,4.5,1]
["ryanai","rrs","f","f54","3200r","2009-02-13",777.9,5,1]
["ehahn","vio","f","f69","3200r","2009-02-13",927.1,2.5,1]
["dchristensen","vio","m","m54","3200r","2009-02-13",676.6,4,1]
["dmayer","rrs","m","m59","3200r","2009-02-13",944.6,1.5,1]
["labrahamson","vio","m","m69","200m","2009-02-19",33.9,5,1]
["rmonk","stc","f","f29","800m","2009-02-19",169.7,3,1]
["triccardi","rnd","m","m54","800m","2009-02-19",159.69999999999999,5,1]
["jview","rrs","m","m59","800m","2009-02-19",194,2.5,1]
["tcromp","stc","f","f44","800r","2009-02-26",221.9,1,1]
["lfrancis","rrs","f","f54","800r","2009-02-26",157.80000000000001,2.5,1]
["jpattit","vio","m","m34","800r","2009-02-26",133.6,5,1]
["kvanboden","rnd","m","m44","800r","2009-02-26",136.5,2.5,1]
["khanlon","lrl","m","m54","800r","2009-02-26",150.6,3,1]
["jkallmerten","rrs","m","m59","800r","2009-02-26",144.9,3.5,1]
["rmozo","stc","m","m49","400m","2009-02-28",59,6.5,0]
["jkallmerten","rrs","m","m59","10k","2009-03-06",3291.1,1.5,1]
["kinoue","stc","m","m39","5k","2009-03-06",1146.3,4,1]
["pford","rrs","f","f54","400m","2009-03-12",84.9,3.5,1]
["tsproull","rrs","m","m49","400m","2009-03-12",68.8,4,1]
["dhughes","lrl","m","m54","800m","2009-03-12",168,4,1]
["ryanai","rrs","f","f54","3k","2009-03-20",799.1,4.5,1]
["ssampere","stc","m","m44","55m","2009-03-20",8.1999999999999993,5.5,1]
["drobbins","stc","m","m64","mile","2009-03-20",420.3,3.5,1]
["cread","stc","m","m59","10k","2009-04-05",2882,3.5,0]
["bnicholson","lrl","m","m64","200m","2009-04-05",30.4,6,1]
["jmartinez","vio","m","m39","mile","2009-04-09",313.5,4.5,0]
["kinoue","stc","m","m39","mile","2009-04-09",323.7,4.5,0]
["sgraceffo","vio","m","m74","mile","2009-04-09",441.9,4.5,0]
["skelly","vio","m","m44","100m","2009-04-16",14,5,1]
["yrothenberg","hns","f","f69","10k","2009-04-16",3401,4.5,0]
["hteres","lrl","m","m59","100m","2009-04-24",14.8,5.5,1]
["crider","stc","f","f69","3k","2009-04-24",976.3,4.5,1]
["kvanboden","rnd","m","m44","3k","2009-04-24",636,5,1]
["tcromp","stc","f","f44","1600r","2009-05-01",432.9,1,1]
["rwestbrook","stc","m","m54","1600r","2009-05-01",337.4,2,1]
["ryanai","rrs","f","f54","3200r","2009-05-01",767.4,4,1]
["ryanai","rrs","f","f54","800r","2009-05-01",146.80000000000001,3.5,1]
["tskwarnicki","stc","m","m54","800r","2009-05-01",125.8,3.5,1]
["jpiontkowski","stc","m","m44","10M","2009-05-03",4380,3,0]
["dmayer","rrs","m","m59","10M","2009-05-03",5398,2,0]
["tcromp","stc","f","f44","10k","2009-05-13",4561.8999999999996,1,2]
["rmonk","stc","f","f29","200m","2009-05-15",41,1,2]
["brobbins","isb","f","f29","hmar","2009-05-24",5934,3,0]
["fjoslyn","srs","m","m29","10k","2009-05-30",1859,7,0]
["rmozo","mc2","m","m49","10k","2009-06-10",2474,4,0]
["kkelly","isb","f","f54","5k","2009-06-13",2820,1,0]
["rbond","hns","m","m54","10M","2009-07-04",4600,3,0]
["jbisson","srs","m","m79","5k","2009-07-04",1791,3,0]
["mrybinski","hns","m","m54","10k","2009-07-25",2253,6.5,0]
["emcconnell","mc2","f","f15","5k","2009-08-01",1362,3,0]
["sgraceffo","tot","m","m74","5k","2009-09-27",1476,5,0]
["ehahn","tot","f","f69","5k","2009-10-04",2012,2,0]
["rniezabytowski","srs","f","f44","3k","2009-11-18",793.5,3.5,1]
["kkelly","isb","f","f54","3k","2009-11-18",1529.3,1,1]
["skelly","isb","m","m44","3k","2009-11-18",831,1.5,1]
["rbond","hns","m","m54","3k","2009-11-18",698.6,4.5,1]
["wborgstede","hns","m","m64","3k","2009-11-18",1177.2,1,1]
["ltucker","tot","f","f74","3k","2009-11-25",1020.3,4.5,1]
["tcromp","isb","f","f44","400m","2009-11-25",111.4,1,1]
["yrothenberg","hns","f","f69","400m","2009-11-25",91,5,1]
["kvanboden","isb","m","m44","400m","2009-11-25",59.7,5.5,1]
["ssampere","isb","m","m49","400m","2009-11-25",69.7,4,1]
["triccardi","srs","m","m54","400m","2009-11-25",76.2,3,1]
["bnicholson","mc2","m","m64","400m","2009-11-25",70.8,5.5,1]
["fschlereth","hns","m","m79","400m","2009-11-25",78.5,7,1]
["dhanlon","hns","m","m89","400m","2009-11-25",125.6,2.5,1]
["skelly","isb","m","m44","3k","2009-12-03",797.5,2,1]
["jsierotnik","srs","m","m29","5k","2009-12-03",1474.5,1,1]
["jpiontkowski","isb","m","m49","5k","2009-12-03",1299.9000000000001,3,1]
["mdefio","isb","m","m64","5k","2009-12-03",1538.4,2.5,1]
["mrothenberg","mc2","m","m79","800m","2009-12-03",249.4,2.5,1]
["ryanai","mc2","f","f54","200m","2009-12-11",35.299999999999997,4.5,1]
["yrothenberg","hns","f","f69","200m","2009-12-11",40,4.5,1]
["jmartinez","hns","m","m39","200m","2009-12-11",31.7,2.5,1]
["ssampere","isb","m","m49","200m","2009-12-11",30.6,4.5,1]
["rbond","hns","m","m54","200m","2009-12-11",27.8,6.5,1]
["rbond","hns","m","m54","200m","2009-12-11",35.4,2.5,1]
["pmcclure","hns","m","m59","200m","2009-12-11",33.1,4,1]
["drobbins","tot","m","m64","200m","2009-12-11",37.5,3,1]
["price","srs","m","m74","200m","2009-12-11",43.7,2.5,1]
["csteinbach","isb","f","f59","1500m","2009-12-13",339.4,7,0]
["pford","isb","f","f54","800m","2009-12-17",172.4,5.5,1]
["fjoslyn","srs","m","m29","800m","2009-12-17",123.1,6.5,1]
["jmartinez","hns","m","m39","800m","2009-12-17",136.1,5.5,1]
["ncoffey","tot","m","m49","800m","2009-12-17",184.5,2.5,1]
["kekelly","srs","m","m59","800m","2009-12-17",160.19999999999999,5.5,1]
["mdefio","isb","m","m64","800m","2009-12-17",189.1,3.5,1]
["drobbins","tot","m","m64","800m","2009-12-17",189.9,3.5,1]
["dhanlon","hns","m","m89","800m","2009-12-17",288.5,3.5,1]
["pford","isb","f","f54","100m","2009-12-23",18,4,1]
["mnicholson","mc2","m","m29","100m","2009-12-23",13.7,4,1]
["jsierotnik","srs","m","m29","100m","2009-12-23",15.3,2.5,1]
["pdriscoll","mc2","m","m49","100m","2009-12-23",14.8,4.5,1]
["ncoffey","tot","m","m49","100m","2009-12-23",15.4,4,1]
["jcarnes","hns","m","m54","100m","2009-12-23",17.899999999999999,2.5,1]
["jview","tot","m","m59","100m","2009-12-23",17.3,3.5,1]
["drobbins","tot","m","m64","100m","2009-12-23",18.8,2.5,1]
["jbisson","srs","m","m79","100m","2010-01-07",67.099999999999994,1,1]
["rniezabytowski","srs","f","f44","mile","2010-01-07",411.7,3,1]
["sleone","isb","f","f59","mile","2010-01-07",396.8,5.5,1]
["mpolacek","srs","m","m44","mile","2010-01-07",383.8,2.5,1]
["triccardi","srs","m","m54","mile","2010-01-07",319.2,6.5,1]
["gwoods","hns","m","m54","mile","2010-01-07",361.5,4.5,1]
["rcleary","srs","m","m59","mile","2010-01-07",486,1,1]
["pjewell","isb","m","m64","mile","2010-01-07",446.6,2.5,1]
["wmcrae","tot","m","m79","mile","2010-01-07",523.4,3,1]
["jbisson","srs","m","m79","200m","2010-01-15",121.3,1,1]
["ryanai","mc2","f","f54","800r","2010-01-15",131.19999999999999,5,1]
["ehahn","tot","f","f69","800r","2010-01-15",193.8,2,1]
["jmartinez","hns","m","m39","800r","2010-01-15",120.3,5,1]
["kwall","hns","m","m39","800r","2010-01-15",149,3,1]
["dmiller","isb","m","m49","800r","2010-01-15",126.7,4.5,1]
["rbond","hns","m","m54","800r","2010-01-15",120.5,6.5,1]
["jcarnes","hns","m","m54","800r","2010-01-15",149.4,3.5,1]
["jcarnes","hns","m","m54","800r","2010-01-15",164.6,2,1]
["kekelly","srs","m","m59","800r","2010-01-15",133.5,4,1]
["dmayer","tot","m","m64","800r","2010-01-15",140.5,4,1]
["bnicholson","mc2","m","m64","800r","2010-01-15",179,1,1]
["rhahn","hns","m","m79","800r","2010-01-15",215.7,1,1]
["mnicholson","mc2","m","m29","mile","2010-01-17",295.2,5,0]
["rfoster","hns","f","f44","400m","2010-01-21",74.8,4,1]
["tcromp","isb","f","f44","400m","2010-01-21",196.1,1,1]
["mhonis","isb","m","m49","400m","2010-01-21",61.9,5.5,1]
["pdriscoll","mc2","m","m49","400m","2010-01-21",71.3,3.5,1]
["rcleary","srs","m","m59","400m","2010-01-21",98.4,1,1]
["rburton","srs","m","m64","400m","2010-01-21",79.8,3.5,1]
["fschlereth","hns","m","m79","400m","2010-01-21",78.5,7,1]
["kcollins","srs","f","f64","3k","2010-01-29",1038.7,2.5,1]
["bnicholson","mc2","m","m64","5k","2010-01-29",1431.6,3.5,1]
["sleone","isb","f","f59","8k","2010-01-29",2261.1999999999998,5.5,1]
["ssampere","isb","m","m49","8k","2010-01-29",2075.6,3,1]
["rbond","hns","m","m54","8k","2010-01-29",2030.6,4,1]
["smcgrath","isb","f","f34","10k","2010-01-30",3249,1,0]
["rmay","srs","f","f54","3200r","2010-02-04",759.8,3,1]
["mnicholson","mc2","m","m29","3200r","2010-02-04",605.4,4.5,1]
["kvanboden","isb","m","m44","3200r","2010-02-04",619.5,5.5,1]
["mherrick","isb","m","m44","3200r","2010-02-04",868.9,2,1]
["jcarnes","hns","m","m54","3200r","2010-02-04",608.70000000000005,5,1]
["dchristensen","mc2","m","m54","3200r","2010-02-04",715.1,4,1]
["smore","srs","m","m59","3200r","2010-02-04",689.9,3.5,1]
["mdefio","isb","m","m64","3200r","2010-02-04",813,2.5,1]
["dhanlon","hns","m","m89","3200r","2010-02-04",810.3,3.5,1]
["brobbins","isb","f","f29","100m","2010-02-12",18.399999999999999,1.5,1]
["ldietz","srs","f","f49","200m","2010-02-12",41,2,1]
["mdefio","isb","m","m64","200m","2010-02-12",37.6,3,1]
["rmay","srs","f","f54","400m","2010-02-12",99.8,1.5,1]
["dbergen","hns","f","f44","800m","2010-02-12",189.8,3,1]
["mrybinski","hns","m","m54","800m","2010-02-12",143.19999999999999,6.5,1]
["pdriscoll","mc2","m","m49","mile","2010-02-12",373.3,3.5,1]
["ehahn","tot","f","f74","200m","2010-02-18",70.8,1,1]
["mmaye","hns","m","m34","200m","2010-02-18",31.1,2.5,1]
["jcarnes","hns","m","m54","200m","2010-02-18",31.7,4.5,1]
["bnicholson","mc2","m","m64","200m","2010-02-18",31.3,5.5,1]
["wmcrae","tot","m","m79","200m","2010-02-18",43.5,3,1]
["kvanboden","isb","m","m44","400m","2010-02-18",70.2,3.5,1]
["mhonis","isb","m","m49","55m","2010-02-20",7.5,7.5,0]
["tcromp","isb","f","f44","800m","2010-02-26",237.4,1,1]
["mherrick","isb","m","m44","800m","2010-02-26",141.9,5.5,1]
["smore","srs","m","m59","800m","2010-02-26",196.7,2.5,1]
["bnicholson","mc2","m","m64","800m","2010-02-26",160.6,6,1]
["ncoffey","tot","m","m49","15k","2010-03-04",3844.5,4,1]
["mdefio","isb","m","m64","15k","2010-03-04",4802.8999999999996,3,1]
["kwall","hns","m","m39","5k","2010-03-04",1266.9000000000001,2.5,1]
["mnicholson","mc2","m","m29","8k","2010-03-04",1766.4,4,1]
["sgraceffo","tot","m","m74","8k","2010-03-04",2629.2,3.5,1]
["ldietz","srs","f","f49","1600r","2010-03-12",295,3.5,1]
["mnicholson","mc2","m","m29","1600r","2010-03-12",266.7,4,1]
["rdirubbo","srs","m","m39","1600r","2010-03-12",277,4.5,1]
["skelly","isb","m","m44","1600r","2010-03-12",335,1.5,1]
["rmozo","mc2","m","m49","1600r","2010-03-12",266.7,4,1]
["jpiontkowski","isb","m","m49","1600r","2010-03-12",333.7,2.5,1]
["mrybinski","hns","m","m54","1600r","2010-03-12",278.5,5,1]
["jview","tot","m","m59","1600r","2010-03-12",288.2,4,1]
["bnicholson","mc2","m","m64","1600r","2010-03-12",291.2,4.5,1]
["drobbins","tot","m","m64","1600r","2010-03-12",405.9,2,1]
["kcollins","srs","f","f64","1600r","2010-03-18",338.5,3,1]
["jmartinez","hns","m","m39","1600r","2010-03-18",320,3,1]
["price","srs","m","m74","1600r","2010-03-18",338.5,3,1]
["jmartinez","hns","m","m39","3200r","2010-03-18",644.29999999999995,4,1]
["swright","hns","m","m54","3200r","2010-03-18",644.29999999999995,4,1]
["mhagemann","mc2","f","f44","800r","2010-03-18",134,3.5,1]
["rdirubbo","srs","m","m39","800r","2010-03-18",132.9,3.5,1]
["mfitzpatrick","mc2","m","m49","800r","2010-03-18",125.2,5,1]
["ncoffey","tot","m","m49","800r","2010-03-18",151.30000000000001,2.5,1]
["smore","srs","m","m59","800r","2010-03-18",134.5,3,1]
["jpiontkowski","isb","m","m49","8k","2010-03-23",2016.8,3.5,2]
["jsierotnik","srs","m","m29","100m","2010-04-01",14.2,3.5,1]
["rmozo","mc2","m","m49","100m","2010-04-01",13.2,6.5,1]
["rbond","hns","m","m54","100m","2010-04-01",13.2,7,1]
["mdefio","isb","m","m64","100m","2010-04-01",18.100000000000001,3,1]
["mhonis","isb","m","m49","200m","2010-04-01",25.6,7,1]
["rhahn","hns","m","m79","200m","2010-04-01",85,1,1]
["cread","mc2","m","m59","800m","2010-04-09",222.6,1,1]
["smcgrath","isb","f","f34","mile","2010-04-09",448.3,1,1]
["rmozo","mc2","m","m49","mile","2010-04-09",343.6,4.5,1]
["smore","srs","m","m59","mile","2010-04-09",455.3,2,1]
["lfrancis","tot","f","f54","15k","2010-04-11",4925,3,2]
["emcconnell","mc2","f","f15","1500m","2010-04-14",340,4,0]
["sleone","isb","f","f59","3k","2010-04-15",796.2,5.5,1]
["rdirubbo","srs","m","m39","3k","2010-04-15",662.7,4,1]
["sgraceffo","tot","m","m74","3k","2010-04-15",910,4,1]
["jmora","una","m","m49","400m","2010-04-15",61.6,5.5,1]
["wquinlisk","isb","m","m59","100m","2010-04-23",16.5,4,1]
["emcconnell","mc2","f","f15","1600r","2010-04-23",309,3.5,1]
["jcarnes","hns","m","m54","1600r","2010-04-23",308.60000000000002,4,1]
["rdirubbo","srs","m","m39","200m","2010-04-23",32.6,2.5,1]
["ssampere","isb","m","m49","3200r","2010-04-23",796.9,2.5,1]
["khanlon","hns","m","m54","3200r","2010-04-23",749.4,4,1]
["kinoue","isb","m","m39","3k","2010-04-23",626.4,4.5,1]
["price","srs","m","m74","5k","2010-04-23",1993.9,1,1]
["dchristensen","mc2","m","m54","800r","2010-04-23",132.30000000000001,4,1]
["bnicholson","mc2","m","m64","5k","2010-04-25",1365.2,4,0]
["kvanboden","isb","m","m44","10M","2010-05-02",3806,5,0]
["dmiller","isb","m","m49","3k","2010-05-02",705,4,0]
["pmcclure","hns","m","m64","200m","2010-05-05",33.200000000000003,4.5,2]
["jcarnes","hns","m","m54","8k","2010-05-05",2298.5,2.5,2]
["sleone","isb","f","f59","15k","2010-05-08",4562.8,4.5,1]
["elape","una","f","f17","8k","2010-05-08",2819.7,13,1]
["dchristensen","mc2","m","m54","8k","2010-05-08",2190,3,1]
["dhughes","mc2","m","m54","800m","2010-05-11",153.80000000000001,5.5,2]
["swright","hns","m","m54","mile","2010-05-11",399.1,3,2]
["fschlereth","hns","m","m79","5k","2010-05-13",1877.8,2.5,2]
["skelly","isb","m","m44","mile","2010-05-14",402.4,2,2]
["rmozo","bab","m","m49","800m","2011-06-15",144,6,0]
["sleone","urs","f","f59","15k","2011-07-11",4870,3.5,0]
["yrothenberg","swt","f","f69","5k","2011-08-20",1762,3.5,0]
["mpolacek","swt","m","m44","3k","2011-09-29",763.8,2.5,1]
["jlawton","vis","m","m64","5k","2011-10-09",1406,4,0]
["jmartinez","vis","m","m44","800m","2011-10-14",133.9,6.5,1]
["mpolacek","swt","m","m44","1500m","2011-10-20",362.9,2,1]
["bnicholson","bab","m","m64","1500m","2011-10-21",435.5,2,1]
["pford","swt","f","f59","3200r","2011-11-03",760.4,5,1]
["rwestbrook","swt","m","m59","3200r","2011-11-03",801.1,3.5,1]
["csteinbach","swt","f","f64","3200r","2011-11-04",761.3,3.5,1]
["rbond","vis","m","m54","3200r","2011-11-04",827.1,2,1]
["smore","urs","m","m64","3200r","2011-11-04",806,3.5,1]
["tcromp","swt","f","f49","400m","2011-11-10",104.4,1,1]
["mpolacek","swt","m","m44","400m","2011-11-10",75.099999999999994,2.5,1]
["skelly","urs","m","m44","400m","2011-11-11",102.5,1,1]
["tkelly","vis","m","m05","400m","2011-11-11",101.6,1,1]
["kwall","vis","m","m39","5k","2011-11-17",1378.7,1.5,1]
["rmay","vis","f","f54","5k","2011-11-18",1681.1,2,1]
["gscott","urs","m","m49","5k","2011-11-18",1371.4,2.5,1]
["lbarry","urs","m","m49","10k","2011-11-24",2373.6999999999998,5,0]
["gfarnham","urs","m","m59","200m","2011-12-01",41.8,1,1]
["kkelly","vis","f","f54","200m","2011-12-02",47.4,1,1]
["ekurtz","urs","m","m59","200m","2011-12-02",32.6,4.5,1]
["smore","urs","m","m64","200m","2011-12-02",33.299999999999997,4.5,1]
["rmay","vis","f","f54","800m","2011-12-09",222.5,2,1]
["triccardi","urs","m","m54","800m","2011-12-09",157.6,5,1]
["kfanning","una","f","f19","100m","2011-12-23",14.5,5,1]
["rmay","vis","f","f54","100m","2011-12-23",20.2,2.5,1]
["tskwarnicki","swt","m","m54","100m","2011-12-23",15.9,4,1]
["tmcconnell","vis","m","m59","100m","2011-12-23",16.399999999999999,4,1]
["rhahn","vis","m","m79","100m","2011-12-23",32.700000000000003,1,1]
["lbarry","urs","m","m49","1500m","2012-01-06",346.7,3.5,1]
["pmcclure","urs","m","m64","1500m","2012-01-06",360.4,4.5,1]
["jmora","vis","m","m49","mile","2012-01-21",297,7,0]
["wborgstede","swt","m","m69","200m","2012-01-27",58.7,1,1]
["mpiscitelli","swt","f","f59","8k","2012-01-27",2756.2,2.5,1]
["pmcclure","urs","m","m64","8k","2012-01-27",2267.4,4,1]
["kvanboden","swt","m","m44","3k","2012-02-03",632.4,5,1]
["hteres","urs","m","m64","3k","2012-02-03",921.1,2,1]
["khanlon","bab","m","m59","400m","2012-02-09",72.400000000000006,4.5,1]
["mreith","bab","f","f49","3k","2012-02-10",938.1,2,1]
["rcarpenter","vis","m","m59","3k","2012-02-10",1006.8,1,1]
["wquinlisk","bab","m","m64","800r","2012-02-16",165.8,2,1]
["ryanai","bab","f","f54","800r","2012-02-17",161.69999999999999,2.5,1]
["mherrick","bab","m","m44","800r","2012-02-17",134.4,3.5,1]
["ncoffey","urs","m","m54","800r","2012-02-17",133.1,5,1]
["jstauffer","vis","m","m54","800r","2012-02-17",146.1,3.5,1]
["tcollins","urs","m","m69","800r","2012-02-17",133.5,4,1]
["tcromp","swt","f","f49","800m","2012-02-24",236.8,1,1]
["kinoue","swt","m","m39","800m","2012-02-24",147.4,4.5,1]
["wquinlisk","bab","m","m64","800m","2012-02-24",179.2,4.5,1]
["rhadzor","swt","m","m29","1600r","2012-03-08",260.5,5.5,1]
["hteres","urs","m","m64","1600r","2012-03-08",301.3,5,1]
["rniezabytowski","swt","f","f44","1600r","2012-03-09",303.8,3.5,1]
["skelly","urs","m","m49","1600r","2012-03-09",312.60000000000002,3,1]
["tmcconnell","vis","m","m59","1600r","2012-03-09",304.89999999999998,4,1]
["jbisson","bab","m","m84","1600r","2012-03-09",340.8,4,1]
["wmcrae","vis","m","m79","200m","2012-03-15",41.7,4,1]
["rhadzor","swt","m","m29","400m","2012-03-15",64.5,3,1]
["hketcham","urs","f","f39","100m","2012-03-16",16.8,3,1]
["dmayer","bab","m","m64","400m","2012-03-16",81.8,3.5,1]
["jbisson","bab","m","m84","400m","2012-03-16",107.5,3.5,1]
["tskwarnicki","swt","m","m54","5k","2012-03-30",1782,1,1]
["tcromp","swt","f","f49","8k","2012-03-30",2734.5,1.5,1]
["smore","urs","m","m64","1600r","2012-04-05",328,4.5,1]
["wwu","vis","f","f29","800r","2012-04-05",160,2,1]
["lorlicz","vis","f","f59","1600r","2012-04-06",437.6,1,1]
["ekurtz","urs","m","m59","1600r","2012-04-06",318.39999999999998,3.5,1]
["rgregg","urs","f","f34","3200r","2012-04-06",728.5,4.5,1]
["tkelly","vis","m","m06","3200r","2012-04-06",1127,1,1]
["skelly","urs","m","m49","800r","2012-04-06",171.3,1,1]
["sclemence","swt","m","m74","400m","2012-04-12",115.1,1,1]
["pford","swt","f","f59","1500m","2012-04-13",399.9,4.5,1]
["pmcclure","urs","m","m64","1500m","2012-04-13",373.5,4,1]
["hteres","urs","m","m64","100m","2012-04-26",14.2,7,1]
["wmcrae","vis","m","m79","8k","2012-04-26",3201.9,1.5,1]
["kcollins","vis","f","f69","200m","2012-04-27",45.9,2.5,1]
["jcarnes","bab","m","m54","800m","2012-04-27",223.3,1,1]
["skelly","urs","m","m49","800m","2012-05-03",163.4,4,1]
["mpiscitelli","swt","f","f59","100m","2012-05-04",24,1,1]
["jcarnes","bab","m","m54","100m","2012-05-04",18.8,2,1]
["poconnor","swt","m","m54","3k","2012-05-04",806,2.5,1]
["rquinn","swt","m","m59","10M","2012-05-06",4578,4,0]
["kvanboden","swt","m","m44","1600r","2012-05-10",315.8,2,1]
["kinoue","swt","m","m39","3200r","2012-05-10",678.4,4.5,1]
["mhonis","swt","m","m54","1600r","2012-05-11",318.10000000000002,4.5,1]
["eduffy","vis","f","f29","3200r","2012-05-11",1102,1,1]
["price","swt","m","m79","3200r","2012-05-11",974.3,1,1]
["tkelly","vis","m","m06","800r","2012-05-11",166.8,2,1]
["smartin","una","f","f44","5k","2012-05-12",1516.8,2,1]
["kkelly","vis","f","f54","200m","2012-05-14",45.4,1,2]
["rmay","vis","f","f54","3k","2012-05-14",978.5,2,2]
["labrahamson","vis","m","m74","5k","2012-05-15",2335,1,2]
["tarestes","faf","f","f44","10k","2012-05-19",2741,4,0]
["drobbins","prt","m","m69","5k","2012-06-16",1537,3.5,0]
["mherrick","prt","m","m44","15k","2012-07-08",3522,5,0]
["sleone","prt","f","f59","15k","2012-07-08",5026,4,0]
["rhadzor","mzr","m","m29","5k","2012-08-11",978,5.5,0]
["ssampere","mzr","m","m49","5k","2012-09-03",1239,4,0]
["hteres","old","m","m64","hmar","2012-09-08",7317,2,0]
["ssampere","mzr","m","m49","3k","2012-10-05",696.7,4,1]
["jallen","faf","m","m74","800m","2012-10-12",209.7,4,1]
["pmcclure","old","m","m64","800m","2012-10-12",182.2,4,1]
["dhughes","mzr","m","m59","hmar","2012-10-21",5040,7,0]
["pdriscoll","faf","m","m54","4x3manley","2012-11-02",682.6,5.5,1]
["khanlon","old","m","m59","4x3manley","2012-11-02",714.6,3.5,1]
["ssampere","mzr","m","m49","4x3manley","2012-11-02",813.2,2.5,1]
["jstauffer","old","m","m54","4x3manley","2012-11-02",726.3,4.5,1]
["rbond","old","m","m59","1500m","2012-11-09",349.1,4.5,1]
["rhahn","mzr","m","m84","1500m","2012-11-09",840.8,1,1]
["wmcrae","old","m","m84","1500m","2012-11-09",477.3,5.5,1]
["pturley","faf","m","m49","1500m","2012-11-09",357.2,3,1]
["nsmith","prt","f","f59","15k","2012-11-11",4750,4.5,0]
["jcelaya","old","m","m19","400m","2012-11-16",56.6,5,1]
["dhughes","mzr","m","m59","400m","2012-11-16",93.1,1,1]
["tperrone","prt","m","m59","400m","2012-11-16",69.7,5,1]
["pdriscoll","faf","m","m54","5k","2012-11-22",1312.9,3.5,0]
["pdriscoll","faf","m","m54","5k","2012-11-30",1289.5,4,1]
["jlawton","mzr","m","m64","3k","2012-11-30",1403.4,1,1]
["hteres","old","m","m64","5k","2012-11-30",1419.7,4,1]
["rcarpenter","mzr","m","m59","800m","2012-12-14",259.89999999999998,1,1]
["jmartinez","faf","m","m44","800m","2012-12-14",132.30000000000001,6.5,1]
["drobbins","prt","m","m69","800m","2012-12-14",214.4,2.5,1]
["labrahamson","faf","m","m74","100m","2012-12-21",24,1,1]
["tcollins","prt","m","m74","55m","2012-12-21",8.84,7.5,1]
["mhonis","mzr","m","m54","55m","2012-12-21",7.94,7,1]
["bnicholson","faf","m","m69","100m","2012-12-21",15.3,6,1]
["hteres","old","m","m64","100m","2012-12-21",14.1,7,1]
["mherrick","prt","m","m44","1500m","2013-01-04",282.10000000000002,5.5,1]
["tkirkland","faf","f","f39","1500m","2013-01-04",379.4,2.5,1]
["jcarnes","faf","m","m54","8k","2013-01-11",2465.1999999999998,2,1]
["tkirkland","faf","f","f39","8k","2013-01-11",2367,2.5,1]
["aborgia","mzr","f","f34","200m","2013-01-18",52.6,1,1]
["gfarnham","faf","m","m64","200m","2013-01-18",51,1,1]
["pmather","prt","m","m49","200m","2013-01-18",30.4,4.5,1]
["dmayer","faf","m","m64","200m","2013-01-18",37.299999999999997,3,1]
["jstauffer","old","m","m54","200m","2013-01-18",29.6,5.5,1]
["wquinlisk","faf","m","m64","mile","2013-01-19",387.37,4.5,0]
["alevcovitz","prt","m","m19","3k","2013-01-25",841.9,1,1]
["rmozo","mzr","m","m54","3k","2013-01-25",696.2,4.5,1]
["csteinbach","prt","f","f64","3k","2013-01-25",743,9,1]
["ncoffey","mzr","m","m54","4x1manley","2013-02-08",156.6,5,1]
["dhanlon","old","m","m94","4x1manley","2013-02-08",219.9,5.5,1]
["skelly","prt","m","m49","4x1manley","2013-02-08",168.5,3.5,1]
["drobbins","prt","m","m69","4x1manley","2013-02-08",200.8,3,1]
["jstauffer","old","m","m54","4x2manley","2013-02-08",452.5,4.5,1]
["kvanboden","prt","m","m44","4x1manley","2013-02-08",156.6,4.5,1]
["mhonis","mzr","m","m54","800m","2013-02-15",154.1,5.5,1]
["wmcrae","old","m","m84","800m","2013-02-15",233.9,5.5,1]
["csteinbach","prt","f","f64","800m","2013-02-15",166.4,8.5,1]
["lbesio","prt","f","f54","4x2manley","2013-03-01",473.3,3,1]
["sguiod","prt","f","f44","4x2manley","2013-03-01",509.9,2,1]
["dhanlon","old","m","m94","4x2manley","2013-03-01",536.9,6,1]
["hketcham","old","f","f44","4x2manley","2013-03-01",443.5,4,1]
["rmozo","mzr","m","m54","4x2manley","2013-03-01",400.5,3.5,1]
["mskinner","prt","m","m19","4x2manley","2013-03-01",500,4,1]
["rdean","mzr","m","m69","400m","2013-03-08",79.400000000000006,4.5,1]
["sgraceffo","faf","m","m79","400m","2013-03-08",118.9,1.5,1]
["jlawton","mzr","m","m64","400m","2013-03-08",240.3,1,1]
["triccardi","mzr","m","m54","400m","2013-03-08",79.5,2.5,1]
["ncoffey","mzr","m","m54","15k","2013-03-22",3768.1,5,1]
["wmcrae","old","m","m84","8k","2013-03-22",2755.7,6.5,1]
["gscott","faf","m","m49","8k","2013-03-22",2304,2.5,1]
["kvanboden","prt","m","m49","200m","2013-03-29",33.4,3,2]
["kvanboden","prt","m","m49","800r","2013-04-04",125.5,6,1]
["pford","old","f","f59","4x3manley","2013-04-05",782.7,4,1]
["jmartinez","faf","m","m44","4x1manley","2013-04-05",216.6,1.5,1]
["tperrone","prt","m","m59","4x3manley","2013-04-05",616.6,4.5,1]
["csteinbach","prt","f","f64","4x2manley","2013-04-05",379.8,6,1]
["ryanai","mzr","f","f54","4x3manley","2013-04-05",652.20000000000005,5,1]
["chmartinez","faf","f","f44","100m","2013-04-12",17.8,2.5,1]
["tmcconnell","old","m","m59","200m","2013-04-12",33.9,4,1]
["kvanboden","prt","m","m49","400m","2013-04-12",59.7,6,1]
["kwall","prt","m","m44","400m","2013-04-12",91.3,1,1]
["rmozo","mzr","m","m54","200m","2013-04-26",29.7,5.5,1]
["bnicholson","faf","m","m69","200m","2013-04-26",31.8,6,1]
["csteinbach","prt","f","f64","55m","2013-05-02",9.34,8,1]
["tcromp","mzr","f","f49","100m","2013-05-03",24.9,1,1]
["wmcrae","old","m","m84","55m","2013-05-03",11.44,5,1]
["tkelly","faf","m","m07","3k","2013-05-05",812,4.5,0]
["lbesio","prt","f","f54","3200r","2013-05-10",768.7,4.5,1]
["sleone","prt","f","f64","3200r","2013-05-10",768.7,4.5,1]
["rcleary","old","m","m64","5k","2013-05-11",2102.9,1,1]
["sparadis","mzr","f","f34","8k","2013-05-11",2164.1,3,1]
["dbowen","mrt","m","m64","10k","2013-05-19",2637,5.5,0]
["tkelly","trp","m","m07","3k","2013-06-11",793.3,5,0]
["esprague","mrt","m","m59","10M","2013-07-04",5063,2.5,0]
["jbisson","mrt","m","m84","800m","2013-07-24",263.2,3.5,2]
["triccardi","mrt","m","m59","hmar","2013-08-08",5264,6.5,0]
["jumartinez","fsg","m","m39","hmar","2013-09-15",4700,5.5,0]
["pford","trp","f","f59","hmar","2013-09-22",6291,6,0]
["kkelly","trp","f","f54","5k","2013-10-06",2053,1,0]
["csteinbach","fsg","f","f64","5k","2013-10-06",1320,8,0]
["dchristensen","trp","m","m59","3k","2013-10-17",808.7,3,1]
["smore","wtf","m","m64","3k","2013-10-17",761.7,4.5,1]
["fschlereth","mrt","m","m84","3k","2013-10-17",1147.0999999999999,3.5,1]
["aborgia","wtf","f","f34","800m","2013-10-25",276.5,1,1]
["rhahn","mrt","m","m84","800m","2013-10-25",536.70000000000005,1,1]
["rmay","fsg","f","f59","800m","2013-10-25",231.2,2,1]
["crider","fsg","f","f74","800m","2013-10-25",268.39999999999998,4.5,1]
["jallen","wtf","m","m74","400m","2013-11-01",89.4,4,1]
["acushman","mrt","m","m44","400m","2013-11-01",57.8,6,1]
["dhanlon","trp","m","m94","400m","2013-11-01",203.5,2,1]
["smore","wtf","m","m64","400m","2013-11-01",74.2,4.5,1]
["triccardi","mrt","m","m59","400m","2013-11-01",77,3.5,1]
["tmcconnell","wtf","m","m59","1500m","2013-11-06",358.9,4,1]
["rhahn","mrt","m","m84","1500m","2013-11-07",1011,1,1]
["wmcrae","mrt","m","m84","1500m","2013-11-07",494.5,5,1]
["dchristensen","trp","m","m59","5k","2013-11-10",1366,3.5,2]
["jdiederich","wtf","f","f34","3k","2013-11-13",1716.6,1,1]
["pmather","wtf","m","m49","5k","2013-11-14",1271.5999999999999,3.5,1]
["csteinbach","fsg","f","f64","8k","2013-11-16",2173,8,0]
["acushman","mrt","m","m44","200m","2013-11-22",26.2,6,1]
["kekelly","fsg","m","m64","200m","2013-11-22",34.700000000000003,4,1]
["skelly","trp","m","m49","200m","2013-11-22",30.3,4.5,1]
["jmoore","mrt","m","m49","200m","2013-11-22",31.5,4,1]
["kwall","trp","m","m44","200m","2013-11-22",32.1,3,1]
["jumartinez","fsg","m","m39","8k","2013-11-28",1637,6,2]
["theath","mrt","m","m39","8k","2013-12-06",2418.8000000000002,1,1]
["triccardi","mrt","m","m59","8k","2013-12-06",1866.6,6.5,1]
["ehahn","fsg","f","f74","100m","2013-12-13",25.6,2,1]
["khanlon","trp","m","m59","100m","2013-12-13",18.100000000000001,2.5,1]
["ssampere","wtf","m","m49","100m","2013-12-13",15,4.5,1]
["jview","fsg","m","m64","100m","2013-12-13",18.600000000000001,2.5,1]
["mdasilva","wtf","f","f69","55m","2013-12-15",9.64,8.5,1]
["pmather","wtf","m","m49","mile","2013-12-15",367.2,3.5,1]
["gscott","trp","m","m49","800m","2013-12-15",181.3,2.5,1]
["acushman","mrt","m","m44","3200r","2013-12-22",618.6,4.5,1]
["kekelly","fsg","m","m64","1600r","2013-12-22",313.2,5,1]
["dhughes","fsg","m","m59","800r","2013-12-22",153.1,3.5,1]
["wmcrae","mrt","m","m84","800r","2013-12-22",146.69999999999999,5,1]
["ssampere","wtf","m","m49","800r","2013-12-22",129.69999999999999,5,1]
["kwheeler","fsg","f","f44","1600r","2013-12-22",383.2,2,1]
["pford","trp","f","f59","4x2manley","2014-01-17",436.5,4.5,1]
["lfrancis","trp","f","f59","4x2manley","2014-01-17",561.9,1.5,1]
["jmartinez","wtf","m","m44","4x2manley","2014-01-17",537.20000000000005,1.5,1]
["rniezabytowski","wtf","f","f44","4x2manley","2014-01-17",427.5,5,1]
["hteres","fsg","m","m64","4x2manley","2014-01-17",517.5,3.5,1]
["tperrone","wtf","m","m59","1500m","2014-01-26",337.9,5,1]
["kcollins","fsg","f","f69","4x1manley","2014-01-31",236.2,2.5,1]
["jdiederich","wtf","f","f34","4x1manley","2014-01-31",349.4,1,1]
["tkirkland","wtf","f","f39","4x1manley","2014-01-31",194,2.5,1]
["rmay","fsg","f","f59","4x1manley","2014-01-31",207.8,2.5,1]
["mpiscitelli","fsg","f","f59","4x1manley","2014-01-31",215.4,2,1]
["kvanboden","mrt","m","m49","4x1manley","2014-01-31",188.6,3,1]
["triccardi","mrt","m","m59","55m","2014-02-02",9.24,5.5,1]
["fjoslyn","fsg","m","m29","3k","2014-02-06",548,6,1]
["pdriscoll","trp","m","m54","3k","2014-02-07",768.5,3.5,1]
["jmoore","mrt","m","m49","3k","2014-02-07",738.5,3.5,1]
["kwall","trp","m","m44","3k","2014-02-07",689.2,3.5,1]
["theath","mrt","m","m39","200m","2014-02-21",37.200000000000003,1,1]
["jmartinez","wtf","m","m44","200m","2014-02-21",32.200000000000003,3,1]
["bnicholson","mrt","m","m69","55m","2014-02-23",10.14,5,1]
["mrybinski","mrt","m","m59","400m","2014-02-23",73.2,4,1]
["pford","trp","f","f59","4x3manley","2014-02-28",669.2,5,1]
["rhahn","mrt","m","m84","4x3manley","2014-02-28",943.3,1,1]
["smore","wtf","m","m64","4x3manley","2014-02-28",639.4,6,1]
["bnicholson","mrt","m","m69","4x3manley","2014-02-28",690.5,4,1]
["awild","mrt","m","m29","4x3manley","2014-02-28",593,4,1]
["mfitzpatrick","trp","m","m54","15k","2014-03-14",3737.6,5.5,1]
["dbowen","mrt","m","m64","400m","2014-03-21",68.3,5.5,1]
["kecollins","mrt","m","m44","400m","2014-03-21",61.5,5,1]
["smccormick","wtf","m","m64","400m","2014-03-21",72.099999999999994,5,1]
["pmcclure","trp","m","m64","15k","2014-03-30",4832,3,0]
["pford","trp","f","f59","200m","2014-04-04",38.5,4.5,1]
["rmozo","mrt","m","m54","200m","2014-04-04",28.4,6,1]
["fschlereth","mrt","m","m84","400m","2014-04-04",86.8,8,1]
["ebriggs","fsg","f","f54","10k","2014-04-06",2874,5,0]
["drobbins","wtf","m","m69","1500m","2014-04-11",439.5,2.5,1]
["mware","wtf","m","m29","800m","2014-04-11",158.1,2.5,1]
["dhughes","fsg","m","m59","55m","2014-04-25",9.64,4.5,1]
["mrybinski","mrt","m","m59","10k","2014-04-27",2314,7,0]
["csteinbach","fsg","f","f64","3200r","2014-05-01",714.9,5.5,1]
["tcollins","fsg","m","m74","4x3manley","2014-05-02",717.4,4,1]
["wmcrae","mrt","m","m84","4x1manley","2014-05-02",248.4,3,1]
["pdriscoll","trp","m","m54","10M","2014-05-04",4723,3,0]
["jview","fsg","m","m64","800m","2014-05-06",220,1.5,2]
["rniezabytowski","wtf","f","f44","200m","2014-05-08",34.200000000000003,3.5,2]
["kheath","mrt","f","f39","100m","2014-05-09",15.8,3.5,2]
["theath","mrt","m","m39","5k","2014-05-10",1464,1,0]
["csteinbach","fsg","f","f64","5k","2014-05-10",1397.9,7,1]
["hteres","fsg","m","m64","200m","2014-05-12",30.3,6,2]
["bnicholson","trt","m","m69","5k","2014-05-17",1755,1.5,0]
["triccardi","rrc","m","m59","3k","2014-06-11",653,6.5,1]
["jmartinez","pof","m","m44","mile","2014-06-25",309.89999999999998,5.5,1]
["ncoffey","bsb","m","m54","5k","2014-07-04",1147,5.5,0]
["hketcham","rrc","f","f44","mar","2014-07-26",15362,1.5,0]
["jross","bsb","m","m39","hmar","2014-08-23",6735,1,0]
["sscott","rrc","f","f39","5k","2014-10-05",1079,6.5,0]
["csteinbach","pof","f","f64","15k","2014-10-25",4370,7,0]
["tkirkland","bsb","f","f39","3k","2014-10-29",799.1,3,1]
["bnicholson","trt","m","m69","3k","2014-10-29",960.1,2,1]
["ebriggs","pof","f","f54","hmar","2014-11-02",6350,4.5,0]
["mdee","bsb","m","m29","400m","2014-11-05",61.5,4,1]
["theath","rrc","m","m39","5k","2014-11-09",1367,1.5,0]
["nsmith","pof","f","f64","10k","2014-11-09",3244,5,0]
["rhahn","pof","m","m84","mile","2014-11-14",1135.0999999999999,1,1]
["triccardi","rrc","m","m59","1500m","2014-11-14",320.60000000000002,5.5,1]
["jmoore","trt","m","m54","3k","2014-11-23",742.8,3.5,1]
["amartinez","pof","m","m19","8k","2014-11-24",2137.1,2,1]
["rdean","trt","m","m69","4x3manley","2014-12-01",783.3,3,1]
["mfitzpatrick","pof","m","m54","4x3manley","2014-12-01",1251.5,1,1]
["jmoore","trt","m","m54","4x3manley","2014-12-01",721.7,4.5,1]
["csteinbach","pof","f","f64","4x3manley","2014-12-01",754.6,5,1]
["pjewell","bsb","m","m69","5k","2014-12-12",1702.4,2,1]
["pford","bsb","f","f59","mile","2014-12-13",432.6,5.5,1]
["skelly","pof","m","m49","55m","2014-12-13",8.5399999999999991,5.5,1]
["mdasilva","trt","f","f69","400m","2014-12-14",86.9,6,1]
["rcarpenter","trt","m","m59","1600r","2014-12-20",339,2,1]
["mhonis","trt","m","m54","800r","2014-12-20",131.6,4,1]
["jmoore","trt","m","m54","800r","2014-12-20",151.6,3,1]
["gscott","kbb","m","m54","5k","2015-01-08",1715,1,0]
["tcromp","pof","f","f49","800m","2015-01-16",265.10000000000002,1,1]
["nmckenzie","rrc","f","f34","800m","2015-01-16",152.69999999999999,4.5,1]
["cvecchio","trt","f","f54","800m","2015-01-16",204,3,1]
["sscott","rrc","f","f39","3k","2015-01-18",636.1,6,1]
["pjewell","bsb","m","m69","200m","2015-01-23",57.7,1,1]
["rniezabytowski","bsb","f","f49","200m","2015-01-23",40.6,2,1]
["fschlereth","bsb","m","m84","100m","2015-01-23",25.5,1.5,1]
["rcarpenter","trt","m","m59","4x2manley","2015-01-30",459.6,3,1]
["kekelly","rrc","m","m64","4x2manley","2015-01-30",396.6,3.5,1]
["jlawton","pof","m","m69","4x1manley","2015-01-30",293,1,1]
["rmay","pof","f","f59","4x2manley","2015-01-30",550.4,1,1]
["tskwarnicki","bsb","m","m59","4x2manley","2015-01-30",510.7,1.5,1]
["rmozo","rrc","m","m54","55m","2015-02-01",8.24,6.5,1]
["pford","bsb","f","f59","3k","2015-02-11",835.9,5.5,1]
["dhanlon","rrc","m","m94","200m","2015-02-12",175.1,2,1]
["fschlereth","bsb","m","m84","200m","2015-02-12",44.2,5,1]
["csteinbach","pof","f","f64","55m","2015-02-15",9.64,7.5,1]
["tcallahan","pof","m","m29","5k","2015-02-20",955.5,6,1]
["kvanboden","rrc","m","m49","5k","2015-02-20",1192.7,4.5,1]
["tcallahan","pof","m","m29","4x1manley","2015-03-06",198.9,2.5,1]
["dhanlon","rrc","m","m94","4x1manley","2015-03-06",331.9,1,1]
["sleone","pof","f","f64","4x1manley","2015-03-06",179.5,5,1]
["triccardi","rrc","m","m59","4x1manley","2015-03-06",189.3,2.5,1]
["kvanboden","rrc","m","m49","4x1manley","2015-03-06",163.30000000000001,4.5,1]
["jmartinez","pof","m","m44","15k","2015-03-13",3812.3,4,1]
["mdasilva","trt","f","f69","55m","2015-03-14",10.039999999999999,7.5,1]
["rcarpenter","trt","m","m59","4x2manley","2015-04-10",648.29999999999995,1,1]
["rdean","trt","m","m69","4x1manley","2015-04-10",233.7,2,1]
["bnicholson","trt","m","m69","4x1manley","2015-04-10",179.7,4.5,1]
["jstauffer","trt","m","m59","4x1manley","2015-04-10",179.7,4.5,1]
["mdasilva","trt","f","f69","5k","2015-04-11",1644,5.5,0]
["hteres","trt","m","m69","1500m","2015-04-17",384.9,4,1]
["dchristensen","trt","m","m59","3k","2015-04-23",847.8,2.5,1]
["pmcclure","trt","m","m69","55m","2015-04-24",9.24,6.5,1]
["crider","bsb","f","f74","400m","2015-04-24",146.4,1,1]
["wborgstede","trt","m","m69","1500m","2015-04-30",1111.5999999999999,1,1]
["tcallahan","pof","m","m29","55m","2015-05-01",7.84,5,1]
["rmay","pof","f","f59","400m","2015-05-01",108.7,1.5,1]
["tcallahan","pof","m","m29","10M","2015-05-03",3485,5,0]
["pmcclure","trt","m","m69","400m","2015-05-06",86.3,3,2]
["fschlereth","bsb","m","m84","55m","2015-05-08",12.74,3.5,1]
["sleone","pof","f","f64","15k","2015-05-09",5035,5,1]
["pmcclure","trt","m","m69","1500m","2015-05-14",411.6,3.5,2]
["mpiscitelli","kns","f","f59","5k","2015-05-23",1601,4,0]
["sleone","kbb","f","f64","5k","2015-06-06",1456,6.5,0]
["ncoffey","kns","m","m54","5k","2015-07-04",1176,5.5,0]
["mdasilva","tcs","f","f69","15k","2015-07-15",5813,4,0]
["kkeenan-kirkpatrick","tcs","f","f49","5k","2015-08-15",1363,4.5,0]
["dhughes","thw","m","m59","5k","2015-10-04",1104,7,0]
["roneill","thw","m","m64","5k","2015-10-04",1274,5.5,0]
["pnoll","kns","f","f64","3k","2015-10-23",914.1,5.5,1]
["kwall","tcs","m","m44","3k","2015-10-23",714.6,3,1]
["sleone","kbb","f","f64","800m","2015-10-29",197.2,6,1]
["yrothenberg","tcs","f","f74","800m","2015-10-29",300,3,1]
["scraybas","kbb","f","f49","5k","2015-11-08",1420,3.5,0]
["jmartino","kbb","f","f54","5k","2015-11-08",1545,3.5,0]
["rniezabytowski","kbb","f","f49","8k","2015-11-13",2356.4,3.5,1]
["kekelly","kbb","m","m64","400m","2015-11-18",83.3,3,1]
["rhahn","thw","m","m84","400m","2015-11-19",245.1,1,1]
["tkirkland","kbb","f","f39","400m","2015-11-19",90.9,1,1]
["rmozo","kbb","m","m54","400m","2015-11-19",62.8,6,1]
["kvanboden","kns","m","m49","400m","2015-11-19",78.400000000000006,2.5,1]
["pdriscoll","kns","m","m59","3k","2015-12-03",777.7,3.5,1]
["dhughes","thw","m","m59","3k","2015-12-03",663.4,6,1]
["ncoffey","kns","m","m54","mile","2015-12-12",341.5,5,1]
["kkelly","kbb","f","f59","55m","2015-12-12",12.84,2.5,1]
["jriccardi","thw","m","m15","mile","2015-12-12",296.3,6,1]
["ryanai","thw","f","f59","mile","2015-12-12",402.6,6.5,1]
["mhonis","kns","m","m54","4x2manley","2015-12-16",370.1,4.5,1]
["tperrone","thw","m","m59","4x2manley","2015-12-16",410.1,5,1]
["kvanboden","kns","m","m49","4x2manley","2015-12-16",460.7,2.5,1]
["pdriscoll","kns","m","m59","1500m","2015-12-21",351.8,4,1]
["ehahn","tcs","f","f79","mile","2015-12-21",644.4,4.5,1]
["rmozo","kbb","m","m54","1500m","2015-12-21",339.6,4,1]
["kvanboden","kns","m","m49","1500m","2015-12-21",303.3,5,1]
["rpanek","thw","m","m44","55m","2016-01-03",7.44,7,1]
["jbrown","tcs","f","f29","200m","2016-01-08",39.799999999999997,1,1]
["vhotaling","kbb","f","f49","200m","2016-01-08",40.700000000000003,2,1]
["tkirkland","kbb","f","f44","200m","2016-01-08",38.299999999999997,2,1]
["triccardi","thw","m","m59","200m","2016-01-08",32.1,4.5,1]
["bwinckelmann","kbb","f","f29","200m","2016-01-08",34.4,2,1]
["skelly","kns","m","m49","5k","2016-01-21",1394.8,2.5,1]
["wborgstede","kbb","m","m69","55m","2016-01-29",12.74,2,1]
["tcoughlin","tcs","m","m44","55m","2016-01-29",8.0399999999999991,6,1]
["kekelly","kbb","m","m64","55m","2016-01-29",10.44,4,1]
["wmcrae","thw","m","m84","55m","2016-01-29",12.54,4,1]
["hteres","kbb","m","m69","55m","2016-01-29",8.74,7.5,1]
["bwinckelmann","kbb","f","f29","100m","2016-02-05",16,3,1]
["wmcrae","thw","m","m84","3200r","2016-02-06",818.5,3.5,1]
["emosure","thw","m","m15","3200r","2016-02-06",638.70000000000005,5.5,1]
["mdasilva","tcs","f","f69","4x3manley","2016-02-10",824.4,2.5,1]
["tcallahan","kns","m","m29","4x3manley","2016-02-11",674.9,3.5,1]
["pmather","kbb","m","m49","4x3manley","2016-02-11",661.3,4,1]
["trobertson","tcs","m","m44","4x3manley","2016-02-11",693.5,4.5,1]
["tcoughlin","tcs","m","m44","4x1manley","2016-02-19",177.5,4,1]
["tcromp","tcs","f","f49","4x1manley","2016-02-19",402,1,1]
["sleone","kbb","f","f64","4x2manley","2016-02-19",425.9,4,1]
["rniezabytowski","kbb","f","f49","4x1manley","2016-02-19",189,3,1]
["msampere1","tcs","m","m74","4x1manley","2016-02-19",402,1,1]
["vsrinivas","kbb","m","m54","4x1manley","2016-02-19",173.3,4,1]
["jumartinez","thw","m","m39","hmar","2016-02-21",4800,5,0]
["cdranchek","thw","m","m64","5k","2016-03-03",1689.3,1.5,1]
["rmozo","kbb","m","m54","55m","2016-03-10",9.0399999999999991,5,1]
["rdean","tcs","m","m69","400m","2016-03-11",75.900000000000006,5,1]
["pmather","kbb","m","m49","400m","2016-03-11",69.900000000000006,4,1]
["fschlereth","thw","m","m84","400m","2016-03-11",98.9,6,1]
["jallen","thw","m","m79","3k","2016-03-26",1045.7,3,1]
["jlawton","tcs","m","m69","3k","2016-03-26",905.3,3,1]
["jallen","thw","m","m79","800m","2016-04-01",219.3,4.5,1]
["rmay","kns","f","f59","800m","2016-04-01",280.60000000000002,1,1]
["triccardi","thw","m","m59","800m","2016-04-01",167.8,4.5,1]
["kvanboden","kns","m","m49","800m","2016-04-01",185,2,1]
["pmcguane","thw","m","m19","mile","2016-04-13",304.7,4.5,0]
["tcoughlin","tcs","m","m44","4x3manley","2016-04-14",850.4,2,1]
["pdriscoll","kns","m","m59","4x1manley","2016-04-14",215.5,2,1]
["triccardi","thw","m","m59","4x3manley","2016-04-14",634.70000000000005,5.5,1]
["fschlereth","thw","m","m84","4x1manley","2016-04-14",217.8,4,1]
["csteinbach","kns","f","f69","200m","2016-04-21",34.5,7.5,1]
["kkeenan-kirkpatrick","tcs","f","f49","1500m","2016-04-22",393.2,3.5,1]
["csteinbach","kns","f","f69","1500m","2016-04-22",354.8,10,1]
["kkeenan-kirkpatrick","tcs","f","f49","800m","2016-04-29",206.5,2,1]
["rpanek","thw","m","m44","400m","2016-04-29",60.9,5.5,1]
["tskwarnicki","kns","m","m59","400m","2016-04-29",108,1,1]
["rmay","kns","f","f59","1500m","2016-05-06",540.6,1.5,2]
["kcollins","tcs","f","f69","200m","2016-05-10",43.5,4,2]
["rmay","kns","f","f59","400m","2016-05-12",148.1,1,1]
["tmcconnell","thw","m","m64","15k","2016-05-14",4952.8,2.5,1]
["jriccardi","brd","m","m17","mile","2016-05-18",293,5.5,0]
["csteinbach","rtm","f","f69","5k","2016-06-18",1343,9.5,0]
["rmozo","brd","m","m54","55m","2016-07-05",8.14,7,0]
["tmcconnell","brd","m","m64","3k","2016-08-03",832.8,3.5,0]
["hketcham","kmn","f","f44","10k","2016-09-11",2865,3.5,0]
["tmcconnell","brd","m","m64","5k","2016-10-02",1459,3.5,0]
["sscott","kmn","f","f44","5k","2016-10-02",1065,7.5,0]
["rmay","rtm","f","f59","3k","2016-10-26",1081.5999999999999,2,1]
["mpiscitelli","rtm","f","f59","3k","2016-10-26",995.7,3,1]
["khanlon","kmn","m","m59","800m","2016-11-04",209.5,1.5,1]
["triccardi","brd","m","m59","800m","2016-11-04",155.80000000000001,6,1]
["fschlereth","xtr","m","m84","800m","2016-11-04",268.39999999999998,3.5,1]
["ncoffey","kmn","m","m59","400m","2016-11-11",81.599999999999994,2.5,1]
["loaks-lee","brd","m","m69","400m","2016-11-11",92.6,2.5,1]
["ssampere1","kmn","f","f49","400m","2016-11-11",92,2.5,1]
["bnicholson","kmn","m","m69","10k","2016-11-13",3260,3,0]
["mswan","brd","f","f59","8k","2016-11-19",1941,8.5,0]
["mmccall","rtm","m","m34","3k","2016-11-23",646.29999999999995,3.5,1]
["kwhite","brd","f","f49","8k","2016-11-23",1964.1,6,1]
["pford","kmn","f","f64","100m","2016-11-30",20.2,3.5,1]
["njennings","rtm","f","f34","100m","2016-11-30",17.399999999999999,2,1]
["rmay","rtm","f","f59","100m","2016-11-30",47.1,1,1]
["price","xtr","m","m84","100m","2016-11-30",25.5,1.5,1]
["ryanai","xtr","f","f59","100m","2016-11-30",17.399999999999999,5,1]
["rdean","rtm","m","m69","4x3manley","2016-12-07",657.9,3.5,1]
["cgriffin","rtm","f","f69","4x3manley","2016-12-07",790.7,3.5,1]
["mmccall","rtm","m","m34","4x3manley","2016-12-07",759.7,4,1]
["mpiscitelli","rtm","f","f64","4x3manley","2016-12-07",859.3,2,1]
["csteinbach","rtm","f","f69","4x3manley","2016-12-07",817.7,5.5,1]
["mdasilva","xtr","f","f74","200m","2016-12-09",38.299999999999997,6.5,1]
["sleone","rtm","f","f64","200m","2016-12-09",42.7,3.5,1]
["jroyal","rtm","m","m69","200m","2016-12-09",35.4,4,1]
["mdasilva","xtr","f","f74","1500m","2016-12-14",463.3,7,1]
["ehahn","rtm","f","f79","1500m","2016-12-14",599.9,4.5,1]
["triccardi","brd","m","m59","1500m","2016-12-14",329.1,5,1]
["mdee","kmn","m","m29","200m","2016-12-28",27,4,0]
["tgiannettino","brd","m","m49","5k","2017-01-13",1225.0999999999999,4,1]
["kvanboden","brd","m","m49","5k","2017-01-13",1185.9000000000001,4.5,1]
["mfitzpatrick","rtm","m","m54","4x1manley","2017-01-19",228.2,2,1]
["cgriffin","rtm","f","f69","4x1manley","2017-01-19",216.5,2,1]
["bnicholson","kmn","m","m69","4x1manley","2017-01-19",199.8,2.5,1]
["kwhite","brd","f","f49","4x1manley","2017-01-19",185,4,1]
["ncoffey","kmn","m","m59","8k","2017-01-27",1844.9,6.5,1]
["jriccardi","brd","m","m17","8k","2017-01-27",2409.5,1,1]
["rbond","xtr","m","m59","4x2manley","2017-02-09",545.5,2.5,1]
["mfitzpatrick","rtm","m","m54","4x2manley","2017-02-09",540.5,2.5,1]
["shkelly","brd","f","f49","4x2manley","2017-02-09",461.6,3.5,1]
["triccardi","brd","m","m59","4x2manley","2017-02-09",470.3,2.5,1]
["mswan","brd","f","f59","4x2manley","2017-02-09",379.3,5.5,1]
["mdasilva","xtr","f","f74","55m","2017-02-12",9.94,9,0]
["sscott","kmn","f","f44","1500m","2017-02-12",273.43,8.5,0]
["sscott","kmn","f","f44","800m","2017-02-12",133.34,8,0]
["candrianos","rtm","m","m29","800m","2017-02-17",194.1,1,1]
["dchristensen","xtr","m","m59","800m","2017-02-17",182.5,3.5,1]
["rcleary","rtm","m","m69","800m","2017-02-17",237.3,1.5,1]
["kcollins","brd","f","f74","800m","2017-02-17",245.6,6,1]
["mdasilva","xtr","f","f74","800m","2017-02-17",229.4,7,1]
["rdean","rtm","m","m69","800m","2017-02-17",178.4,5,1]
["mdee","kmn","m","m29","800m","2017-02-17",129.5,5.5,1]
["cdranchek","kmn","m","m64","800m","2017-02-17",249.8,1,1]
["pdriscoll","xtr","m","m59","800m","2017-02-17",175.1,4,1]
["kekelly","brd","m","m69","800m","2017-02-17",186.4,4.5,1]
["lferrone","kmn","m","m29","800m","2017-02-17",137.80000000000001,4.5,1]
["mfitzpatrick","rtm","m","m54","800m","2017-02-17",154.69999999999999,5.5,1]
["pford","kmn","f","f64","800m","2017-02-17",190.6,6.5,1]
["sgraceffo","xtr","m","m84","800m","2017-02-17",310.10000000000002,1.5,1]
["cgriffin","rtm","f","f69","800m","2017-02-17",245.2,4,1]
["shkelly","brd","f","f49","800m","2017-02-17",201.8,2,1]
["ahonis","rtm","f","f54","800m","2017-02-17",547.20000000000005,1,1]
["mhonis","rtm","m","m59","800m","2017-02-17",170.7,4.5,1]
["kkeenan-kirkpatrick","rtm","f","f49","800m","2017-02-17",201.4,2.5,1]
["skelly","kmn","m","m49","800m","2017-02-17",181.1,2.5,1]
["hketcham","kmn","f","f44","800m","2017-02-17",191.1,2.5,1]
["sleone","rtm","f","f64","800m","2017-02-17",205.6,5,1]
["jmartinez","brd","m","m49","800m","2017-02-17",163.9,4,1]
["rmay","rtm","f","f59","800m","2017-02-17",244.2,1.5,1]
["jmoore","rtm","m","m54","800m","2017-02-17",168.5,4,1]
["smore","brd","m","m69","800m","2017-02-17",177.6,5,1]
["loaks-lee","brd","m","m69","800m","2017-02-17",200.5,3.5,1]
["mpiscitelli","rtm","f","f64","800m","2017-02-17",240.7,3,1]
["mreiner","rtm","f","f54","800m","2017-02-17",249.3,1,1]
["price","xtr","m","m84","800m","2017-02-17",311,1.5,1]
["drobbins","kmn","m","m74","800m","2017-02-17",246.4,1.5,1]
["trobertson","rtm","m","m44","800m","2017-02-17",173.4,2.5,1]
["gscott","xtr","m","m54","800m","2017-02-17",235.2,1,1]
["kstanton","kmn","m","m69","800m","2017-02-17",235.2,1.5,1]
["jstauffer","xtr","m","m59","800m","2017-02-17",158.9,5.5,1]
["csteinbach","rtm","f","f69","800m","2017-02-17",173.2,10,1]
["hteres","xtr","m","m69","800m","2017-02-17",178.1,5,1]
["dtrombley","rtm","m","m74","800m","2017-02-17",361.4,1,1]
["kvanboden","brd","m","m49","800m","2017-02-17",150.69999999999999,5,1]
["kvanboden","brd","m","m49","800m","2017-02-17",171.3,3,1]
["cvecchio","kmn","f","f54","800m","2017-02-17",213.9,2.5,1]
["kwall","kmn","m","m44","800m","2017-02-17",151.69999999999999,4.5,1]
["dwhite","rtm","m","m44","800m","2017-02-17",151,4.5,1]
["kwhite","brd","f","f49","hmar","2017-02-26",5438,6,0]
["hteres","xtr","m","m69","200m","2017-03-02",31.8,6,2]
["jallen","xtr","m","m79","200m","2017-03-03",38.799999999999997,5,1]
["jallen","xtr","m","m79","400m","2017-03-03",90.3,5,1]
["rcarpenter","rtm","m","m64","200m","2017-03-03",39.4,2.5,1]
["dchristensen","xtr","m","m59","200m","2017-03-03",35.6,3,1]
["dchristensen","xtr","m","m59","400m","2017-03-03",80.599999999999994,3,1]
["mdasilva","xtr","f","f74","200m","2017-03-03",38.4,6.5,1]
["mdasilva","xtr","f","f74","400m","2017-03-03",90.1,7.5,1]
["cdranchek","kmn","m","m64","200m","2017-03-03",38.299999999999997,2.5,1]
["cdranchek","kmn","m","m64","400m","2017-03-03",106.5,1,1]
["pdriscoll","xtr","m","m59","400m","2017-03-03",74,4,1]
["lferrone","kmn","m","m29","200m","2017-03-03",28.2,3.5,1]
["lferrone","kmn","m","m29","400m","2017-03-03",62.1,3.5,1]
["mfitzpatrick","rtm","m","m54","200m","2017-03-03",32.200000000000003,4,1]
["mfitzpatrick","rtm","m","m54","400m","2017-03-03",69.099999999999994,4.5,1]
["tfondy","rtm","m","m79","200m","2017-03-03",47.1,2.5,1]
["pford","kmn","f","f64","400m","2017-03-03",85.5,5,1]
["tgiannettino","brd","m","m49","200m","2017-03-03",31,4,1]
["tgiannettino","brd","m","m49","400m","2017-03-03",71.400000000000006,3.5,1]
["ehahn","rtm","f","f79","200m","2017-03-03",60.6,1.5,1]
["ehahn","rtm","f","f79","200m","2017-03-03",58.5,2,1]
["rhahn","xtr","m","m89","200m","2017-03-03",122,2,1]
["rhahn","xtr","m","m89","400m","2017-03-03",261.3,2,1]
["ahonis","rtm","f","f54","200m","2017-03-03",100.2,1,1]
["ahonis","rtm","f","f54","400m","2017-03-03",263.60000000000002,1,1]
["dhughes","xtr","m","m59","400m","2017-03-03",85.1,2,1]
["pjewell","rtm","m","m69","200m","2017-03-03",70.8,1,1]
["pjewell","rtm","m","m69","400m","2017-03-03",153.69999999999999,1,1]
["skelly","kmn","m","m49","400m","2017-03-03",72.5,3.5,1]
["hketcham","kmn","f","f44","200m","2017-03-03",36.5,3,1]
["hketcham","kmn","f","f44","400m","2017-03-03",92.4,1.5,1]
["jlawton","brd","m","m69","200m","2017-03-03",41.7,2,1]
["jlawton","brd","m","m69","400m","2017-03-03",99.6,1.5,1]
["sleone","rtm","f","f64","200m","2017-03-03",43.3,3.5,1]
["jmartinez","brd","m","m49","400m","2017-03-03",71,3.5,1]
["rmay","rtm","f","f59","400m","2017-03-03",107.6,1.5,1]
["tmcconnell","brd","m","m64","200m","2017-03-03",36.200000000000003,3.5,1]
["jmoore","rtm","m","m54","400m","2017-03-03",68.3,4.5,1]
["smore","brd","m","m69","400m","2017-03-03",73.400000000000006,5.5,1]
["rmozo","brd","m","m54","200m","2017-03-03",28.8,6,1]
["rmozo","brd","m","m54","400m","2017-03-03",61.2,6.5,1]
["mpiscitelli","rtm","f","f64","200m","2017-03-03",52.8,1,1]
["mpiscitelli","rtm","f","f64","400m","2017-03-03",113.8,1.5,1]
["mreiner","rtm","f","f54","200m","2017-03-03",47.8,1,1]
["triccardi","brd","m","m59","200m","2017-03-03",32.700000000000003,4.5,1]
["trobertson","rtm","m","m44","200m","2017-03-03",32,3,1]
["trobertson","rtm","m","m44","400m","2017-03-03",68.400000000000006,3.5,1]
["ksargent","brd","f","f54","200m","2017-03-03",36.6,4.5,1]
["ksargent","brd","f","f54","400m","2017-03-03",79.5,5,1]
["kstanton","kmn","m","m69","200m","2017-03-03",40.799999999999997,2.5,1]
["kstanton","kmn","m","m69","400m","2017-03-03",95.9,2,1]
["jstauffer","xtr","m","m59","200m","2017-03-03",31.4,5,1]
["jstauffer","xtr","m","m59","400m","2017-03-03",68,5,1]
["csteinbach","rtm","f","f69","200m","2017-03-03",40.200000000000003,5,1]
["mswan","brd","f","f59","200m","2017-03-03",36.5,5,1]
["mswan","brd","f","f59","200m","2017-03-03",39.6,4,1]
["mswan","brd","f","f59","400m","2017-03-03",79.8,5.5,1]
["jswanson","rtm","m","m69","200m","2017-03-03",38.1,3,1]
["jswanson","rtm","m","m69","400m","2017-03-03",96.3,2,1]
["dtrombley","rtm","m","m74","200m","2017-03-03",72.2,1,1]
["dtrombley","rtm","m","m74","400m","2017-03-03",159.5,1,1]
["kvanboden","brd","m","m49","400m","2017-03-03",62.9,5.5,1]
["cvecchio","kmn","f","f54","200m","2017-03-03",40.700000000000003,3,1]
["cvecchio","kmn","f","f54","400m","2017-03-03",95.5,2.5,1]
["dwhite","rtm","m","m44","200m","2017-03-03",29.5,4.5,1]
["ryanai","xtr","f","f59","200m","2017-03-03",36.799999999999997,5,1]
["ryanai","xtr","f","f59","400m","2017-03-03",80,5.5,1]
["kkeenan-kirkpatrick","rtm","f","f49","hmar","2017-03-04",6695.6,3,0]
["smore","brd","m","m69","5k","2017-03-06",1442,4.5,0]
["jallen","xtr","m","m79","3k","2017-03-10",1028.5999999999999,3.5,1]
["rbond","xtr","m","m59","3k","2017-03-10",788.5,3.5,1]
["dbraverman","una","m","m15","3k","2017-03-10",819.4,1.5,1]
["dbraverman","una","m","m15","3k","2017-03-10",871.5,1,1]
["ncoffey","kmn","m","m59","3k","2017-03-10",655.9,6.5,1]
["mdasilva","xtr","f","f74","3k","2017-03-10",1027.0999999999999,6.5,1]
["rdean","rtm","m","m69","3k","2017-03-10",793,4.5,1]
["mdee","kmn","m","m29","3k","2017-03-10",573.4,5,1]
["kekelly","brd","m","m69","3k","2017-03-10",834.4,4,1]
["mfitzpatrick","rtm","m","m54","3k","2017-03-10",666.6,5.5,1]
["pford","kmn","f","f64","3k","2017-03-10",797.8,7.5,1]
["ehahn","rtm","f","f79","3k","2017-03-10",1258.3,4.5,1]
["rhahn","xtr","m","m89","mile","2017-03-10",1521,2,1]
["thomeyer","kmn","m","m69","3k","2017-03-10",909.7,3,1]
["ahonis","rtm","f","f54","3k","2017-03-10",1998.1,1,1]
["mhonis","rtm","m","m59","3k","2017-03-10",976.4,1,1]
["vhotaling","kmn","f","f54","3k","2017-03-10",971.8,2.5,1]
["pjewell","rtm","m","m69","3k","2017-03-10",1170.4000000000001,1,1]
["skelly","kmn","m","m54","3k","2017-03-10",784.8,3,1]
["hketcham","kmn","f","f44","3k","2017-03-10",797.8,3.5,1]
["tkirkland","kmn","f","f44","3k","2017-03-10",794.3,3.5,1]
["jmintz","una","m","m39","3k","2017-03-10",590.1,5.5,1]
["jmoore","rtm","m","m54","3k","2017-03-10",767.9,3.5,1]
["smore","brd","m","m69","3k","2017-03-10",805.4,4.5,1]
["rmozo","brd","m","m54","3k","2017-03-10",720,4,1]
["rmozo","brd","m","m54","3k","2017-03-10",777.7,3,1]
["bnicholson","kmn","m","m74","3k","2017-03-10",942.3,3,1]
["rniezabytowski","kmn","f","f49","3k","2017-03-10",834,3.5,1]
["triccardi","brd","m","m59","3k","2017-03-10",684.9,5.5,1]
["triccardi","brd","m","m59","3k","2017-03-10",688.5,5.5,1]
["kstanton","kmn","m","m69","3k","2017-03-10",964.9,2,1]
["jstauffer","xtr","m","m59","3k","2017-03-10",770.6,4,1]
["csteinbach","rtm","f","f69","3k","2017-03-10",782.1,9.5,1]
["mswan","brd","f","f59","3k","2017-03-10",751.7,7.5,1]
["jswanson","rtm","m","m69","3k","2017-03-10",1152.5999999999999,1,1]
["hteres","xtr","m","m69","3k","2017-03-10",871.5,3.5,1]
["kvanboden","brd","m","m49","3k","2017-03-10",677.2,4.5,1]
["kvanboden","brd","m","m49","3k","2017-03-10",738,3.5,1]
["kwall","kmn","m","m44","3k","2017-03-10",678,4,1]
["ryanai","xtr","f","f59","3k","2017-03-10",827.9,6,1]
["dchristensen","xtr","m","m59","hmar","2017-03-12",6717,2.5,0]
["jallen","xtr","m","m79","mile","2017-03-16",497.7,4,1]
["rcleary","rtm","m","m69","mile","2017-03-16",539.29999999999995,1,1]
["ncoffey","kmn","m","m59","mile","2017-03-16",321.39999999999998,7,1]
["rdean","rtm","m","m69","mile","2017-03-16",399.8,5,1]
["mdee","kmn","m","m29","mile","2017-03-16",297.89999999999998,4.5,1]
["kekelly","brd","m","m69","mile","2017-03-16",404.5,4.5,1]
["mfitzpatrick","rtm","m","m54","mile","2017-03-16",341.3,5,1]
["tgiannettino","brd","m","m49","mile","2017-03-16",338.3,4.5,1]
["cgriffin","rtm","f","f69","mile","2017-03-16",531.5,4.5,1]
["ehahn","rtm","f","f79","mile","2017-03-16",649.5,4.5,1]
["khanlon","kmn","m","m64","mile","2017-03-16",439,3,1]
["mhonis","rtm","m","m59","mile","2017-03-16",437.2,2.5,1]
["skelly","kmn","m","m54","mile","2017-03-16",392.5,3,1]
["jmartinez","brd","m","m49","mile","2017-03-16",360.7,3.5,1]
["mmccall","rtm","m","m34","mile","2017-03-16",312.39999999999998,4,1]
["jmoore","rtm","m","m54","mile","2017-03-16",374.3,4,1]
["rmozo","brd","m","m54","mile","2017-03-16",388.9,3.5,1]
["rmozo","brd","m","m54","mile","2017-03-16",385,3.5,1]
["rmozo","brd","m","m54","mile","2017-03-16",365.9,4,1]
["mpiscitelli","rtm","f","f64","mile","2017-03-16",497.3,4.5,1]
["triccardi","brd","m","m59","mile","2017-03-16",438.7,2.5,1]
["triccardi","brd","m","m59","mile","2017-03-16",443.8,2,1]
["triccardi","brd","m","m59","mile","2017-03-16",454,2,1]
["drobbins","kmn","m","m74","mile","2017-03-16",537.1,1.5,1]
["mrybinski","brd","m","m64","mile","2017-03-16",389.6,4.5,1]
["mrybinski","brd","m","m64","mile","2017-03-16",384.5,4.5,1]
["mrybinski","brd","m","m64","mile","2017-03-16",371.9,5,1]
["kstanton","kmn","m","m69","mile","2017-03-16",496.7,2,1]
["csteinbach","rtm","f","f69","mile","2017-03-16",396.8,9.5,1]
["jswanson","rtm","m","m69","mile","2017-03-16",720.8,1,1]
["hteres","xtr","m","m69","mile","2017-03-16",414.1,4.5,1]
["kvanboden","brd","m","m49","mile","2017-03-16",338,4.5,1]
["kwall","kmn","m","m44","mile","2017-03-16",338.5,4,1]
["kwhite","brd","f","f49","mile","2017-03-16",370.7,5.5,1]
["ryanai","xtr","f","f59","mile","2017-03-16",409.4,6,1]
["gradford","brd","m","m64","8k","2017-03-18",1816.7,8,0]
["triccardi","brd","m","m59","8k","2017-03-18",1862.6,6.5,0]
["ksargent","brd","f","f54","8k","2017-03-18",2013.2,7,0]
["mswan","brd","f","f59","8k","2017-03-18",1914.1,9,0]
["rnelson","rtm","f","f64","hmar","2017-03-26",6400,6.5,0]
["jallen","xtr","m","m79","15k","2017-03-31",6200.4,2.5,1]
["rcarpenter","rtm","m","m64","3k","2017-03-31",1216.7,1,1]
["dchristensen","xtr","m","m59","15k","2017-03-31",4828.5,2.5,1]
["rcleary","rtm","m","m69","3k","2017-03-31",1126.9000000000001,1,1]
["ncoffey","kmn","m","m59","15k","2017-03-31",3555.2,7,1]
["lferrone","kmn","m","m29","15k","2017-03-31",3093.3,5.5,1]
["mfitzpatrick","rtm","m","m54","15k","2017-03-31",3895.4,4.5,1]
["pford","kmn","f","f64","15k","2017-03-31",4450.2,7,1]
["cgriffin","rtm","f","f69","3k","2017-03-31",1059.4000000000001,4.5,1]
["rhahn","xtr","m","m89","3k","2017-03-31",2658.7,2,1]
["thomeyer","kmn","m","m69","15k","2017-03-31",5137.8999999999996,2.5,1]
["vhotaling","kmn","f","f54","3k","2017-03-31",982.5,2.5,1]
["dhughes","xtr","m","m59","3k","2017-03-31",752.6,4,1]
["pjewell","rtm","m","m69","15k","2017-03-31",6321.9,1,1]
["tkirkland","kmn","f","f44","3k","2017-03-31",786,3.5,1]
["jmartinez","brd","m","m49","15k","2017-03-31",4864.1000000000004,1,1]
["cmassulik","rtm","m","m44","3k","2017-03-31",1027.5999999999999,1,1]
["wmcrae","brd","m","m84","3k","2017-03-31",1536.2,1,1]
["mreiner","rtm","f","f54","3k","2017-03-31",1137.2,1,1]
["triccardi","brd","m","m59","15k","2017-03-31",3851.5,5.5,1]
["dsamburskiy","una","m","m34","5k","2017-03-31",1345,1.5,1]
["sscott","kmn","f","f44","3k","2017-03-31",635.6,7,1]
["hteres","xtr","m","m69","15k","2017-03-31",4887.2,3.5,1]
["kvanboden","brd","m","m49","15k","2017-03-31",3888.9,4,1]
["drobbins","kmn","m","m74","5k","2017-04-01",1928,1.5,0]
["rbond","xtr","m","m59","4x3manley","2017-04-07",643.70000000000005,4.5,1]
["rbond","xtr","m","m59","4x1manley","2017-04-07",171.4,4.5,1]
["wborgstede","xtr","m","m74","4x2manley","2017-04-07",621.9,1,1]
["tcallahan","xtr","m","m29","4x2manley","2017-04-07",621.9,1,1]
["tcallahan","xtr","m","m29","4x3manley","2017-04-07",643.70000000000005,4.5,1]
["tcallahan","xtr","m","m29","4x2manley","2017-04-07",430.6,3.5,1]
["tcallahan","xtr","m","m29","4x1manley","2017-04-07",171.4,4.5,1]
["rcarpenter","rtm","m","m64","4x2manley","2017-04-07",773.7,1,1]
["dchristensen","xtr","m","m59","4x2manley","2017-04-07",430.6,3.5,1]
["dchristensen","xtr","m","m59","4x1manley","2017-04-07",222.5,1,1]
["rcleary","rtm","m","m69","4x2manley","2017-04-07",773.7,1,1]
["ncoffey","kmn","m","m59","4x2manley","2017-04-07",392.2,4,1]
["tcromp","brd","f","f54","4x1manley","2017-04-07",206.5,2,1]
["rdean","rtm","m","m69","4x1manley","2017-04-07",202.8,4,1]
["rdean","rtm","m","m69","4x2manley","2017-04-07",481.9,4,1]
["jdiederich","rtm","f","f39","4x3manley","2017-04-07",1270.7,1,1]
["jdiederich","rtm","f","f39","4x1manley","2017-04-07",395.7,1,1]
["lferrone","kmn","m","m29","4x2manley","2017-04-07",392.2,4,1]
["lferrone","kmn","m","m29","4x1manley","2017-04-07",190.6,3,1]
["tfondy","rtm","m","m79","4x1manley","2017-04-07",395.7,1,1]
["tgiannettino","brd","m","m49","4x2manley","2017-04-07",390,5,1]
["tgiannettino","brd","m","m49","4x3manley","2017-04-07",676.2,5,1]
["tgiannettino","brd","m","m49","4x1manley","2017-04-07",206.5,2,1]
["tgiannettino","brd","m","m49","4x2manley","2017-04-07",412.1,4,1]
["tgiannettino","brd","m","m49","4x2manley","2017-04-07",513.4,3,1]
["khanlon","kmn","m","m64","4x3manley","2017-04-07",764.8,2.5,1]
["khanlon","kmn","m","m64","4x1manley","2017-04-07",207.8,2,1]
["khanlon","kmn","m","m64","4x2manley","2017-04-07",392.2,4,1]
["ahonis","rtm","f","f54","4x2manley","2017-04-07",773.7,1,1]
["ahonis","rtm","f","f54","4x3manley","2017-04-07",1270.7,1,1]
["ahonis","rtm","f","f54","4x1manley","2017-04-07",395.7,1,1]
["mhonis","rtm","m","m59","4x3manley","2017-04-07",821.9,1.5,1]
["mhonis","rtm","m","m59","4x1manley","2017-04-07",202.8,4,1]
["mhonis","rtm","m","m59","4x2manley","2017-04-07",481.9,4,1]
["vhotaling","kmn","f","f54","4x2manley","2017-04-07",483.6,3,1]
["vhotaling","kmn","f","f54","4x3manley","2017-04-07",764.8,2.5,1]
["vhotaling","kmn","f","f54","4x1manley","2017-04-07",207.8,2,1]
["dhughes","xtr","m","m59","4x2manley","2017-04-07",621.9,1,1]
["dhughes","xtr","m","m59","4x3manley","2017-04-07",643.70000000000005,4.5,1]
["dhughes","xtr","m","m59","4x3manley","2017-04-07",875.7,1.5,1]
["dhughes","xtr","m","m59","4x2manley","2017-04-07",430.6,3.5,1]
["dhughes","xtr","m","m59","4x1manley","2017-04-07",222.5,1,1]
["kkeenan-kirkpatrick","rtm","f","f49","4x2manley","2017-04-07",506.4,1.5,1]
["kkeenan-kirkpatrick","rtm","f","f49","4x3manley","2017-04-07",821.9,1.5,1]
["kkeenan-kirkpatrick","rtm","f","f49","4x1manley","2017-04-07",225.1,1,1]
["skelly","kmn","m","m54","4x2manley","2017-04-07",483.6,3,1]
["skelly","kmn","m","m54","4x1manley","2017-04-07",207.8,2,1]
["tkirkland","kmn","f","f44","4x2manley","2017-04-07",483.6,3,1]
["tkirkland","kmn","f","f44","4x3manley","2017-04-07",764.8,2.5,1]
["tkirkland","kmn","f","f44","4x1manley","2017-04-07",207.8,2,1]
["sleone","rtm","f","f64","4x1manley","2017-04-07",202.8,4,1]
["sleone","rtm","f","f64","4x1manley","2017-04-07",395.7,1,1]
["sleone","rtm","f","f64","4x2manley","2017-04-07",481.9,4,1]
["jmartinez","brd","m","m49","4x1manley","2017-04-07",206.5,2,1]
["jmartinez","brd","m","m49","4x2manley","2017-04-07",412.1,4,1]
["cmassulik","rtm","m","m44","4x2manley","2017-04-07",506.4,1.5,1]
["cmassulik","rtm","m","m44","4x3manley","2017-04-07",821.9,1.5,1]
["cmassulik","rtm","m","m44","4x1manley","2017-04-07",225.1,1,1]
["rmay","rtm","f","f59","4x2manley","2017-04-07",773.7,1,1]
["rmay","rtm","f","f59","4x3manley","2017-04-07",1270.7,1,1]
["rmay","rtm","f","f59","4x1manley","2017-04-07",225.1,1,1]
["wmcrae","brd","m","m84","4x2manley","2017-04-07",513.4,3,1]
["smore","brd","m","m69","4x3manley","2017-04-07",676.2,5,1]
["smore","brd","m","m69","4x1manley","2017-04-07",206.5,2,1]
["smore","brd","m","m69","4x2manley","2017-04-07",412.1,4,1]
["rmozo","brd","m","m54","4x2manley","2017-04-07",390,5,1]
["rmozo","brd","m","m54","4x1manley","2017-04-07",177.3,5,1]
["bnicholson","kmn","m","m74","4x2manley","2017-04-07",483.6,3,1]
["bnicholson","kmn","m","m74","4x1manley","2017-04-07",190.6,3,1]
["loaks-lee","brd","m","m69","4x3manley","2017-04-07",676.2,5,1]
["mreiner","rtm","f","f54","4x2manley","2017-04-07",506.4,1.5,1]
["mreiner","rtm","f","f54","4x3manley","2017-04-07",821.9,1.5,1]
["triccardi","brd","m","m59","4x2manley","2017-04-07",390,5,1]
["triccardi","brd","m","m59","4x2manley","2017-04-07",412.1,4,1]
["triccardi","brd","m","m59","4x1manley","2017-04-07",177.3,5,1]
["drobbins","kmn","m","m74","4x1manley","2017-04-07",190.6,3,1]
["ssampere","kmn","m","m54","4x3manley","2017-04-07",764.8,2.5,1]
["ssampere","kmn","m","m54","4x2manley","2017-04-07",392.2,4,1]
["ssampere","kmn","m","m54","4x1manley","2017-04-07",190.6,3,1]
["ksargent","brd","f","f54","4x2manley","2017-04-07",390,5,1]
["ksargent","brd","f","f54","4x2manley","2017-04-07",513.4,3,1]
["ksargent","brd","f","f54","4x1manley","2017-04-07",177.3,5,1]
["jstauffer","xtr","m","m59","4x3manley","2017-04-07",875.7,1.5,1]
["jstauffer","xtr","m","m59","4x1manley","2017-04-07",222.5,1,1]
["csteinbach","rtm","f","f69","4x1manley","2017-04-07",202.8,4,1]
["csteinbach","rtm","f","f69","4x2manley","2017-04-07",481.9,4,1]
["mswan","brd","f","f59","4x3manley","2017-04-07",676.2,5,1]
["mswan","brd","f","f59","4x2manley","2017-04-07",513.4,3,1]
["mswan","brd","f","f59","4x1manley","2017-04-07",177.3,5,1]
["hteres","xtr","m","m69","4x3manley","2017-04-07",875.7,1.5,1]
["hteres","xtr","m","m69","4x1manley","2017-04-07",171.4,4.5,1]
["hteres","xtr","m","m69","4x1manley","2017-04-07",222.5,1,1]
["dwhite","rtm","m","m44","4x2manley","2017-04-07",506.4,1.5,1]
["dwhite","rtm","m","m44","4x3manley","2017-04-07",1270.7,1,1]
["dwhite","rtm","m","m44","4x1manley","2017-04-07",225.1,1,1]
["ryanai","xtr","f","f59","4x2manley","2017-04-07",621.9,1,1]
["ryanai","xtr","f","f59","4x3manley","2017-04-07",643.70000000000005,4.5,1]
["ryanai","xtr","f","f59","4x3manley","2017-04-07",875.7,1.5,1]
["ryanai","xtr","f","f59","4x2manley","2017-04-07",430.6,3.5,1]
["ryanai","xtr","f","f59","4x1manley","2017-04-07",171.4,4.5,1]
["smore","brd","m","m69","10k","2017-04-09",2903,4.5,0]
["ahonis","rtm","f","f54","100m","2017-04-10",31,1,2]
["ahonis","rtm","f","f54","mile","2017-04-10",1080,1,2]
["jallen","xtr","m","m79","800m","2017-04-13",223.2,4,1]
["jallen","xtr","m","m79","5k","2017-04-13",1859,3,1]
["rbond","xtr","m","m59","800m","2017-04-13",167.3,4.5,1]
["tcallahan","xtr","m","m29","800m","2017-04-13",131.30000000000001,5,1]
["ncoffey","kmn","m","m59","800m","2017-04-13",173.6,4,1]
["ncoffey","kmn","m","m59","800m","2017-04-13",149,6.5,1]
["lferrone","kmn","m","m29","5k","2017-04-13",976.8,5.5,1]
["tfondy","rtm","m","m79","800m","2017-04-13",356,1,1]
["pford","kmn","f","f64","5k","2017-04-13",1411.6,7,1]
["sgraceffo","xtr","m","m84","5k","2017-04-13",2218.9,2.5,1]
["rhahn","xtr","m","m89","800m","2017-04-13",632.5,2,1]
["ahonis","rtm","f","f54","5k","2017-04-13",3018.5,1,1]
["vhotaling","kmn","f","f54","800m","2017-04-13",214.8,2,1]
["kkeenan-kirkpatrick","rtm","f","f49","800m","2017-04-13",200.5,2.5,1]
["skelly","kmn","m","m54","5k","2017-04-13",1332.5,3.5,1]
["tkirkland","kmn","f","f44","800m","2017-04-13",197.4,2,1]
["jlawton","brd","m","m69","800m","2017-04-13",215.2,2.5,1]
["jmartinez","brd","m","m49","5k","2017-04-13",1372.2,2.5,1]
["cmassulik","rtm","m","m44","5k","2017-04-13",1677.2,1,1]
["mmccall","rtm","m","m34","800m","2017-04-13",136.80000000000001,4.5,1]
["wmcrae","brd","m","m84","400m","2017-04-13",120.6,3,1]
["smore","brd","m","m69","5k","2017-04-13",1403.6,4.5,1]
["rmozo","brd","m","m54","5k","2017-04-13",1353.2,3.5,1]
["loaks-lee","brd","m","m69","5k","2017-04-13",1465.9,4,1]
["mreiner","rtm","f","f54","800m","2017-04-13",242.2,1,1]
["triccardi","brd","m","m59","800m","2017-04-13",170.2,4.5,1]
["triccardi","brd","m","m59","800m","2017-04-13",166.5,5,1]
["triccardi","brd","m","m59","5k","2017-04-13",1527.4,2,1]
["csteinbach","rtm","f","f69","5k","2017-04-13",1405,8.5,1]
["mswan","brd","f","f59","800m","2017-04-13",185.6,5,1]
["mswan","brd","f","f59","800m","2017-04-13",173.7,6.5,1]
["mswan","brd","f","f59","5k","2017-04-13",1262.5,7.5,1]
["jswanson","rtm","m","m69","800m","2017-04-13",236.6,1.5,1]
["jswanson","rtm","m","m69","5k","2017-04-13",2263.5,1,1]
["ksyverud","xtr","m","m64","5k","2017-04-13",1919.1,1,1]
["jview","rtm","m","m69","800m","2017-04-13",226.2,2,1]
["dwhite","rtm","m","m44","5k","2017-04-13",1233.8,3.5,1]
["vhotaling","kmn","f","f54","10k","2017-04-15",3543,2,0]
["tkirkland","kmn","f","f44","10k","2017-04-15",2860,3.5,0]
["rbond","xtr","m","m59","1500m","2017-04-20",414.8,2,1]
["rbond","xtr","m","m59","1500m","2017-04-20",386.5,3,1]
["rbond","xtr","m","m59","3k","2017-04-20",774.3,4,1]
["ncoffey","kmn","m","m59","3k","2017-04-20",645.4,6.5,1]
["rdean","rtm","m","m69","3k","2017-04-20",780.9,5,1]
["mdee","kmn","m","m29","3k","2017-04-20",561.6,5.5,1]
["kekelly","brd","m","m69","1500m","2017-04-20",375.8,4.5,1]
["lferrone","kmn","m","m29","3k","2017-04-20",559.6,5.5,1]
["tfondy","rtm","m","m79","1500m","2017-04-20",714.8,1,1]
["sgraceffo","xtr","m","m84","3k","2017-04-20",1279,2.5,1]
["rhahn","xtr","m","m89","100m","2017-04-20",69.2,2,1]
["mhonis","rtm","m","m59","400m","2017-04-20",65.099999999999994,6,1]
["vhotaling","kmn","f","f54","1500m","2017-04-20",430.9,3.5,1]
["skelly","kmn","m","m54","1500m","2017-04-20",352.2,3.5,1]
["tkirkland","kmn","f","f44","1500m","2017-04-20",379.7,3.5,1]
["jlawton","brd","m","m69","1500m","2017-04-20",434.4,2.5,1]
["cmassulik","rtm","m","m44","1500m","2017-04-20",428.5,1,1]
["cmassulik","rtm","m","m44","400m","2017-04-20",94.2,1,1]
["wmcrae","brd","m","m84","1500m","2017-04-20",566.5,3,1]
["jmora","rtm","m","m59","1500m","2017-04-20",374.7,3.5,1]
["jmora","rtm","m","m59","800m","2017-04-20",148.30000000000001,6.5,1]
["loaks-lee","brd","m","m69","3k","2017-04-20",830.9,4,1]
["triccardi","brd","m","m59","1500m","2017-04-20",328.2,5,1]
["triccardi","brd","m","m59","1500m","2017-04-20",324.7,5.5,1]
["triccardi","brd","m","m59","3k","2017-04-20",705.8,5,1]
["csteinbach","rtm","f","f69","1500m","2017-04-20",359.1,10,1]
["csteinbach","rtm","f","f69","3k","2017-04-20",806.3,9,1]
["mswan","brd","f","f59","1500m","2017-04-20",351.9,7.5,1]
["mswan","brd","f","f59","3k","2017-04-20",712.6,8.5,1]
["jswanson","rtm","m","m69","1500m","2017-04-20",523.20000000000005,1,1]
["jview","rtm","m","m69","1500m","2017-04-20",492.4,1,1]
["kwall","kmn","m","m44","1500m","2017-04-20",327.9,3.5,1]
["kwall","kmn","m","m44","1500m","2017-04-20",329.4,3.5,1]
["dwhite","rtm","m","m44","1500m","2017-04-20",317.39999999999998,4,1]
["dwhite","rtm","m","m44","3k","2017-04-20",687.9,3.5,1]
["dwhite","rtm","m","m44","400m","2017-04-20",102.1,1,1]
["trobertson","rtm","m","m44","10k","2017-04-22",2583,3.5,0]
["vhotaling","kmn","f","f54","hmar","2017-04-23",7786,2,0]
["tkirkland","kmn","f","f44","hmar","2017-04-23",6254,3,0]
["mpiscitelli","rtm","f","f64","hmar","2017-04-30",7523,4,0]
["jallen","xtr","m","m79","100m","2017-05-05",18.600000000000001,5,1]
["jallen","xtr","m","m79","100m","2017-05-05",18.899999999999999,4.5,1]
["rbond","xtr","m","m59","100m","2017-05-05",14.5,6,1]
["rbond","xtr","m","m59","100m","2017-05-05",18.399999999999999,2.5,1]
["rcleary","rtm","m","m69","200m","2017-05-05",50.7,1,1]
["rcleary","rtm","m","m69","400m","2017-05-05",113.4,1,1]
["rdean","rtm","m","m69","200m","2017-05-05",34.200000000000003,4.5,1]
["jdiederich","rtm","f","f39","800m","2017-05-05",499.4,1,1]
["jdiederich","rtm","f","f39","200m","2017-05-05",123,1,1]
["kekelly","brd","m","m69","100m","2017-05-05",18.399999999999999,3,1]
["kekelly","brd","m","m69","200m","2017-05-05",39.799999999999997,2.5,1]
["kekelly","brd","m","m69","400m","2017-05-05",82,4,1]
["tfondy","rtm","m","m79","100m","2017-05-05",20.2,3.5,1]
["tfondy","rtm","m","m79","400m","2017-05-05",157.19999999999999,1,1]
["cgriffin","rtm","f","f69","100m","2017-05-05",20.5,4,1]
["khanlon","kmn","m","m64","200m","2017-05-05",43.7,1,1]
["khanlon","kmn","m","m64","400m","2017-05-05",99.2,1,1]
["mhonis","rtm","m","m59","100m","2017-05-05",13.8,6.5,1]
["dhughes","xtr","m","m59","100m","2017-05-05",18.600000000000001,2.5,1]
["dhughes","xtr","m","m59","400m","2017-05-05",79.2,3,1]
["pjewell","rtm","m","m69","100m","2017-05-05",33.4,1,1]
["pjewell","rtm","m","m69","800m","2017-05-05",272.5,1,1]
["kkeenan-kirkpatrick","rtm","f","f49","100m","2017-05-05",24.2,1,1]
["kkeenan-kirkpatrick","rtm","f","f49","200m","2017-05-05",43.2,1.5,1]
["skelly","kmn","m","m54","100m","2017-05-05",15,5,1]
["skelly","kmn","m","m54","200m","2017-05-05",32,4,1]
["tkirkland","kmn","f","f44","100m","2017-05-05",21.1,1,1]
["tkirkland","kmn","f","f44","400m","2017-05-05",84.5,2.5,1]
["jmartinez","brd","m","m49","100m","2017-05-05",15.2,4,1]
["rmay","rtm","f","f59","200m","2017-05-05",47,1.5,1]
["tmcconnell","brd","m","m64","100m","2017-05-05",18.2,3,1]
["bnicholson","kmn","m","m74","100m","2017-05-05",25.7,1,1]
["loaks-lee","brd","m","m69","100m","2017-05-05",18.7,3,1]
["loaks-lee","brd","m","m69","100m","2017-05-05",18.899999999999999,3,1]
["mpiscitelli","rtm","f","f64","100m","2017-05-05",24.8,1,1]
["mpiscitelli","rtm","f","f64","100m","2017-05-05",26.4,1,1]
["mreiner","rtm","f","f54","100m","2017-05-05",20.3,2.5,1]
["mreiner","rtm","f","f54","200m","2017-05-05",42.3,2.5,1]
["mreiner","rtm","f","f54","400m","2017-05-05",120.9,1,1]
["trobertson","rtm","m","m44","100m","2017-05-05",15.4,3.5,1]
["trobertson","rtm","m","m44","100m","2017-05-05",15.2,3.5,1]
["mrybinski","brd","m","m64","100m","2017-05-05",33.200000000000003,1,1]
["ksargent","brd","f","f54","100m","2017-05-05",18,4,1]
["ksargent","brd","f","f54","100m","2017-05-05",17.5,4.5,1]
["kstanton","kmn","m","m69","100m","2017-05-05",19.600000000000001,2.5,1]
["jswanson","rtm","m","m69","100m","2017-05-05",16.8,4.5,1]
["jswanson","rtm","m","m69","100m","2017-05-05",16.8,4.5,1]
["hteres","xtr","m","m69","100m","2017-05-05",15.8,5.5,1]
["hteres","xtr","m","m69","200m","2017-05-05",32,5.5,1]
["dtrombley","rtm","m","m74","100m","2017-05-05",34.5,1,1]
["dwhite","rtm","m","m44","100m","2017-05-05",15.3,3.5,1]
["dwhite","rtm","m","m44","400m","2017-05-05",63.6,4.5,1]
["ryanai","xtr","f","f59","200m","2017-05-05",36.6,5,1]
["rdean","rtm","m","m69","10M","2017-05-07",5072,4,0]
["pford","kmn","f","f64","10M","2017-05-07",4953,6,0]
["cmassulik","rtm","m","m44","10M","2017-05-07",6534,1,0]
["rniezabytowski","kmn","f","f49","10M","2017-05-07",5270,2.5,0]
["csteinbach","rtm","f","f69","10M","2017-05-07",4576,9,0]
["mdee","kmn","m","m29","400m","2017-05-10",58.1,4.5,2]
["mdexter","una","f","f34","55m","2017-05-10",8.94,4,2]
["mdexter","una","f","f34","200m","2017-05-10",33,2.5,2]
["tfondy","rtm","m","m79","55m","2017-05-10",11.04,5,2]
["cgriffin","rtm","f","f69","400m","2017-05-10",104.5,3.5,2]
["ehahn","rtm","f","f79","55m","2017-05-10",14.44,4,2]
["mhonis","rtm","m","m59","55m","2017-05-10",7.94,8,2]
["mhonis","rtm","m","m59","200m","2017-05-10",27.6,7,2]
["rmay","rtm","f","f59","400m","2017-05-10",109.2,1.5,2]
["mmccall","rtm","m","m34","100m","2017-05-10",13.6,4,2]
["mmccall","rtm","m","m34","400m","2017-05-10",59.3,4.5,2]
["csteinbach","rtm","f","f69","55m","2017-05-10",9.74,8,2]
["jview","rtm","m","m69","55m","2017-05-10",10.24,4.5,2]
["jview","rtm","m","m69","400m","2017-05-10",95.4,2,2]
["tcromp","brd","f","f54","1500m","2017-05-12",875,1,2]
["jdiederich","rtm","f","f39","1500m","2017-05-12",874.2,1,2]
["mreiner","rtm","f","f54","400m","2017-05-12",105.8,1,2]
["dtrombley","rtm","m","m74","mile","2017-05-12",1109.8,1,2]
["kwall","kmn","m","m44","5k","2017-05-12",1164.5999999999999,4,2]
["dchristensen","xtr","m","m59","5k","2017-05-13",1620,1.5,1]
["rcleary","rtm","m","m69","5k","2017-05-13",2005,1,1]
["tcromp","brd","f","f54","8k","2017-05-13",3260,1,1]
["kekelly","brd","m","m69","5k","2017-05-13",1621,2.5,1]
["pford","kmn","f","f64","15k","2017-05-13",4667,6,1]
["sgraceffo","xtr","m","m84","5k","2017-05-13",2300,2,1]
["khanlon","kmn","m","m64","8k","2017-05-13",2785,1.5,1]
["shkelly","brd","f","f49","5k","2017-05-13",1621,2,1]
["tkirkland","kmn","f","f44","15k","2017-05-13",4556,2.5,1]
["sleone","rtm","f","f64","15k","2017-05-13",5039,5,1]
["jmartinez","brd","m","m49","15k","2017-05-13",4434,2.5,1]
["wmcrae","brd","m","m84","5k","2017-05-13",2074,3.5,1]
["csteinbach","rtm","f","f69","5k","2017-05-13",1473,7.5,1]
["hteres","xtr","m","m69","5k","2017-05-13",1554,3,1]
["dtrombley","rtm","m","m74","5k","2017-05-13",3287,1,1]
["kvanboden","brd","m","m49","8k","2017-05-13",2296,2.5,1]
["dwhite","rtm","m","m44","15k","2017-05-13",3777,4,1]
["bnicholson","kmn","m","m74","15k","2017-05-14",5343,3,2]
["hteres","xtr","m","m69","55m","2017-05-14",8.44,8,2]
["lfrancis","bsb","f","f59","10k","2104-08-09",3669,2,2]

{"sheet":"Avg Formatted","index":5,"n_rows":46,"n_cols":25,"rows_kept":46,"cut":false,"hidden":false,"merged":[]}
["Average performance in each age/sex division and event."]
["Computed from Average Pivot Table by applying Secs2string formatting macro"]
["Age/Sex","mar","100m","10k","10M","1500m","15k","1600r","200m","3200r","3k","400m","4x1manley","4x2manley","4x3manley","55m","5k","5M","800m","800r","8k","dmr","hmar","mile"]
["f05",{"$f":"secs2string('Avg Pivot'!B3)","v":"0"},{"$f":"secs2string('Avg Pivot'!C3)","v":"0"},{"$f":"secs2string('Avg Pivot'!D3)","v":"0"},{"$f":"secs2string('Avg Pivot'!E3)","v":"0"},{"$f":"secs2string('Avg Pivot'!F3)","v":"0"},{"$f":"secs2string('Avg Pivot'!G3)","v":"0"},{"$f":"secs2string('Avg Pivot'!H3)","v":"0"},{"$f":"secs2string('Avg Pivot'!I3)","v":"1:00"},{"$f":"secs2string('Avg Pivot'!J3)","v":"0"},{"$f":"secs2string('Avg Pivot'!K3)","v":"0"},{"$f":"secs2string('Avg Pivot'!L3)","v":"0"},{"$f":"secs2string('Avg Pivot'!M3)","v":"0"},{"$f":"secs2string('Avg Pivot'!N3)","v":"13:10.1"},{"$f":"secs2string('Avg Pivot'!O3)","v":"0"},{"$f":"secs2string('Avg Pivot'!P3)","v":"0"},{"$f":"secs2string('Avg Pivot'!Q3)","v":"0"},{"$f":"secs2string('Avg Pivot'!R3)","v":"0"},{"$f":"secs2string('Avg Pivot'!S3)","v":"0"},{"$f":"secs2string('Avg Pivot'!T3)","v":"0"},{"$f":"secs2string('Avg Pivot'!U3)","v":"0"},{"$f":"secs2string('Avg Pivot'!V3)","v":"0"},{"$f":"secs2string('Avg Pivot'!W3)","v":"0"},{"$f":"secs2string('Avg Pivot'!X3)","v":"0"},{"$f":"secs2string('Avg Pivot'!Y3)","v":"5:03.4"}]
["f06",{"$f":"secs2string('Avg Pivot'!B4)","v":"0"},{"$f":"secs2string('Avg Pivot'!C4)","v":"24.1"},{"$f":"secs2string('Avg Pivot'!D4)","v":"0"},{"$f":"secs2string('Avg Pivot'!E4)","v":"0"},{"$f":"secs2string('Avg Pivot'!F4)","v":"0"},{"$f":"secs2string('Avg Pivot'!G4)","v":"0"},{"$f":"secs2string('Avg Pivot'!H4)","v":"0"},{"$f":"secs2string('Avg Pivot'!I4)","v":"59.8"},{"$f":"secs2string('Avg Pivot'!J4)","v":"0"},{"$f":"secs2string('Avg Pivot'!K4)","v":"0"},{"$f":"secs2string('Avg Pivot'!L4)","v":"0"},{"$f":"secs2string('Avg Pivot'!M4)","v":"0"},{"$f":"secs2string('Avg Pivot'!N4)","v":"0"},{"$f":"secs2string('Avg Pivot'!O4)","v":"0"},{"$f":"secs2string('Avg Pivot'!P4)","v":"0"},{"$f":"secs2string('Avg Pivot'!Q4)","v":"0"},{"$f":"secs2string('Avg Pivot'!R4)","v":"0"},{"$f":"secs2string('Avg Pivot'!S4)","v":"0"},{"$f":"secs2string('Avg Pivot'!T4)","v":"0"},{"$f":"secs2string('Avg Pivot'!U4)","v":"0"},{"$f":"secs2string('Avg Pivot'!V4)","v":"0"},{"$f":"secs2string('Avg Pivot'!W4)","v":"0"},{"$f":"secs2string('Avg Pivot'!X4)","v":"0"},{"$f":"secs2string('Avg Pivot'!Y4)","v":"47.9"}]
["f07",{"$f":"secs2string('Avg Pivot'!B5)","v":"0"},{"$f":"secs2string('Avg Pivot'!C5)","v":"23.1"},{"$f":"secs2string('Avg Pivot'!D5)","v":"0"},{"$f":"secs2string('Avg Pivot'!E5)","v":"0"},{"$f":"secs2string('Avg Pivot'!F5)","v":"0"},{"$f":"secs2string('Avg Pivot'!G5)","v":"0"},{"$f":"secs2string('Avg Pivot'!H5)","v":"0"},{"$f":"secs2string('Avg Pivot'!I5)","v":"54"},{"$f":"secs2string('Avg Pivot'!J5)","v":"0"},{"$f":"secs2string('Avg Pivot'!K5)","v":"0"},{"$f":"secs2string('Avg Pivot'!L5)","v":"1:34.6"},{"$f":"secs2string('Avg Pivot'!M5)","v":"0"},{"$f":"secs2string('Avg Pivot'!N5)","v":"0"},{"$f":"secs2string('Avg Pivot'!O5)","v":"0"},{"$f":"secs2string('Avg Pivot'!P5)","v":"0"},{"$f":"secs2string('Avg Pivot'!Q5)","v":"0"},{"$f":"secs2string('Avg Pivot'!R5)","v":"0"},{"$f":"secs2string('Avg Pivot'!S5)","v":"3:23.6"},{"$f":"secs2string('Avg Pivot'!T5)","v":"0"},{"$f":"secs2string('Avg Pivot'!U5)","v":"0"},{"$f":"secs2string('Avg Pivot'!V5)","v":"0"},{"$f":"secs2string('Avg Pivot'!W5)","v":"0"},{"$f":"secs2string('Avg Pivot'!X5)","v":"0"},{"$f":"secs2string('Avg Pivot'!Y5)","v":"1:10"}]
["f09",{"$f":"secs2string('Avg Pivot'!B6)","v":"0"},{"$f":"secs2string('Avg Pivot'!C6)","v":"18"},{"$f":"secs2string('Avg Pivot'!D6)","v":"0"},{"$f":"secs2string('Avg Pivot'!E6)","v":"0"},{"$f":"secs2string('Avg Pivot'!F6)","v":"0"},{"$f":"secs2string('Avg Pivot'!G6)","v":"0"},{"$f":"secs2string('Avg Pivot'!H6)","v":"5:17.7"},{"$f":"secs2string('Avg Pivot'!I6)","v":"46.8"},{"$f":"secs2string('Avg Pivot'!J6)","v":"0"},{"$f":"secs2string('Avg Pivot'!K6)","v":"16:35.7"},{"$f":"secs2string('Avg Pivot'!L6)","v":"1:55.8"},{"$f":"secs2string('Avg Pivot'!M6)","v":"0"},{"$f":"secs2string('Avg Pivot'!N6)","v":"0"},{"$f":"secs2string('Avg Pivot'!O6)","v":"0"},{"$f":"secs2string('Avg Pivot'!P6)","v":"0"},{"$f":"secs2string('Avg Pivot'!Q6)","v":"30:10"},{"$f":"secs2string('Avg Pivot'!R6)","v":"0"},{"$f":"secs2string('Avg Pivot'!S6)","v":"4:18.1"},{"$f":"secs2string('Avg Pivot'!T6)","v":"2:16.7"},{"$f":"secs2string('Avg Pivot'!U6)","v":"0"},{"$f":"secs2string('Avg Pivot'!V6)","v":"0"},{"$f":"secs2string('Avg Pivot'!W6)","v":"0"},{"$f":"secs2string('Avg Pivot'!X6)","v":"9:30.6"},{"$f":"secs2string('Avg Pivot'!Y6)","v":"6:19.3"}]
["f13",{"$f":"secs2string('Avg Pivot'!B7)","v":"0"},{"$f":"secs2string('Avg Pivot'!C7)","v":"18"},{"$f":"secs2string('Avg Pivot'!D7)","v":"55:21.4"},{"$f":"secs2string('Avg Pivot'!E7)","v":"0"},{"$f":"secs2string('Avg Pivot'!F7)","v":"5:25.9"},{"$f":"secs2string('Avg Pivot'!G7)","v":"0"},{"$f":"secs2string('Avg Pivot'!H7)","v":"0"},{"$f":"secs2string('Avg Pivot'!I7)","v":"40.3"},{"$f":"secs2string('Avg Pivot'!J7)","v":"0"},{"$f":"secs2string('Avg Pivot'!K7)","v":"14:43.7"},{"$f":"secs2string('Avg Pivot'!L7)","v":"1:38.8"},{"$f":"secs2string('Avg Pivot'!M7)","v":"0"},{"$f":"secs2string('Avg Pivot'!N7)","v":"0"},{"$f":"secs2string('Avg Pivot'!O7)","v":"0"},{"$f":"secs2string('Avg Pivot'!P7)","v":"9.5"},{"$f":"secs2string('Avg Pivot'!Q7)","v":"30:08.3"},{"$f":"secs2string('Avg Pivot'!R7)","v":"0"},{"$f":"secs2string('Avg Pivot'!S7)","v":"3:25.8"},{"$f":"secs2string('Avg Pivot'!T7)","v":"2:24.4"},{"$f":"secs2string('Avg Pivot'!U7)","v":"0"},{"$f":"secs2string('Avg Pivot'!V7)","v":"0"},{"$f":"secs2string('Avg Pivot'!W7)","v":"0"},{"$f":"secs2string('Avg Pivot'!X7)","v":"7:29.5"},{"$f":"secs2string('Avg Pivot'!Y7)","v":"6:31.4"}]
["f15",{"$f":"secs2string('Avg Pivot'!B8)","v":"0"},{"$f":"secs2string('Avg Pivot'!C8)","v":"16.4"},{"$f":"secs2string('Avg Pivot'!D8)","v":"0"},{"$f":"secs2string('Avg Pivot'!E8)","v":"1:20:13"},{"$f":"secs2string('Avg Pivot'!F8)","v":"5:40"},{"$f":"secs2string('Avg Pivot'!G8)","v":"0"},{"$f":"secs2string('Avg Pivot'!H8)","v":"5:09"},{"$f":"secs2string('Avg Pivot'!I8)","v":"33.5"},{"$f":"secs2string('Avg Pivot'!J8)","v":"10:54.3"},{"$f":"secs2string('Avg Pivot'!K8)","v":"11:49.3"},{"$f":"secs2string('Avg Pivot'!L8)","v":"1:13.4"},{"$f":"secs2string('Avg Pivot'!M8)","v":"0"},{"$f":"secs2string('Avg Pivot'!N8)","v":"0"},{"$f":"secs2string('Avg Pivot'!O8)","v":"0"},{"$f":"secs2string('Avg Pivot'!P8)","v":"0"},{"$f":"secs2string('Avg Pivot'!Q8)","v":"22:42"},{"$f":"secs2string('Avg Pivot'!R8)","v":"0"},{"$f":"secs2string('Avg Pivot'!S8)","v":"2:53.7"},{"$f":"secs2string('Avg Pivot'!T8)","v":"2:15.2"},{"$f":"secs2string('Avg Pivot'!U8)","v":"0"},{"$f":"secs2string('Avg Pivot'!V8)","v":"0"},{"$f":"secs2string('Avg Pivot'!W8)","v":"0"},{"$f":"secs2string('Avg Pivot'!X8)","v":"0"},{"$f":"secs2string('Avg Pivot'!Y8)","v":"11:24.8"}]
["f17",{"$f":"secs2string('Avg Pivot'!B9)","v":"0"},{"$f":"secs2string('Avg Pivot'!C9)","v":"0"},{"$f":"secs2string('Avg Pivot'!D9)","v":"0"},{"$f":"secs2string('Avg Pivot'!E9)","v":"0"},{"$f":"secs2string('Avg Pivot'!F9)","v":"5:04.8"},{"$f":"secs2string('Avg Pivot'!G9)","v":"0"},{"$f":"secs2string('Avg Pivot'!H9)","v":"4:20.9"},{"$f":"secs2string('Avg Pivot'!I9)","v":"31.9"},{"$f":"secs2string('Avg Pivot'!J9)","v":"10:48.4"},{"$f":"secs2string('Avg Pivot'!K9)","v":"10:42.4"},{"$f":"secs2string('Avg Pivot'!L9)","v":"1:09.9"},{"$f":"secs2string('Avg Pivot'!M9)","v":"0"},{"$f":"secs2string('Avg Pivot'!N9)","v":"0"},{"$f":"secs2string('Avg Pivot'!O9)","v":"0"},{"$f":"secs2string('Avg Pivot'!P9)","v":"0"},{"$f":"secs2string('Avg Pivot'!Q9)","v":"0"},{"$f":"secs2string('Avg Pivot'!R9)","v":"0"},{"$f":"secs2string('Avg Pivot'!S9)","v":"3:34.9"},{"$f":"secs2string('Avg Pivot'!T9)","v":"1:52.2"},{"$f":"secs2string('Avg Pivot'!U9)","v":"46:59.7"},{"$f":"secs2string('Avg Pivot'!V9)","v":"0"},{"$f":"secs2string('Avg Pivot'!W9)","v":"0"},{"$f":"secs2string('Avg Pivot'!X9)","v":"6:31.1"},{"$f":"secs2string('Avg Pivot'!Y9)","v":"11:00.2"}]
["f19",{"$f":"secs2string('Avg Pivot'!B10)","v":"0"},{"$f":"secs2string('Avg Pivot'!C10)","v":"14.5"},{"$f":"secs2string('Avg Pivot'!D10)","v":"0"},{"$f":"secs2string('Avg Pivot'!E10)","v":"0"},{"$f":"secs2string('Avg Pivot'!F10)","v":"7:07.5"},{"$f":"secs2string('Avg Pivot'!G10)","v":"0"},{"$f":"secs2string('Avg Pivot'!H10)","v":"0"},{"$f":"secs2string('Avg Pivot'!I10)","v":"27.9"},{"$f":"secs2string('Avg Pivot'!J10)","v":"0"},{"$f":"secs2string('Avg Pivot'!K10)","v":"11:20.5"},{"$f":"secs2string('Avg Pivot'!L10)","v":"0"},{"$f":"secs2string('Avg Pivot'!M10)","v":"0"},{"$f":"secs2string('Avg Pivot'!N10)","v":"0"},{"$f":"secs2string('Avg Pivot'!O10)","v":"0"},{"$f":"secs2string('Avg Pivot'!P10)","v":"0"},{"$f":"secs2string('Avg Pivot'!Q10)","v":"0"},{"$f":"secs2string('Avg Pivot'!R10)","v":"0"},{"$f":"secs2string('Avg Pivot'!S10)","v":"0"},{"$f":"secs2string('Avg Pivot'!T10)","v":"0"},{"$f":"secs2string('Avg Pivot'!U10)","v":"0"},{"$f":"secs2string('Avg Pivot'!V10)","v":"0"},{"$f":"secs2string('Avg Pivot'!W10)","v":"0"},{"$f":"secs2string('Avg Pivot'!X10)","v":"6:47.6"},{"$f":"secs2string('Avg Pivot'!Y10)","v":"5:27.6"}]
["f29",{"$f":"secs2string('Avg Pivot'!B11)","v":"4:05:04.2"},{"$f":"secs2string('Avg Pivot'!C11)","v":"23.2"},{"$f":"secs2string('Avg Pivot'!D11)","v":"43:57.8"},{"$f":"secs2string('Avg Pivot'!E11)","v":"1:21:00.2"},{"$f":"secs2string('Avg Pivot'!F11)","v":"6:16.5"},{"$f":"secs2string('Avg Pivot'!G11)","v":"1:07:37.7"},{"$f":"secs2string('Avg Pivot'!H11)","v":"5:22"},{"$f":"secs2string('Avg Pivot'!I11)","v":"51"},{"$f":"secs2string('Avg Pivot'!J11)","v":"11:46.4"},{"$f":"secs2string('Avg Pivot'!K11)","v":"13:18.8"},{"$f":"secs2string('Avg Pivot'!L11)","v":"1:20"},{"$f":"secs2string('Avg Pivot'!M11)","v":"3:12.9"},{"$f":"secs2string('Avg Pivot'!N11)","v":"8:19.4"},{"$f":"secs2string('Avg Pivot'!O11)","v":"12:10.5"},{"$f":"secs2string('Avg Pivot'!P11)","v":"9.4"},{"$f":"secs2string('Avg Pivot'!Q11)","v":"25:10.1"},{"$f":"secs2string('Avg Pivot'!R11)","v":"0"},{"$f":"secs2string('Avg Pivot'!S11)","v":"3:10.8"},{"$f":"secs2string('Avg Pivot'!T11)","v":"2:19.1"},{"$f":"secs2string('Avg Pivot'!U11)","v":"39:05.1"},{"$f":"secs2string('Avg Pivot'!V11)","v":"14:06"},{"$f":"secs2string('Avg Pivot'!W11)","v":"1:48:38.6"},{"$f":"secs2string('Avg Pivot'!X11)","v":"6:32.7"},{"$f":"secs2string('Avg Pivot'!Y11)","v":"13:00.5"}]
["f34",{"$f":"secs2string('Avg Pivot'!B12)","v":"3:27:32.5"},{"$f":"secs2string('Avg Pivot'!C12)","v":"17.2"},{"$f":"secs2string('Avg Pivot'!D12)","v":"48:07.2"},{"$f":"secs2string('Avg Pivot'!E12)","v":"1:30:32.3"},{"$f":"secs2string('Avg Pivot'!F12)","v":"5:46.9"},{"$f":"secs2string('Avg Pivot'!G12)","v":"1:15:11.4"},{"$f":"secs2string('Avg Pivot'!H12)","v":"5:01.8"},{"$f":"secs2string('Avg Pivot'!I12)","v":"39.9"},{"$f":"secs2string('Avg Pivot'!J12)","v":"11:54.2"},{"$f":"secs2string('Avg Pivot'!K12)","v":"13:58"},{"$f":"secs2string('Avg Pivot'!L12)","v":"1:27.9"},{"$f":"secs2string('Avg Pivot'!M12)","v":"4:30.8"},{"$f":"secs2string('Avg Pivot'!N12)","v":"8:30.6"},{"$f":"secs2string('Avg Pivot'!O12)","v":"15:30.3"},{"$f":"secs2string('Avg Pivot'!P12)","v":"8.9"},{"$f":"secs2string('Avg Pivot'!Q12)","v":"23:45"},{"$f":"secs2string('Avg Pivot'!R12)","v":"0"},{"$f":"secs2string('Avg Pivot'!S12)","v":"3:12.1"},{"$f":"secs2string('Avg Pivot'!T12)","v":"2:12.8"},{"$f":"secs2string('Avg Pivot'!U12)","v":"52:22.8"},{"$f":"secs2string('Avg Pivot'!V12)","v":"14:07"},{"$f":"secs2string('Avg Pivot'!W12)","v":"1:38:34"},{"$f":"secs2string('Avg Pivot'!X12)","v":"7:33.9"},{"$f":"secs2string('Avg Pivot'!Y12)","v":"12:54.7"}]
["f39",{"$f":"secs2string('Avg Pivot'!B13)","v":"3:50:52.8"},{"$f":"secs2string('Avg Pivot'!C13)","v":"17.4"},{"$f":"secs2string('Avg Pivot'!D13)","v":"51:01.5"},{"$f":"secs2string('Avg Pivot'!E13)","v":"1:27:51.5"},{"$f":"secs2string('Avg Pivot'!F13)","v":"6:37.8"},{"$f":"secs2string('Avg Pivot'!G13)","v":"1:16:37.9"},{"$f":"secs2string('Avg Pivot'!H13)","v":"5:05.8"},{"$f":"secs2string('Avg Pivot'!I13)","v":"40.1"},{"$f":"secs2string('Avg Pivot'!J13)","v":"12:02.3"},{"$f":"secs2string('Avg Pivot'!K13)","v":"13:22.5"},{"$f":"secs2string('Avg Pivot'!L13)","v":"1:28.1"},{"$f":"secs2string('Avg Pivot'!M13)","v":"4:04.9"},{"$f":"secs2string('Avg Pivot'!N13)","v":"9:24.5"},{"$f":"secs2string('Avg Pivot'!O13)","v":"14:23.8"},{"$f":"secs2string('Avg Pivot'!P13)","v":"18.9"},{"$f":"secs2string('Avg Pivot'!Q13)","v":"24:26.5"},{"$f":"secs2string('Avg Pivot'!R13)","v":"0"},{"$f":"secs2string('Avg Pivot'!S13)","v":"3:14.6"},{"$f":"secs2string('Avg Pivot'!T13)","v":"2:14"},{"$f":"secs2string('Avg Pivot'!U13)","v":"42:57.3"},{"$f":"secs2string('Avg Pivot'!V13)","v":"14:53.9"},{"$f":"secs2string('Avg Pivot'!W13)","v":"1:46:24.5"},{"$f":"secs2string('Avg Pivot'!X13)","v":"6:51"},{"$f":"secs2string('Avg Pivot'!Y13)","v":"13:57.6"}]
["f44",{"$f":"secs2string('Avg Pivot'!B14)","v":"3:56:09.5"},{"$f":"secs2string('Avg Pivot'!C14)","v":"19"},{"$f":"secs2string('Avg Pivot'!D14)","v":"49:35.8"},{"$f":"secs2string('Avg Pivot'!E14)","v":"1:21:43.6"},{"$f":"secs2string('Avg Pivot'!F14)","v":"6:10.5"},{"$f":"secs2string('Avg Pivot'!G14)","v":"1:12:43.6"},{"$f":"secs2string('Avg Pivot'!H14)","v":"5:14.1"},{"$f":"secs2string('Avg Pivot'!I14)","v":"39.4"},{"$f":"secs2string('Avg Pivot'!J14)","v":"12:26"},{"$f":"secs2string('Avg Pivot'!K14)","v":"13:46.7"},{"$f":"secs2string('Avg Pivot'!L14)","v":"1:30.7"},{"$f":"secs2string('Avg Pivot'!M14)","v":"3:36.7"},{"$f":"secs2string('Avg Pivot'!N14)","v":"7:53.9"},{"$f":"secs2string('Avg Pivot'!O14)","v":"12:35.8"},{"$f":"secs2string('Avg Pivot'!P14)","v":"10"},{"$f":"secs2string('Avg Pivot'!Q14)","v":"26:05.2"},{"$f":"secs2string('Avg Pivot'!R14)","v":"0"},{"$f":"secs2string('Avg Pivot'!S14)","v":"3:10.8"},{"$f":"secs2string('Avg Pivot'!T14)","v":"2:18.3"},{"$f":"secs2string('Avg Pivot'!U14)","v":"47:15"},{"$f":"secs2string('Avg Pivot'!V14)","v":"13:45.5"},{"$f":"secs2string('Avg Pivot'!W14)","v":"1:47:10"},{"$f":"secs2string('Avg Pivot'!X14)","v":"6:52.8"},{"$f":"secs2string('Avg Pivot'!Y14)","v":"14:50.6"}]
["f49",{"$f":"secs2string('Avg Pivot'!B15)","v":"4:06:13"},{"$f":"secs2string('Avg Pivot'!C15)","v":"19.6"},{"$f":"secs2string('Avg Pivot'!D15)","v":"48:40.5"},{"$f":"secs2string('Avg Pivot'!E15)","v":"1:25:42.9"},{"$f":"secs2string('Avg Pivot'!F15)","v":"7:07.8"},{"$f":"secs2string('Avg Pivot'!G15)","v":"1:17:30.3"},{"$f":"secs2string('Avg Pivot'!H15)","v":"5:13.6"},{"$f":"secs2string('Avg Pivot'!I15)","v":"42.6"},{"$f":"secs2string('Avg Pivot'!J15)","v":"12:17.9"},{"$f":"secs2string('Avg Pivot'!K15)","v":"14:40.1"},{"$f":"secs2string('Avg Pivot'!L15)","v":"1:34.4"},{"$f":"secs2string('Avg Pivot'!M15)","v":"3:53.4"},{"$f":"secs2string('Avg Pivot'!N15)","v":"9:03.2"},{"$f":"secs2string('Avg Pivot'!O15)","v":"13:37.8"},{"$f":"secs2string('Avg Pivot'!P15)","v":"12.2"},{"$f":"secs2string('Avg Pivot'!Q15)","v":"25:39.4"},{"$f":"secs2string('Avg Pivot'!R15)","v":"0"},{"$f":"secs2string('Avg Pivot'!S15)","v":"3:32.1"},{"$f":"secs2string('Avg Pivot'!T15)","v":"2:23.9"},{"$f":"secs2string('Avg Pivot'!U15)","v":"44:35.7"},{"$f":"secs2string('Avg Pivot'!V15)","v":"15:05.6"},{"$f":"secs2string('Avg Pivot'!W15)","v":"2:10:54.2"},{"$f":"secs2string('Avg Pivot'!X15)","v":"7:33.7"},{"$f":"secs2string('Avg Pivot'!Y15)","v":"14:47.6"}]
["f54",{"$f":"secs2string('Avg Pivot'!B16)","v":"4:10:25"},{"$f":"secs2string('Avg Pivot'!C16)","v":"18.7"},{"$f":"secs2string('Avg Pivot'!D16)","v":"2:28:28.9"},{"$f":"secs2string('Avg Pivot'!E16)","v":"1:20:51.3"},{"$f":"secs2string('Avg Pivot'!F16)","v":"7:26"},{"$f":"secs2string('Avg Pivot'!G16)","v":"1:14:12.5"},{"$f":"secs2string('Avg Pivot'!H16)","v":"5:32"},{"$f":"secs2string('Avg Pivot'!I16)","v":"1:11"},{"$f":"secs2string('Avg Pivot'!J16)","v":"12:09.5"},{"$f":"secs2string('Avg Pivot'!K16)","v":"15:01.8"},{"$f":"secs2string('Avg Pivot'!L16)","v":"1:32.1"},{"$f":"secs2string('Avg Pivot'!M16)","v":"3:59.7"},{"$f":"secs2string('Avg Pivot'!N16)","v":"8:36.2"},{"$f":"secs2string('Avg Pivot'!O16)","v":"13:10.4"},{"$f":"secs2string('Avg Pivot'!P16)","v":"9.9"},{"$f":"secs2string('Avg Pivot'!Q16)","v":"24:57"},{"$f":"secs2string('Avg Pivot'!R16)","v":"0"},{"$f":"secs2string('Avg Pivot'!S16)","v":"3:25.6"},{"$f":"secs2string('Avg Pivot'!T16)","v":"2:29.9"},{"$f":"secs2string('Avg Pivot'!U16)","v":"41:22.5"},{"$f":"secs2string('Avg Pivot'!V16)","v":"0"},{"$f":"secs2string('Avg Pivot'!W16)","v":"2:00:25.8"},{"$f":"secs2string('Avg Pivot'!X16)","v":"7:19.1"},{"$f":"secs2string('Avg Pivot'!Y16)","v":"16:29.9"}]
["f59",{"$f":"secs2string('Avg Pivot'!B17)","v":"3:51:00"},{"$f":"secs2string('Avg Pivot'!C17)","v":"20.9"},{"$f":"secs2string('Avg Pivot'!D17)","v":"50:50.3"},{"$f":"secs2string('Avg Pivot'!E17)","v":"1:21:25.3"},{"$f":"secs2string('Avg Pivot'!F17)","v":"6:50.6"},{"$f":"secs2string('Avg Pivot'!G17)","v":"1:15:27.9"},{"$f":"secs2string('Avg Pivot'!H17)","v":"5:34.5"},{"$f":"secs2string('Avg Pivot'!I17)","v":"42.7"},{"$f":"secs2string('Avg Pivot'!J17)","v":"12:51.6"},{"$f":"secs2string('Avg Pivot'!K17)","v":"14:48.6"},{"$f":"secs2string('Avg Pivot'!L17)","v":"1:34.8"},{"$f":"secs2string('Avg Pivot'!M17)","v":"3:42"},{"$f":"secs2string('Avg Pivot'!N17)","v":"8:52.4"},{"$f":"secs2string('Avg Pivot'!O17)","v":"14:16.4"},{"$f":"secs2string('Avg Pivot'!P17)","v":"12.2"},{"$f":"secs2string('Avg Pivot'!Q17)","v":"25:19.3"},{"$f":"secs2string('Avg Pivot'!R17)","v":"0"},{"$f":"secs2string('Avg Pivot'!S17)","v":"3:26.6"},{"$f":"secs2string('Avg Pivot'!T17)","v":"2:28.6"},{"$f":"secs2string('Avg Pivot'!U17)","v":"41:58.9"},{"$f":"secs2string('Avg Pivot'!V17)","v":"0"},{"$f":"secs2string('Avg Pivot'!W17)","v":"1:57:00.5"},{"$f":"secs2string('Avg Pivot'!X17)","v":"7:14.1"},{"$f":"secs2string('Avg Pivot'!Y17)","v":"14:00.3"}]
["f64",{"$f":"secs2string('Avg Pivot'!B18)","v":"0"},{"$f":"secs2string('Avg Pivot'!C18)","v":"19.8"},{"$f":"secs2string('Avg Pivot'!D18)","v":"52:46.3"},{"$f":"secs2string('Avg Pivot'!E18)","v":"1:21:40.2"},{"$f":"secs2string('Avg Pivot'!F18)","v":"6:34.7"},{"$f":"secs2string('Avg Pivot'!G18)","v":"1:19:58.9"},{"$f":"secs2string('Avg Pivot'!H18)","v":"5:23.9"},{"$f":"secs2string('Avg Pivot'!I18)","v":"44.8"},{"$f":"secs2string('Avg Pivot'!J18)","v":"12:13.5"},{"$f":"secs2string('Avg Pivot'!K18)","v":"15:07.6"},{"$f":"secs2string('Avg Pivot'!L18)","v":"1:33.7"},{"$f":"secs2string('Avg Pivot'!M18)","v":"3:42"},{"$f":"secs2string('Avg Pivot'!N18)","v":"7:49.3"},{"$f":"secs2string('Avg Pivot'!O18)","v":"12:35.4"},{"$f":"secs2string('Avg Pivot'!P18)","v":"10.3"},{"$f":"secs2string('Avg Pivot'!Q18)","v":"25:28.5"},{"$f":"secs2string('Avg Pivot'!R18)","v":"37:09"},{"$f":"secs2string('Avg Pivot'!S18)","v":"3:35.8"},{"$f":"secs2string('Avg Pivot'!T18)","v":"2:19.4"},{"$f":"secs2string('Avg Pivot'!U18)","v":"40:30"},{"$f":"secs2string('Avg Pivot'!V18)","v":"0"},{"$f":"secs2string('Avg Pivot'!W18)","v":"1:55:32.3"},{"$f":"secs2string('Avg Pivot'!X18)","v":"8:11.1"},{"$f":"secs2string('Avg Pivot'!Y18)","v":"14:04.9"}]
["f69",{"$f":"secs2string('Avg Pivot'!B19)","v":"8:06:46.5"},{"$f":"secs2string('Avg Pivot'!C19)","v":"21.6"},{"$f":"secs2string('Avg Pivot'!D19)","v":"56:58.7"},{"$f":"secs2string('Avg Pivot'!E19)","v":"1:21:30.3"},{"$f":"secs2string('Avg Pivot'!F19)","v":"7:26.4"},{"$f":"secs2string('Avg Pivot'!G19)","v":"1:29:25.7"},{"$f":"secs2string('Avg Pivot'!H19)","v":"5:46.1"},{"$f":"secs2string('Avg Pivot'!I19)","v":"42.7"},{"$f":"secs2string('Avg Pivot'!J19)","v":"13:03.6"},{"$f":"secs2string('Avg Pivot'!K19)","v":"17:20.5"},{"$f":"secs2string('Avg Pivot'!L19)","v":"1:41.3"},{"$f":"secs2string('Avg Pivot'!M19)","v":"3:31.1"},{"$f":"secs2string('Avg Pivot'!N19)","v":"8:29.7"},{"$f":"secs2string('Avg Pivot'!O19)","v":"14:05.4"},{"$f":"secs2string('Avg Pivot'!P19)","v":"10.3"},{"$f":"secs2string('Avg Pivot'!Q19)","v":"29:55"},{"$f":"secs2string('Avg Pivot'!R19)","v":"0"},{"$f":"secs2string('Avg Pivot'!S19)","v":"3:59.3"},{"$f":"secs2string('Avg Pivot'!T19)","v":"2:32"},{"$f":"secs2string('Avg Pivot'!U19)","v":"45:55.1"},{"$f":"secs2string('Avg Pivot'!V19)","v":"15:48.3"},{"$f":"secs2string('Avg Pivot'!W19)","v":"2:17:19.2"},{"$f":"secs2string('Avg Pivot'!X19)","v":"9:23.1"},{"$f":"secs2string('Avg Pivot'!Y19)","v":"15:00.7"}]
["f74",{"$f":"secs2string('Avg Pivot'!B20)","v":"5:44:23"},{"$f":"secs2string('Avg Pivot'!C20)","v":"32.4"},{"$f":"secs2string('Avg Pivot'!D20)","v":"1:01:05.5"},{"$f":"secs2string('Avg Pivot'!E20)","v":"1:52:15"},{"$f":"secs2string('Avg Pivot'!F20)","v":"10:49.4"},{"$f":"secs2string('Avg Pivot'!G20)","v":"1:37:10.7"},{"$f":"secs2string('Avg Pivot'!H20)","v":"6:54.6"},{"$f":"secs2string('Avg Pivot'!I20)","v":"1:03"},{"$f":"secs2string('Avg Pivot'!J20)","v":"14:51.5"},{"$f":"secs2string('Avg Pivot'!K20)","v":"19:46.1"},{"$f":"secs2string('Avg Pivot'!L20)","v":"2:26.3"},{"$f":"secs2string('Avg Pivot'!M20)","v":"3:29.2"},{"$f":"secs2string('Avg Pivot'!N20)","v":"9:11.7"},{"$f":"secs2string('Avg Pivot'!O20)","v":"15:20.8"},{"$f":"secs2string('Avg Pivot'!P20)","v":"13.8"},{"$f":"secs2string('Avg Pivot'!Q20)","v":"33:05.8"},{"$f":"secs2string('Avg Pivot'!R20)","v":"0"},{"$f":"secs2string('Avg Pivot'!S20)","v":"5:03.5"},{"$f":"secs2string('Avg Pivot'!T20)","v":"2:58.5"},{"$f":"secs2string('Avg Pivot'!U20)","v":"59:50.9"},{"$f":"secs2string('Avg Pivot'!V20)","v":"0"},{"$f":"secs2string('Avg Pivot'!W20)","v":"0"},{"$f":"secs2string('Avg Pivot'!X20)","v":"8:39.5"},{"$f":"secs2string('Avg Pivot'!Y20)","v":"14:51"}]
["f79",{"$f":"secs2string('Avg Pivot'!B21)","v":"0"},{"$f":"secs2string('Avg Pivot'!C21)","v":"36.4"},{"$f":"secs2string('Avg Pivot'!D21)","v":"0"},{"$f":"secs2string('Avg Pivot'!E21)","v":"0"},{"$f":"secs2string('Avg Pivot'!F21)","v":"9:58.7"},{"$f":"secs2string('Avg Pivot'!G21)","v":"0"},{"$f":"secs2string('Avg Pivot'!H21)","v":"0"},{"$f":"secs2string('Avg Pivot'!I21)","v":"59.1"},{"$f":"secs2string('Avg Pivot'!J21)","v":"0"},{"$f":"secs2string('Avg Pivot'!K21)","v":"21:14.6"},{"$f":"secs2string('Avg Pivot'!L21)","v":"2:12"},{"$f":"secs2string('Avg Pivot'!M21)","v":"3:50"},{"$f":"secs2string('Avg Pivot'!N21)","v":"8:58.2"},{"$f":"secs2string('Avg Pivot'!O21)","v":"13:40.6"},{"$f":"secs2string('Avg Pivot'!P21)","v":"14.2"},{"$f":"secs2string('Avg Pivot'!Q21)","v":"35:44.3"},{"$f":"secs2string('Avg Pivot'!R21)","v":"0"},{"$f":"secs2string('Avg Pivot'!S21)","v":"5:05.6"},{"$f":"secs2string('Avg Pivot'!T21)","v":"0"},{"$f":"secs2string('Avg Pivot'!U21)","v":"1:00:13.2"},{"$f":"secs2string('Avg Pivot'!V21)","v":"0"},{"$f":"secs2string('Avg Pivot'!W21)","v":"0"},{"$f":"secs2string('Avg Pivot'!X21)","v":"10:47"},{"$f":"secs2string('Avg Pivot'!Y21)","v":"11:56.1"}]
["m",{"$f":"secs2string('Avg Pivot'!B22)","v":"0"},{"$f":"secs2string('Avg Pivot'!C22)","v":"20.5"},{"$f":"secs2string('Avg Pivot'!D22)","v":"0"},{"$f":"secs2string('Avg Pivot'!E22)","v":"0"},{"$f":"secs2string('Avg Pivot'!F22)","v":"0"},{"$f":"secs2string('Avg Pivot'!G22)","v":"0"},{"$f":"secs2string('Avg Pivot'!H22)","v":"0"},{"$f":"secs2string('Avg Pivot'!I22)","v":"54.8"},{"$f":"secs2string('Avg Pivot'!J22)","v":"0"},{"$f":"secs2string('Avg Pivot'!K22)","v":"0"},{"$f":"secs2string('Avg Pivot'!L22)","v":"1:41.6"},{"$f":"secs2string('Avg Pivot'!M22)","v":"0"},{"$f":"secs2string('Avg Pivot'!N22)","v":"0"},{"$f":"secs2string('Avg Pivot'!O22)","v":"0"},{"$f":"secs2string('Avg Pivot'!P22)","v":"0"},{"$f":"secs2string('Avg Pivot'!Q22)","v":"37:52"},{"$f":"secs2string('Avg Pivot'!R22)","v":"0"},{"$f":"secs2string('Avg Pivot'!S22)","v":"3:42"},{"$f":"secs2string('Avg Pivot'!T22)","v":"0"},{"$f":"secs2string('Avg Pivot'!U22)","v":"0"},{"$f":"secs2string('Avg Pivot'!V22)","v":"0"},{"$f":"secs2string('Avg Pivot'!W22)","v":"0"},{"$f":"secs2string('Avg Pivot'!X22)","v":"0"},{"$f":"secs2string('Avg Pivot'!Y22)","v":"6:32.3"}]
["m05",{"$f":"secs2string('Avg Pivot'!B23)","v":"0"},{"$f":"secs2string('Avg Pivot'!C23)","v":"0"},{"$f":"secs2string('Avg Pivot'!D23)","v":"0"},{"$f":"secs2string('Avg Pivot'!E23)","v":"0"},{"$f":"secs2string('Avg Pivot'!F23)","v":"7:32.2"},{"$f":"secs2string('Avg Pivot'!G23)","v":"0"},{"$f":"secs2string('Avg Pivot'!H23)","v":"7:17.6"},{"$f":"secs2string('Avg Pivot'!I23)","v":"40.5"},{"$f":"secs2string('Avg Pivot'!J23)","v":"18:47"},{"$f":"secs2string('Avg Pivot'!K23)","v":"19:55"},{"$f":"secs2string('Avg Pivot'!L23)","v":"0"},{"$f":"secs2string('Avg Pivot'!M23)","v":"0"},{"$f":"secs2string('Avg Pivot'!N23)","v":"0"},{"$f":"secs2string('Avg Pivot'!O23)","v":"0"},{"$f":"secs2string('Avg Pivot'!P23)","v":"10.4"},{"$f":"secs2string('Avg Pivot'!Q23)","v":"27:37"},{"$f":"secs2string('Avg Pivot'!R23)","v":"0"},{"$f":"secs2string('Avg Pivot'!S23)","v":"0"},{"$f":"secs2string('Avg Pivot'!T23)","v":"2:46.8"},{"$f":"secs2string('Avg Pivot'!U23)","v":"0"},{"$f":"secs2string('Avg Pivot'!V23)","v":"0"},{"$f":"secs2string('Avg Pivot'!W23)","v":"0"},{"$f":"secs2string('Avg Pivot'!X23)","v":"0"},{"$f":"secs2string('Avg Pivot'!Y23)","v":"10:35.8"}]
["m06",{"$f":"secs2string('Avg Pivot'!B24)","v":"0"},{"$f":"secs2string('Avg Pivot'!C24)","v":"0"},{"$f":"secs2string('Avg Pivot'!D24)","v":"0"},{"$f":"secs2string('Avg Pivot'!E24)","v":"0"},{"$f":"secs2string('Avg Pivot'!F24)","v":"0"},{"$f":"secs2string('Avg Pivot'!G24)","v":"0"},{"$f":"secs2string('Avg Pivot'!H24)","v":"0"},{"$f":"secs2string('Avg Pivot'!I24)","v":"46.4"},{"$f":"secs2string('Avg Pivot'!J24)","v":"0"},{"$f":"secs2string('Avg Pivot'!K24)","v":"13:22.7"},{"$f":"secs2string('Avg Pivot'!L24)","v":"0"},{"$f":"secs2string('Avg Pivot'!M24)","v":"0"},{"$f":"secs2string('Avg Pivot'!N24)","v":"0"},{"$f":"secs2string('Avg Pivot'!O24)","v":"0"},{"$f":"secs2string('Avg Pivot'!P24)","v":"10.2"},{"$f":"secs2string('Avg Pivot'!Q24)","v":"23:06"},{"$f":"secs2string('Avg Pivot'!R24)","v":"0"},{"$f":"secs2string('Avg Pivot'!S24)","v":"4:24.4"},{"$f":"secs2string('Avg Pivot'!T24)","v":"2:34.9"},{"$f":"secs2string('Avg Pivot'!U24)","v":"0"},{"$f":"secs2string('Avg Pivot'!V24)","v":"0"},{"$f":"secs2string('Avg Pivot'!W24)","v":"0"},{"$f":"secs2string('Avg Pivot'!X24)","v":"6:48.7"},{"$f":"secs2string('Avg Pivot'!Y24)","v":"4:04.2"}]
["m07",{"$f":"secs2string('Avg Pivot'!B25)","v":"0"},{"$f":"secs2string('Avg Pivot'!C25)","v":"19.1"},{"$f":"secs2string('Avg Pivot'!D25)","v":"0"},{"$f":"secs2string('Avg Pivot'!E25)","v":"0"},{"$f":"secs2string('Avg Pivot'!F25)","v":"0"},{"$f":"secs2string('Avg Pivot'!G25)","v":"0"},{"$f":"secs2string('Avg Pivot'!H25)","v":"0"},{"$f":"secs2string('Avg Pivot'!I25)","v":"39.6"},{"$f":"secs2string('Avg Pivot'!J25)","v":"0"},{"$f":"secs2string('Avg Pivot'!K25)","v":"13:19"},{"$f":"secs2string('Avg Pivot'!L25)","v":"0"},{"$f":"secs2string('Avg Pivot'!M25)","v":"0"},{"$f":"secs2string('Avg Pivot'!N25)","v":"0"},{"$f":"secs2string('Avg Pivot'!O25)","v":"0"},{"$f":"secs2string('Avg Pivot'!P25)","v":"9.6"},{"$f":"secs2string('Avg Pivot'!Q25)","v":"0"},{"$f":"secs2string('Avg Pivot'!R25)","v":"0"},{"$f":"secs2string('Avg Pivot'!S25)","v":"0"},{"$f":"secs2string('Avg Pivot'!T25)","v":"0"},{"$f":"secs2string('Avg Pivot'!U25)","v":"0"},{"$f":"secs2string('Avg Pivot'!V25)","v":"0"},{"$f":"secs2string('Avg Pivot'!W25)","v":"0"},{"$f":"secs2string('Avg Pivot'!X25)","v":"7:42.6"},{"$f":"secs2string('Avg Pivot'!Y25)","v":"4:26"}]
["m09",{"$f":"secs2string('Avg Pivot'!B26)","v":"0"},{"$f":"secs2string('Avg Pivot'!C26)","v":"19.3"},{"$f":"secs2string('Avg Pivot'!D26)","v":"0"},{"$f":"secs2string('Avg Pivot'!E26)","v":"0"},{"$f":"secs2string('Avg Pivot'!F26)","v":"0"},{"$f":"secs2string('Avg Pivot'!G26)","v":"0"},{"$f":"secs2string('Avg Pivot'!H26)","v":"0"},{"$f":"secs2string('Avg Pivot'!I26)","v":"41.1"},{"$f":"secs2string('Avg Pivot'!J26)","v":"0"},{"$f":"secs2string('Avg Pivot'!K26)","v":"17:05.9"},{"$f":"secs2string('Avg Pivot'!L26)","v":"1:31.8"},{"$f":"secs2string('Avg Pivot'!M26)","v":"3:09.3"},{"$f":"secs2string('Avg Pivot'!N26)","v":"0"},{"$f":"secs2string('Avg Pivot'!O26)","v":"0"},{"$f":"secs2string('Avg Pivot'!P26)","v":"9.6"},{"$f":"secs2string('Avg Pivot'!Q26)","v":"23:59.4"},{"$f":"secs2string('Avg Pivot'!R26)","v":"0"},{"$f":"secs2string('Avg Pivot'!S26)","v":"3:21.8"},{"$f":"secs2string('Avg Pivot'!T26)","v":"2:42.3"},{"$f":"secs2string('Avg Pivot'!U26)","v":"0"},{"$f":"secs2string('Avg Pivot'!V26)","v":"0"},{"$f":"secs2string('Avg Pivot'!W26)","v":"0"},{"$f":"secs2string('Avg Pivot'!X26)","v":"8:06.7"},{"$f":"secs2string('Avg Pivot'!Y26)","v":"4:52.2"}]
["m11",{"$f":"secs2string('Avg Pivot'!B27)","v":"0"},{"$f":"secs2string('Avg Pivot'!C27)","v":"15.5"},{"$f":"secs2string('Avg Pivot'!D27)","v":"45:38"},{"$f":"secs2string('Avg Pivot'!E27)","v":"0"},{"$f":"secs2string('Avg Pivot'!F27)","v":"0"},{"$f":"secs2string('Avg Pivot'!G27)","v":"0"},{"$f":"secs2string('Avg Pivot'!H27)","v":"0"},{"$f":"secs2string('Avg Pivot'!I27)","v":"31.8"},{"$f":"secs2string('Avg Pivot'!J27)","v":"10:19.3"},{"$f":"secs2string('Avg Pivot'!K27)","v":"13:15.5"},{"$f":"secs2string('Avg Pivot'!L27)","v":"1:24.2"},{"$f":"secs2string('Avg Pivot'!M27)","v":"0"},{"$f":"secs2string('Avg Pivot'!N27)","v":"0"},{"$f":"secs2string('Avg Pivot'!O27)","v":"0"},{"$f":"secs2string('Avg Pivot'!P27)","v":"9.4"},{"$f":"secs2string('Avg Pivot'!Q27)","v":"24:32.2"},{"$f":"secs2string('Avg Pivot'!R27)","v":"0"},{"$f":"secs2string('Avg Pivot'!S27)","v":"3:02.7"},{"$f":"secs2string('Avg Pivot'!T27)","v":"0"},{"$f":"secs2string('Avg Pivot'!U27)","v":"0"},{"$f":"secs2string('Avg Pivot'!V27)","v":"0"},{"$f":"secs2string('Avg Pivot'!W27)","v":"0"},{"$f":"secs2string('Avg Pivot'!X27)","v":"7:35.4"},{"$f":"secs2string('Avg Pivot'!Y27)","v":"7:45.4"}]
["m13",{"$f":"secs2string('Avg Pivot'!B28)","v":"0"},{"$f":"secs2string('Avg Pivot'!C28)","v":"0"},{"$f":"secs2string('Avg Pivot'!D28)","v":"42:32"},{"$f":"secs2string('Avg Pivot'!E28)","v":"1:08:16"},{"$f":"secs2string('Avg Pivot'!F28)","v":"0"},{"$f":"secs2string('Avg Pivot'!G28)","v":"1:04:05"},{"$f":"secs2string('Avg Pivot'!H28)","v":"0"},{"$f":"secs2string('Avg Pivot'!I28)","v":"45.2"},{"$f":"secs2string('Avg Pivot'!J28)","v":"10:38.7"},{"$f":"secs2string('Avg Pivot'!K28)","v":"14:05.5"},{"$f":"secs2string('Avg Pivot'!L28)","v":"2:02.5"},{"$f":"secs2string('Avg Pivot'!M28)","v":"0"},{"$f":"secs2string('Avg Pivot'!N28)","v":"0"},{"$f":"secs2string('Avg Pivot'!O28)","v":"0"},{"$f":"secs2string('Avg Pivot'!P28)","v":"8.5"},{"$f":"secs2string('Avg Pivot'!Q28)","v":"18:31.5"},{"$f":"secs2string('Avg Pivot'!R28)","v":"0"},{"$f":"secs2string('Avg Pivot'!S28)","v":"2:42.2"},{"$f":"secs2string('Avg Pivot'!T28)","v":"2:08.8"},{"$f":"secs2string('Avg Pivot'!U28)","v":"31:58"},{"$f":"secs2string('Avg Pivot'!V28)","v":"0"},{"$f":"secs2string('Avg Pivot'!W28)","v":"0"},{"$f":"secs2string('Avg Pivot'!X28)","v":"5:48.5"},{"$f":"secs2string('Avg Pivot'!Y28)","v":"16:16.1"}]
["m15",{"$f":"secs2string('Avg Pivot'!B29)","v":"0"},{"$f":"secs2string('Avg Pivot'!C29)","v":"15.5"},{"$f":"secs2string('Avg Pivot'!D29)","v":"0"},{"$f":"secs2string('Avg Pivot'!E29)","v":"0"},{"$f":"secs2string('Avg Pivot'!F29)","v":"0"},{"$f":"secs2string('Avg Pivot'!G29)","v":"1:06:28.5"},{"$f":"secs2string('Avg Pivot'!H29)","v":"0"},{"$f":"secs2string('Avg Pivot'!I29)","v":"36.1"},{"$f":"secs2string('Avg Pivot'!J29)","v":"10:23.4"},{"$f":"secs2string('Avg Pivot'!K29)","v":"10:21.5"},{"$f":"secs2string('Avg Pivot'!L29)","v":"0"},{"$f":"secs2string('Avg Pivot'!M29)","v":"3:12"},{"$f":"secs2string('Avg Pivot'!N29)","v":"0"},{"$f":"secs2string('Avg Pivot'!O29)","v":"14:51.6"},{"$f":"secs2string('Avg Pivot'!P29)","v":"8.2"},{"$f":"secs2string('Avg Pivot'!Q29)","v":"18:45.7"},{"$f":"secs2string('Avg Pivot'!R29)","v":"0"},{"$f":"secs2string('Avg Pivot'!S29)","v":"2:07.1"},{"$f":"secs2string('Avg Pivot'!T29)","v":"1:53.4"},{"$f":"secs2string('Avg Pivot'!U29)","v":"35:08.8"},{"$f":"secs2string('Avg Pivot'!V29)","v":"0"},{"$f":"secs2string('Avg Pivot'!W29)","v":"0"},{"$f":"secs2string('Avg Pivot'!X29)","v":"5:15.5"},{"$f":"secs2string('Avg Pivot'!Y29)","v":"13:27.1"}]
["m17",{"$f":"secs2string('Avg Pivot'!B30)","v":"0"},{"$f":"secs2string('Avg Pivot'!C30)","v":"0"},{"$f":"secs2string('Avg Pivot'!D30)","v":"0"},{"$f":"secs2string('Avg Pivot'!E30)","v":"0"},{"$f":"secs2string('Avg Pivot'!F30)","v":"5:05.5"},{"$f":"secs2string('Avg Pivot'!G30)","v":"1:09:06.8"},{"$f":"secs2string('Avg Pivot'!H30)","v":"4:50.3"},{"$f":"secs2string('Avg Pivot'!I30)","v":"32.9"},{"$f":"secs2string('Avg Pivot'!J30)","v":"0"},{"$f":"secs2string('Avg Pivot'!K30)","v":"12:06.5"},{"$f":"secs2string('Avg Pivot'!L30)","v":"1:05.8"},{"$f":"secs2string('Avg Pivot'!M30)","v":"3:08.4"},{"$f":"secs2string('Avg Pivot'!N30)","v":"7:25.4"},{"$f":"secs2string('Avg Pivot'!O30)","v":"0"},{"$f":"secs2string('Avg Pivot'!P30)","v":"7.4"},{"$f":"secs2string('Avg Pivot'!Q30)","v":"23:11"},{"$f":"secs2string('Avg Pivot'!R30)","v":"0"},{"$f":"secs2string('Avg Pivot'!S30)","v":"2:39.9"},{"$f":"secs2string('Avg Pivot'!T30)","v":"1:53.4"},{"$f":"secs2string('Avg Pivot'!U30)","v":"35:37.1"},{"$f":"secs2string('Avg Pivot'!V30)","v":"0"},{"$f":"secs2string('Avg Pivot'!W30)","v":"0"},{"$f":"secs2string('Avg Pivot'!X30)","v":"6:51.8"},{"$f":"secs2string('Avg Pivot'!Y30)","v":"6:57.2"}]
["m19",{"$f":"secs2string('Avg Pivot'!B31)","v":"3:26:23.4"},{"$f":"secs2string('Avg Pivot'!C31)","v":"13.9"},{"$f":"secs2string('Avg Pivot'!D31)","v":"42:32.8"},{"$f":"secs2string('Avg Pivot'!E31)","v":"1:06:29.9"},{"$f":"secs2string('Avg Pivot'!F31)","v":"4:45.3"},{"$f":"secs2string('Avg Pivot'!G31)","v":"1:04:16.7"},{"$f":"secs2string('Avg Pivot'!H31)","v":"4:40.7"},{"$f":"secs2string('Avg Pivot'!I31)","v":"30.3"},{"$f":"secs2string('Avg Pivot'!J31)","v":"10:49.7"},{"$f":"secs2string('Avg Pivot'!K31)","v":"10:54.9"},{"$f":"secs2string('Avg Pivot'!L31)","v":"1:04.4"},{"$f":"secs2string('Avg Pivot'!M31)","v":"3:14.3"},{"$f":"secs2string('Avg Pivot'!N31)","v":"7:19.3"},{"$f":"secs2string('Avg Pivot'!O31)","v":"11:41.8"},{"$f":"secs2string('Avg Pivot'!P31)","v":"8"},{"$f":"secs2string('Avg Pivot'!Q31)","v":"18:54.7"},{"$f":"secs2string('Avg Pivot'!R31)","v":"0"},{"$f":"secs2string('Avg Pivot'!S31)","v":"2:27"},{"$f":"secs2string('Avg Pivot'!T31)","v":"2:03.6"},{"$f":"secs2string('Avg Pivot'!U31)","v":"31:16.3"},{"$f":"secs2string('Avg Pivot'!V31)","v":"13:07.9"},{"$f":"secs2string('Avg Pivot'!W31)","v":"1:18:39.7"},{"$f":"secs2string('Avg Pivot'!X31)","v":"5:19.1"},{"$f":"secs2string('Avg Pivot'!Y31)","v":"9:14.2"}]
["m29",{"$f":"secs2string('Avg Pivot'!B32)","v":"2:43:26"},{"$f":"secs2string('Avg Pivot'!C32)","v":"14.7"},{"$f":"secs2string('Avg Pivot'!D32)","v":"41:46.5"},{"$f":"secs2string('Avg Pivot'!E32)","v":"1:19:22.5"},{"$f":"secs2string('Avg Pivot'!F32)","v":"4:59.3"},{"$f":"secs2string('Avg Pivot'!G32)","v":"1:05:21.7"},{"$f":"secs2string('Avg Pivot'!H32)","v":"4:43.6"},{"$f":"secs2string('Avg Pivot'!I32)","v":"29.9"},{"$f":"secs2string('Avg Pivot'!J32)","v":"11:00.9"},{"$f":"secs2string('Avg Pivot'!K32)","v":"11:51"},{"$f":"secs2string('Avg Pivot'!L32)","v":"1:04.6"},{"$f":"secs2string('Avg Pivot'!M32)","v":"3:18.4"},{"$f":"secs2string('Avg Pivot'!N32)","v":"7:12.1"},{"$f":"secs2string('Avg Pivot'!O32)","v":"13:11.2"},{"$f":"secs2string('Avg Pivot'!P32)","v":"9.8"},{"$f":"secs2string('Avg Pivot'!Q32)","v":"20:21.7"},{"$f":"secs2string('Avg Pivot'!R32)","v":"0"},{"$f":"secs2string('Avg Pivot'!S32)","v":"2:32.3"},{"$f":"secs2string('Avg Pivot'!T32)","v":"2:05.2"},{"$f":"secs2string('Avg Pivot'!U32)","v":"29:40"},{"$f":"secs2string('Avg Pivot'!V32)","v":"12:26.7"},{"$f":"secs2string('Avg Pivot'!W32)","v":"0"},{"$f":"secs2string('Avg Pivot'!X32)","v":"5:48.2"},{"$f":"secs2string('Avg Pivot'!Y32)","v":"10:18.8"}]
["m34",{"$f":"secs2string('Avg Pivot'!B33)","v":"3:24:06"},{"$f":"secs2string('Avg Pivot'!C33)","v":"14.5"},{"$f":"secs2string('Avg Pivot'!D33)","v":"44:22.8"},{"$f":"secs2string('Avg Pivot'!E33)","v":"1:11:07.5"},{"$f":"secs2string('Avg Pivot'!F33)","v":"5:35.3"},{"$f":"secs2string('Avg Pivot'!G33)","v":"1:04:45.1"},{"$f":"secs2string('Avg Pivot'!H33)","v":"4:47.9"},{"$f":"secs2string('Avg Pivot'!I33)","v":"31.1"},{"$f":"secs2string('Avg Pivot'!J33)","v":"11:03.6"},{"$f":"secs2string('Avg Pivot'!K33)","v":"11:34.9"},{"$f":"secs2string('Avg Pivot'!L33)","v":"1:07.1"},{"$f":"secs2string('Avg Pivot'!M33)","v":"3:24.1"},{"$f":"secs2string('Avg Pivot'!N33)","v":"7:60"},{"$f":"secs2string('Avg Pivot'!O33)","v":"11:50.4"},{"$f":"secs2string('Avg Pivot'!P33)","v":"8.2"},{"$f":"secs2string('Avg Pivot'!Q33)","v":"20:08.4"},{"$f":"secs2string('Avg Pivot'!R33)","v":"0"},{"$f":"secs2string('Avg Pivot'!S33)","v":"2:32.2"},{"$f":"secs2string('Avg Pivot'!T33)","v":"2:07.5"},{"$f":"secs2string('Avg Pivot'!U33)","v":"32:41.9"},{"$f":"secs2string('Avg Pivot'!V33)","v":"13:52.1"},{"$f":"secs2string('Avg Pivot'!W33)","v":"1:32:13.2"},{"$f":"secs2string('Avg Pivot'!X33)","v":"5:44.6"},{"$f":"secs2string('Avg Pivot'!Y33)","v":"11:02.3"}]
["m39",{"$f":"secs2string('Avg Pivot'!B34)","v":"3:19:52"},{"$f":"secs2string('Avg Pivot'!C34)","v":"15.2"},{"$f":"secs2string('Avg Pivot'!D34)","v":"42:22.6"},{"$f":"secs2string('Avg Pivot'!E34)","v":"1:11:04.8"},{"$f":"secs2string('Avg Pivot'!F34)","v":"5:23.4"},{"$f":"secs2string('Avg Pivot'!G34)","v":"1:02:41.1"},{"$f":"secs2string('Avg Pivot'!H34)","v":"4:48"},{"$f":"secs2string('Avg Pivot'!I34)","v":"31.2"},{"$f":"secs2string('Avg Pivot'!J34)","v":"11:05.2"},{"$f":"secs2string('Avg Pivot'!K34)","v":"11:30.8"},{"$f":"secs2string('Avg Pivot'!L34)","v":"1:08.2"},{"$f":"secs2string('Avg Pivot'!M34)","v":"3:17.7"},{"$f":"secs2string('Avg Pivot'!N34)","v":"8:01.7"},{"$f":"secs2string('Avg Pivot'!O34)","v":"12:40.6"},{"$f":"secs2string('Avg Pivot'!P34)","v":"8.3"},{"$f":"secs2string('Avg Pivot'!Q34)","v":"19:44.8"},{"$f":"secs2string('Avg Pivot'!R34)","v":"0"},{"$f":"secs2string('Avg Pivot'!S34)","v":"2:35.6"},{"$f":"secs2string('Avg Pivot'!T34)","v":"2:07.2"},{"$f":"secs2string('Avg Pivot'!U34)","v":"34:03.2"},{"$f":"secs2string('Avg Pivot'!V34)","v":"13:35.1"},{"$f":"secs2string('Avg Pivot'!W34)","v":"1:33:45"},{"$f":"secs2string('Avg Pivot'!X34)","v":"5:37.4"},{"$f":"secs2string('Avg Pivot'!Y34)","v":"10:41.2"}]
["m44",{"$f":"secs2string('Avg Pivot'!B35)","v":"4:33:55"},{"$f":"secs2string('Avg Pivot'!C35)","v":"15.8"},{"$f":"secs2string('Avg Pivot'!D35)","v":"42:44.7"},{"$f":"secs2string('Avg Pivot'!E35)","v":"1:17:04.1"},{"$f":"secs2string('Avg Pivot'!F35)","v":"5:38.9"},{"$f":"secs2string('Avg Pivot'!G35)","v":"1:05:47"},{"$f":"secs2string('Avg Pivot'!H35)","v":"4:52.6"},{"$f":"secs2string('Avg Pivot'!I35)","v":"32.5"},{"$f":"secs2string('Avg Pivot'!J35)","v":"11:23.6"},{"$f":"secs2string('Avg Pivot'!K35)","v":"11:60"},{"$f":"secs2string('Avg Pivot'!L35)","v":"1:10.6"},{"$f":"secs2string('Avg Pivot'!M35)","v":"3:15.3"},{"$f":"secs2string('Avg Pivot'!N35)","v":"7:28.1"},{"$f":"secs2string('Avg Pivot'!O35)","v":"11:50.5"},{"$f":"secs2string('Avg Pivot'!P35)","v":"8.6"},{"$f":"secs2string('Avg Pivot'!Q35)","v":"20:57.5"},{"$f":"secs2string('Avg Pivot'!R35)","v":"0"},{"$f":"secs2string('Avg Pivot'!S35)","v":"2:41.6"},{"$f":"secs2string('Avg Pivot'!T35)","v":"2:10.6"},{"$f":"secs2string('Avg Pivot'!U35)","v":"36:08.7"},{"$f":"secs2string('Avg Pivot'!V35)","v":"13:41.8"},{"$f":"secs2string('Avg Pivot'!W35)","v":"1:40:13"},{"$f":"secs2string('Avg Pivot'!X35)","v":"5:56.5"},{"$f":"secs2string('Avg Pivot'!Y35)","v":"11:16.7"}]
["m49",{"$f":"secs2string('Avg Pivot'!B36)","v":"3:37:55.1"},{"$f":"secs2string('Avg Pivot'!C36)","v":"16.1"},{"$f":"secs2string('Avg Pivot'!D36)","v":"45:21.5"},{"$f":"secs2string('Avg Pivot'!E36)","v":"1:17:45.7"},{"$f":"secs2string('Avg Pivot'!F36)","v":"5:47.4"},{"$f":"secs2string('Avg Pivot'!G36)","v":"1:09:42.4"},{"$f":"secs2string('Avg Pivot'!H36)","v":"4:58.5"},{"$f":"secs2string('Avg Pivot'!I36)","v":"33.7"},{"$f":"secs2string('Avg Pivot'!J36)","v":"11:31"},{"$f":"secs2string('Avg Pivot'!K36)","v":"12:29.5"},{"$f":"secs2string('Avg Pivot'!L36)","v":"1:14.1"},{"$f":"secs2string('Avg Pivot'!M36)","v":"3:20.6"},{"$f":"secs2string('Avg Pivot'!N36)","v":"7:14.5"},{"$f":"secs2string('Avg Pivot'!O36)","v":"12:10.6"},{"$f":"secs2string('Avg Pivot'!P36)","v":"9.5"},{"$f":"secs2string('Avg Pivot'!Q36)","v":"21:38.9"},{"$f":"secs2string('Avg Pivot'!R36)","v":"0"},{"$f":"secs2string('Avg Pivot'!S36)","v":"2:52.6"},{"$f":"secs2string('Avg Pivot'!T36)","v":"2:14.9"},{"$f":"secs2string('Avg Pivot'!U36)","v":"36:10.8"},{"$f":"secs2string('Avg Pivot'!V36)","v":"14:35.7"},{"$f":"secs2string('Avg Pivot'!W36)","v":"1:42:57.2"},{"$f":"secs2string('Avg Pivot'!X36)","v":"6:10.2"},{"$f":"secs2string('Avg Pivot'!Y36)","v":"12:43.1"}]
["m54",{"$f":"secs2string('Avg Pivot'!B37)","v":"9:30:08.2"},{"$f":"secs2string('Avg Pivot'!C37)","v":"16.9"},{"$f":"secs2string('Avg Pivot'!D37)","v":"48:23.6"},{"$f":"secs2string('Avg Pivot'!E37)","v":"1:24:59.8"},{"$f":"secs2string('Avg Pivot'!F37)","v":"6:17.7"},{"$f":"secs2string('Avg Pivot'!G37)","v":"1:14:36.4"},{"$f":"secs2string('Avg Pivot'!H37)","v":"5:05.9"},{"$f":"secs2string('Avg Pivot'!I37)","v":"34.6"},{"$f":"secs2string('Avg Pivot'!J37)","v":"11:37.7"},{"$f":"secs2string('Avg Pivot'!K37)","v":"13:22.9"},{"$f":"secs2string('Avg Pivot'!L37)","v":"1:17.7"},{"$f":"secs2string('Avg Pivot'!M37)","v":"3:27.6"},{"$f":"secs2string('Avg Pivot'!N37)","v":"7:52.8"},{"$f":"secs2string('Avg Pivot'!O37)","v":"12:48.6"},{"$f":"secs2string('Avg Pivot'!P37)","v":"9.6"},{"$f":"secs2string('Avg Pivot'!Q37)","v":"23:19.7"},{"$f":"secs2string('Avg Pivot'!R37)","v":"0"},{"$f":"secs2string('Avg Pivot'!S37)","v":"2:59.4"},{"$f":"secs2string('Avg Pivot'!T37)","v":"2:17.8"},{"$f":"secs2string('Avg Pivot'!U37)","v":"39:16.1"},{"$f":"secs2string('Avg Pivot'!V37)","v":"13:25.4"},{"$f":"secs2string('Avg Pivot'!W37)","v":"1:42:09.3"},{"$f":"secs2string('Avg Pivot'!X37)","v":"6:41.9"},{"$f":"secs2string('Avg Pivot'!Y37)","v":"12:17.7"}]
["m59",{"$f":"secs2string('Avg Pivot'!B38)","v":"3:59:48"},{"$f":"secs2string('Avg Pivot'!C38)","v":"17"},{"$f":"secs2string('Avg Pivot'!D38)","v":"49:23.9"},{"$f":"secs2string('Avg Pivot'!E38)","v":"1:22:29.5"},{"$f":"secs2string('Avg Pivot'!F38)","v":"6:38.3"},{"$f":"secs2string('Avg Pivot'!G38)","v":"1:15:48.2"},{"$f":"secs2string('Avg Pivot'!H38)","v":"5:06.9"},{"$f":"secs2string('Avg Pivot'!I38)","v":"35.3"},{"$f":"secs2string('Avg Pivot'!J38)","v":"12:08.9"},{"$f":"secs2string('Avg Pivot'!K38)","v":"14:15.6"},{"$f":"secs2string('Avg Pivot'!L38)","v":"1:23.1"},{"$f":"secs2string('Avg Pivot'!M38)","v":"3:24.6"},{"$f":"secs2string('Avg Pivot'!N38)","v":"8:17.5"},{"$f":"secs2string('Avg Pivot'!O38)","v":"13:21"},{"$f":"secs2string('Avg Pivot'!P38)","v":"9.5"},{"$f":"secs2string('Avg Pivot'!Q38)","v":"24:10.5"},{"$f":"secs2string('Avg Pivot'!R38)","v":"0"},{"$f":"secs2string('Avg Pivot'!S38)","v":"3:11.1"},{"$f":"secs2string('Avg Pivot'!T38)","v":"2:17.8"},{"$f":"secs2string('Avg Pivot'!U38)","v":"42:23"},{"$f":"secs2string('Avg Pivot'!V38)","v":"13:46.7"},{"$f":"secs2string('Avg Pivot'!W38)","v":"1:55:25.7"},{"$f":"secs2string('Avg Pivot'!X38)","v":"7:08.7"},{"$f":"secs2string('Avg Pivot'!Y38)","v":"11:19.2"}]
["m64",{"$f":"secs2string('Avg Pivot'!B39)","v":"0"},{"$f":"secs2string('Avg Pivot'!C39)","v":"18.2"},{"$f":"secs2string('Avg Pivot'!D39)","v":"52:23"},{"$f":"secs2string('Avg Pivot'!E39)","v":"1:33:06"},{"$f":"secs2string('Avg Pivot'!F39)","v":"7:20"},{"$f":"secs2string('Avg Pivot'!G39)","v":"1:22:25"},{"$f":"secs2string('Avg Pivot'!H39)","v":"5:16.6"},{"$f":"secs2string('Avg Pivot'!I39)","v":"40.6"},{"$f":"secs2string('Avg Pivot'!J39)","v":"12:09.4"},{"$f":"secs2string('Avg Pivot'!K39)","v":"14:59.1"},{"$f":"secs2string('Avg Pivot'!L39)","v":"1:27.3"},{"$f":"secs2string('Avg Pivot'!M39)","v":"3:38.7"},{"$f":"secs2string('Avg Pivot'!N39)","v":"8:43.8"},{"$f":"secs2string('Avg Pivot'!O39)","v":"13:24.6"},{"$f":"secs2string('Avg Pivot'!P39)","v":"10"},{"$f":"secs2string('Avg Pivot'!Q39)","v":"25:59.3"},{"$f":"secs2string('Avg Pivot'!R39)","v":"0"},{"$f":"secs2string('Avg Pivot'!S39)","v":"3:29.7"},{"$f":"secs2string('Avg Pivot'!T39)","v":"2:19.8"},{"$f":"secs2string('Avg Pivot'!U39)","v":"45:24.6"},{"$f":"secs2string('Avg Pivot'!V39)","v":"13:39.5"},{"$f":"secs2string('Avg Pivot'!W39)","v":"1:44:55"},{"$f":"secs2string('Avg Pivot'!X39)","v":"7:27.7"},{"$f":"secs2string('Avg Pivot'!Y39)","v":"11:08.5"}]
["m69",{"$f":"secs2string('Avg Pivot'!B40)","v":"0"},{"$f":"secs2string('Avg Pivot'!C40)","v":"19.7"},{"$f":"secs2string('Avg Pivot'!D40)","v":"58:06.6"},{"$f":"secs2string('Avg Pivot'!E40)","v":"1:59:03"},{"$f":"secs2string('Avg Pivot'!F40)","v":"7:36.9"},{"$f":"secs2string('Avg Pivot'!G40)","v":"1:33:19.2"},{"$f":"secs2string('Avg Pivot'!H40)","v":"5:29.4"},{"$f":"secs2string('Avg Pivot'!I40)","v":"42.7"},{"$f":"secs2string('Avg Pivot'!J40)","v":"12:47.6"},{"$f":"secs2string('Avg Pivot'!K40)","v":"15:58.2"},{"$f":"secs2string('Avg Pivot'!L40)","v":"1:34.2"},{"$f":"secs2string('Avg Pivot'!M40)","v":"4:00.4"},{"$f":"secs2string('Avg Pivot'!N40)","v":"9:03.1"},{"$f":"secs2string('Avg Pivot'!O40)","v":"14:36.9"},{"$f":"secs2string('Avg Pivot'!P40)","v":"11.4"},{"$f":"secs2string('Avg Pivot'!Q40)","v":"29:03.5"},{"$f":"secs2string('Avg Pivot'!R40)","v":"0"},{"$f":"secs2string('Avg Pivot'!S40)","v":"3:54.9"},{"$f":"secs2string('Avg Pivot'!T40)","v":"2:23.8"},{"$f":"secs2string('Avg Pivot'!U40)","v":"46:51.8"},{"$f":"secs2string('Avg Pivot'!V40)","v":"16:30"},{"$f":"secs2string('Avg Pivot'!W40)","v":"0"},{"$f":"secs2string('Avg Pivot'!X40)","v":"8:19.3"},{"$f":"secs2string('Avg Pivot'!Y40)","v":"9:54.1"}]
["m74",{"$f":"secs2string('Avg Pivot'!B41)","v":"0"},{"$f":"secs2string('Avg Pivot'!C41)","v":"22.6"},{"$f":"secs2string('Avg Pivot'!D41)","v":"1:03:40.4"},{"$f":"secs2string('Avg Pivot'!E41)","v":"1:55:26"},{"$f":"secs2string('Avg Pivot'!F41)","v":"8:29.4"},{"$f":"secs2string('Avg Pivot'!G41)","v":"1:32:42.9"},{"$f":"secs2string('Avg Pivot'!H41)","v":"5:49.9"},{"$f":"secs2string('Avg Pivot'!I41)","v":"48.3"},{"$f":"secs2string('Avg Pivot'!J41)","v":"14:08.7"},{"$f":"secs2string('Avg Pivot'!K41)","v":"18:33.1"},{"$f":"secs2string('Avg Pivot'!L41)","v":"1:46"},{"$f":"secs2string('Avg Pivot'!M41)","v":"3:58.8"},{"$f":"secs2string('Avg Pivot'!N41)","v":"8:52.1"},{"$f":"secs2string('Avg Pivot'!O41)","v":"13:49.7"},{"$f":"secs2string('Avg Pivot'!P41)","v":"12.2"},{"$f":"secs2string('Avg Pivot'!Q41)","v":"31:06.3"},{"$f":"secs2string('Avg Pivot'!R41)","v":"0"},{"$f":"secs2string('Avg Pivot'!S41)","v":"4:21.4"},{"$f":"secs2string('Avg Pivot'!T41)","v":"2:39.1"},{"$f":"secs2string('Avg Pivot'!U41)","v":"56:10.9"},{"$f":"secs2string('Avg Pivot'!V41)","v":"16:30"},{"$f":"secs2string('Avg Pivot'!W41)","v":"0"},{"$f":"secs2string('Avg Pivot'!X41)","v":"9:14.2"},{"$f":"secs2string('Avg Pivot'!Y41)","v":"11:25.4"}]
["m79",{"$f":"secs2string('Avg Pivot'!B42)","v":"0"},{"$f":"secs2string('Avg Pivot'!C42)","v":"26.3"},{"$f":"secs2string('Avg Pivot'!D42)","v":"1:15:56.2"},{"$f":"secs2string('Avg Pivot'!E42)","v":"2:18:58"},{"$f":"secs2string('Avg Pivot'!F42)","v":"10:25.9"},{"$f":"secs2string('Avg Pivot'!G42)","v":"0"},{"$f":"secs2string('Avg Pivot'!H42)","v":"6:12.1"},{"$f":"secs2string('Avg Pivot'!I42)","v":"52.2"},{"$f":"secs2string('Avg Pivot'!J42)","v":"14:18.6"},{"$f":"secs2string('Avg Pivot'!K42)","v":"21:08.3"},{"$f":"secs2string('Avg Pivot'!L42)","v":"2:10.1"},{"$f":"secs2string('Avg Pivot'!M42)","v":"4:12.1"},{"$f":"secs2string('Avg Pivot'!N42)","v":"10:12.7"},{"$f":"secs2string('Avg Pivot'!O42)","v":"15:51.5"},{"$f":"secs2string('Avg Pivot'!P42)","v":"14.4"},{"$f":"secs2string('Avg Pivot'!Q42)","v":"34:54"},{"$f":"secs2string('Avg Pivot'!R42)","v":"0"},{"$f":"secs2string('Avg Pivot'!S42)","v":"5:10.7"},{"$f":"secs2string('Avg Pivot'!T42)","v":"2:26.5"},{"$f":"secs2string('Avg Pivot'!U42)","v":"57:26.9"},{"$f":"secs2string('Avg Pivot'!V42)","v":"0"},{"$f":"secs2string('Avg Pivot'!W42)","v":"0"},{"$f":"secs2string('Avg Pivot'!X42)","v":"10:20"},{"$f":"secs2string('Avg Pivot'!Y42)","v":"11:04.4"}]
["m84",{"$f":"secs2string('Avg Pivot'!B43)","v":"0"},{"$f":"secs2string('Avg Pivot'!C43)","v":"26.1"},{"$f":"secs2string('Avg Pivot'!D43)","v":"0"},{"$f":"secs2string('Avg Pivot'!E43)","v":"0"},{"$f":"secs2string('Avg Pivot'!F43)","v":"11:37.3"},{"$f":"secs2string('Avg Pivot'!G43)","v":"0"},{"$f":"secs2string('Avg Pivot'!H43)","v":"5:51.1"},{"$f":"secs2string('Avg Pivot'!I43)","v":"55.7"},{"$f":"secs2string('Avg Pivot'!J43)","v":"15:21"},{"$f":"secs2string('Avg Pivot'!K43)","v":"27:23.9"},{"$f":"secs2string('Avg Pivot'!L43)","v":"2:28.6"},{"$f":"secs2string('Avg Pivot'!M43)","v":"0"},{"$f":"secs2string('Avg Pivot'!N43)","v":"0"},{"$f":"secs2string('Avg Pivot'!O43)","v":"0"},{"$f":"secs2string('Avg Pivot'!P43)","v":"0"},{"$f":"secs2string('Avg Pivot'!Q43)","v":"46:41.6"},{"$f":"secs2string('Avg Pivot'!R43)","v":"0"},{"$f":"secs2string('Avg Pivot'!S43)","v":"6:13.3"},{"$f":"secs2string('Avg Pivot'!T43)","v":"2:33.8"},{"$f":"secs2string('Avg Pivot'!U43)","v":"0"},{"$f":"secs2string('Avg Pivot'!V43)","v":"0"},{"$f":"secs2string('Avg Pivot'!W43)","v":"0"},{"$f":"secs2string('Avg Pivot'!X43)","v":"13:48.8"},{"$f":"secs2string('Avg Pivot'!Y43)","v":"7:22"}]
["m89",{"$f":"secs2string('Avg Pivot'!B44)","v":"0"},{"$f":"secs2string('Avg Pivot'!C44)","v":"29"},{"$f":"secs2string('Avg Pivot'!D44)","v":"0"},{"$f":"secs2string('Avg Pivot'!E44)","v":"0"},{"$f":"secs2string('Avg Pivot'!F44)","v":"14:49.6"},{"$f":"secs2string('Avg Pivot'!G44)","v":"0"},{"$f":"secs2string('Avg Pivot'!H44)","v":"7:54.5"},{"$f":"secs2string('Avg Pivot'!I44)","v":"1:46.5"},{"$f":"secs2string('Avg Pivot'!J44)","v":"0"},{"$f":"secs2string('Avg Pivot'!K44)","v":"0"},{"$f":"secs2string('Avg Pivot'!L44)","v":"3:48.2"},{"$f":"secs2string('Avg Pivot'!M44)","v":"4:18.3"},{"$f":"secs2string('Avg Pivot'!N44)","v":"9:55.9"},{"$f":"secs2string('Avg Pivot'!O44)","v":"18:17.8"},{"$f":"secs2string('Avg Pivot'!P44)","v":"25.9"},{"$f":"secs2string('Avg Pivot'!Q44)","v":"0"},{"$f":"secs2string('Avg Pivot'!R44)","v":"0"},{"$f":"secs2string('Avg Pivot'!S44)","v":"6:54.7"},{"$f":"secs2string('Avg Pivot'!T44)","v":"2:58.3"},{"$f":"secs2string('Avg Pivot'!U44)","v":"0"},{"$f":"secs2string('Avg Pivot'!V44)","v":"0"},{"$f":"secs2string('Avg Pivot'!W44)","v":"0"},{"$f":"secs2string('Avg Pivot'!X44)","v":"0"},{"$f":"secs2string('Avg Pivot'!Y44)","v":"6:03.5"}]
["m94",{"$f":"secs2string('Avg Pivot'!B45)","v":"4:05:36.5"},{"$f":"secs2string('Avg Pivot'!C45)","v":"17.5"},{"$f":"secs2string('Avg Pivot'!D45)","v":"49:49"},{"$f":"secs2string('Avg Pivot'!E45)","v":"1:20:06.3"},{"$f":"secs2string('Avg Pivot'!F45)","v":"6:30.7"},{"$f":"secs2string('Avg Pivot'!G45)","v":"1:11:20.5"},{"$f":"secs2string('Avg Pivot'!H45)","v":"5:03.3"},{"$f":"secs2string('Avg Pivot'!I45)","v":"38"},{"$f":"secs2string('Avg Pivot'!J45)","v":"11:43.5"},{"$f":"secs2string('Avg Pivot'!K45)","v":"13:31.2"},{"$f":"secs2string('Avg Pivot'!L45)","v":"1:21.5"},{"$f":"secs2string('Avg Pivot'!M45)","v":"3:35.2"},{"$f":"secs2string('Avg Pivot'!N45)","v":"8:14.1"},{"$f":"secs2string('Avg Pivot'!O45)","v":"13:13.9"},{"$f":"secs2string('Avg Pivot'!P45)","v":"10.4"},{"$f":"secs2string('Avg Pivot'!Q45)","v":"23:19.5"},{"$f":"secs2string('Avg Pivot'!R45)","v":"37:09"},{"$f":"secs2string('Avg Pivot'!S45)","v":"3:06.2"},{"$f":"secs2string('Avg Pivot'!T45)","v":"2:15"},{"$f":"secs2string('Avg Pivot'!U45)","v":"40:26.2"},{"$f":"secs2string('Avg Pivot'!V45)","v":"13:59.3"},{"$f":"secs2string('Avg Pivot'!W45)","v":"1:47:43.1"},{"$f":"secs2string('Avg Pivot'!X45)","v":"6:38.8"},{"$f":"secs2string('Avg Pivot'!Y45)","v":"11:54.4"}]